Workbook
Name Catégorie: Engagement!$P$3:$P$9

Sheet Engagement
A2: Equip'Athlé du 10 octobre 2020 | H2: Tours
A3: MINIMES M
B5: Lieu : | C5: Tours | D5: Club : | F5: Equipe n° | H5: =VLOOKUP(E5,Club!C1:G95,5,FALSE) -> #N/A
H7: 1 | I7: 2 | J7: 3 | K7: 4 | L7: 5 | M7: 6
B8: N° licence athlète 1 | C8: N° licence athlète 2 | D8: N° licence athlète 3 | E8: N° licence athlète 4 | F8: N° licence athlète 5 | G8: N° licence athlète 6 | H8: =VLOOKUP(B9,licenciés!$A:$G,6,FALSE) -> #N/A | I8: =VLOOKUP(C9,licenciés!$A:$G,6,FALSE) -> #N/A | J8: =VLOOKUP(D9,licenciés!$A:$G,6,FALSE) -> #N/A | K8: =VLOOKUP(E9,licenciés!$A:$G,6,FALSE) -> #N/A | L8: =VLOOKUP(F9,licenciés!$A:$G,6,FALSE) -> #N/A | M8: =VLOOKUP(G9,licenciés!$A:$G,6,FALSE) -> #N/A
A9: N° licence | H9: =VLOOKUP(Engagement!B$9,licenciés!$A:$M,13,FALSE) -> #N/A | I9: =VLOOKUP(Engagement!C$9,licenciés!$A:$M,13,FALSE) -> #N/A | J9: =VLOOKUP(Engagement!D$9,licenciés!$A:$M,13,FALSE) -> #N/A | K9: =VLOOKUP(Engagement!E$9,licenciés!$A:$M,13,FALSE) -> #N/A | L9: =VLOOKUP(Engagement!F$9,licenciés!$A:$M,13,FALSE) -> #N/A | M9: =VLOOKUP(Engagement!G$9,licenciés!$A:$M,13,FALSE) -> #N/A | P9: 1 | Q9: 2 | R9: 3 | S9: 4 | T9: 5 | U9: 6
A10: NOM | B10: =VLOOKUP(B9,licenciés!$A:$M,2,FALSE) -> #N/A | C10: =VLOOKUP(C9,licenciés!$A:$M,2,FALSE) -> #N/A | D10: =VLOOKUP(D9,licenciés!$A:$M,2,FALSE) -> #N/A | E10: =VLOOKUP(E9,licenciés!$A:$M,2,FALSE) -> #N/A | F10: =VLOOKUP(F9,licenciés!$A:$M,2,FALSE) -> #N/A | G10: =VLOOKUP(G9,licenciés!$A:$M,2,FALSE) -> #N/A | H10: =VLOOKUP(B9,licenciés!$A:$G,7,FALSE) -> #N/A | I10: =VLOOKUP(C9,licenciés!$A:$G,7,FALSE) -> #N/A | J10: =VLOOKUP(D9,licenciés!$A:$G,7,FALSE) -> #N/A | K10: =VLOOKUP(E9,licenciés!$A:$G,7,FALSE) -> #N/A | L10: =VLOOKUP(F9,licenciés!$A:$G,7,FALSE) -> #N/A | M10: =VLOOKUP(G9,licenciés!$A:$G,7,FALSE) -> #N/A | O10: 80 m | P10: =IF($O$10=B14,1,0) -> 0 | Q10: =IF($O$10=C14,1,0) -> 0 | R10: =IF($O$10=D14,1,0) -> 0 | S10: =IF($O$10=E14,1,0) -> 0 | T10: =IF($O$10=F14,1,0) -> 0 | U10: =IF($O$10=G14,1,0) -> 0 | V10: =SUM(P10:U10) -> 0 | W10: =IF(V10>3,1,0) -> 0
A11: PRENOM | B11: =VLOOKUP(B9,licenciés!$A:$M,3,FALSE) -> #N/A | C11: =VLOOKUP(C9,licenciés!$A:$M,3,FALSE) -> #N/A | D11: =VLOOKUP(D9,licenciés!$A:$M,3,FALSE) -> #N/A | E11: =VLOOKUP(E9,licenciés!$A:$M,3,FALSE) -> #N/A | F11: =VLOOKUP(F9,licenciés!$A:$M,3,FALSE) -> #N/A | G11: =VLOOKUP(G9,licenciés!$A:$M,3,FALSE) -> #N/A | H11: =VLOOKUP(B9,licenciés!$A:$G,5,FALSE) -> #N/A | I11: =VLOOKUP(C9,licenciés!$A:$G,5,FALSE) -> #N/A | J11: =VLOOKUP(D9,licenciés!$A:$G,5,FALSE) -> #N/A | K11: =VLOOKUP(E9,licenciés!$A:$G,5,FALSE) -> #N/A | L11: =VLOOKUP(F9,licenciés!$A:$G,5,FALSE) -> #N/A | M11: =VLOOKUP(G9,licenciés!$A:$G,5,FALSE) -> #N/A | O11: 120 m | P11: =IF($O$11=B14,1,0) -> 0 | Q11: =IF($O$11=C14,1,0) -> 0 | R11: =IF($O$11=D14,1,0) -> 0 | S11: =IF($O$11=E14,1,0) -> 0 | T11: =IF($O$11=F14,1,0) -> 0 | U11: =IF($O$11=G14,1,0) -> 0 | V11: =SUM(P11:U11) -> 0 | W11: =IF(V11>3,1,0) -> 0
A12: N° licence (nouveaux athlètes) | O12: 80 m Haies -0,84 | P12: =IF($O$12=B15,1,0) -> 0 | Q12: =IF($O$12=C15,1,0) -> 0 | R12: =IF($O$12=D15,1,0) -> 0 | S12: =IF($O$12=E15,1,0) -> 0 | T12: =IF($O$12=F15,1,0) -> 0 | U12: =IF($O$12=G15,1,0) -> 0 | V12: =SUM(P12:U12) -> 0 | W12: =IF(V12>3,1,0) -> 0
A13: NOM - Prénom | O13: 100 m Haies-0,84 | P13: =IF($O$13=B15,1,0) -> 0 | Q13: =IF($O$13=C15,1,0) -> 0 | R13: =IF($O$13=D15,1,0) -> 0 | S13: =IF($O$13=E15,1,0) -> 0 | T13: =IF($O$13=F15,1,0) -> 0 | U13: =IF($O$13=G15,1,0) -> 0 | V13: =SUM(P13:U13) -> 0 | W13: =IF(V13>3,1,0) -> 0
A14: Vitesse | H14: =VLOOKUP(B14,Code!$A$1:$C$61,2,FALSE) -> #N/A | I14: =VLOOKUP(C14,Code!$A$1:$C$61,2,FALSE) -> #N/A | J14: =VLOOKUP(D14,Code!$A$1:$C$61,2,FALSE) -> #N/A | K14: =VLOOKUP(E14,Code!$A$1:$C$61,2,FALSE) -> #N/A | L14: =VLOOKUP(F14,Code!$A$1:$C$61,2,FALSE) -> #N/A | M14: =VLOOKUP(G14,Code!$A$1:$C$61,2,FALSE) -> #N/A | O14: 200 m Haies-0,76 | P14: =IF($O$14=B15,1,0) -> 0 | Q14: =IF($O$14=C15,1,0) -> 0 | R14: =IF($O$14=D15,1,0) -> 0 | S14: =IF($O$14=E15,1,0) -> 0 | T14: =IF($O$14=F15,1,0) -> 0 | U14: =IF($O$14=G15,1,0) -> 0 | V14: =SUM(P14:U14) -> 0 | W14: =IF(V14>3,1,0) -> 0
A15: Haies | H15: =VLOOKUP(B15,Code!$A$1:$C$61,2,FALSE) -> #N/A | I15: =VLOOKUP(C15,Code!$A$1:$C$61,2,FALSE) -> #N/A | J15: =VLOOKUP(D15,Code!$A$1:$C$61,2,FALSE) -> #N/A | K15: =VLOOKUP(E15,Code!$A$1:$C$61,2,FALSE) -> #N/A | L15: =VLOOKUP(F15,Code!$A$1:$C$61,2,FALSE) -> #N/A | M15: =VLOOKUP(G15,Code!$A$1:$C$61,2,FALSE) -> #N/A | O15: 1 000 m | P15: =IF($O$15=B16,1,0) -> 0 | Q15: =IF($O$15=C16,1,0) -> 0 | R15: =IF($O$15=D16,1,0) -> 0 | S15: =IF($O$15=E16,1,0) -> 0 | T15: =IF($O$15=F16,1,0) -> 0 | U15: =IF($O$15=G16,1,0) -> 0 | V15: =SUM(P15:U15) -> 0 | W15: =IF(V15>3,1,0) -> 0
A16: 1/2 fond - Marche | H16: =VLOOKUP(B16,Code!$A$1:$C$61,2,FALSE) -> #N/A | I16: =VLOOKUP(C16,Code!$A$1:$C$61,2,FALSE) -> #N/A | J16: =VLOOKUP(D16,Code!$A$1:$C$61,2,FALSE) -> #N/A | K16: =VLOOKUP(E16,Code!$A$1:$C$61,2,FALSE) -> #N/A | L16: =VLOOKUP(F16,Code!$A$1:$C$61,2,FALSE) -> #N/A | M16: =VLOOKUP(G16,Code!$A$1:$C$61,2,FALSE) -> #N/A | O16: 2 000 m | P16: =IF($O$16=B16,1,0) -> 0 | Q16: =IF($O$16=C16,1,0) -> 0 | R16: =IF($O$16=D16,1,0) -> 0 | S16: =IF($O$16=E16,1,0) -> 0 | T16: =IF($O$16=F16,1,0) -> 0 | U16: =IF($O$16=G16,1,0) -> 0 | V16: =SUM(P16:U16) -> 0 | W16: =IF(V16>3,1,0) -> 0
A17: Sauts de distances | H17: =VLOOKUP(B17,Code!$A$1:$C$61,2,FALSE) -> #N/A | I17: =VLOOKUP(C17,Code!$A$1:$C$61,2,FALSE) -> #N/A | J17: =VLOOKUP(D17,Code!$A$1:$C$61,2,FALSE) -> #N/A | K17: =VLOOKUP(E17,Code!$A$1:$C$61,2,FALSE) -> #N/A | L17: =VLOOKUP(F17,Code!$A$1:$C$61,2,FALSE) -> #N/A | M17: =VLOOKUP(G17,Code!$A$1:$C$61,2,FALSE) -> #N/A | O17: 3 000 m Marche | P17: =IF($O$17=B16,1,0) -> 0 | Q17: =IF($O$17=C16,1,0) -> 0 | R17: =IF($O$17=D16,1,0) -> 0 | S17: =IF($O$17=E16,1,0) -> 0 | T17: =IF($O$17=F16,1,0) -> 0 | U17: =IF($O$17=G16,1,0) -> 0 | V17: =SUM(P17:U17) -> 0 | W17: =IF(V17>3,1,0) -> 0
H18: =VLOOKUP(B18,Code!$A$1:$C$61,2,FALSE) -> #N/A | I18: =VLOOKUP(C18,Code!$A$1:$C$61,2,FALSE) -> #N/A | J18: =VLOOKUP(D18,Code!$A$1:$C$61,2,FALSE) -> #N/A | K18: =VLOOKUP(E18,Code!$A$1:$C$61,2,FALSE) -> #N/A | L18: =VLOOKUP(F18,Code!$A$1:$C$61,2,FALSE) -> #N/A | M18: =VLOOKUP(G18,Code!$A$1:$C$61,2,FALSE) -> #N/A | O18: Longueur | P18: =IF($O$18=B17,1,0) -> 0 | Q18: =IF($O$18=C17,1,0) -> 0 | R18: =IF($O$18=D17,1,0) -> 0 | S18: =IF($O$18=E17,1,0) -> 0 | T18: =IF($O$18=F17,1,0) -> 0 | U18: =IF($O$18=G17,1,0) -> 0 | V18: =SUM(P18:U19) -> 0 | W18: =IF(V18>3,1,0) -> 0
A19: Sauts avec barre | H19: =VLOOKUP(B19,Code!$A$1:$C$61,2,FALSE) -> #N/A | I19: =VLOOKUP(C19,Code!$A$1:$C$61,2,FALSE) -> #N/A | J19: =VLOOKUP(D19,Code!$A$1:$C$61,2,FALSE) -> #N/A | K19: =VLOOKUP(E19,Code!$A$1:$C$61,2,FALSE) -> #N/A | L19: =VLOOKUP(F19,Code!$A$1:$C$61,2,FALSE) -> #N/A | M19: =VLOOKUP(G19,Code!$A$1:$C$61,2,FALSE) -> #N/A | O19: Longueur | P19: =IF($O$19=B18,1,0) -> 0 | Q19: =IF($O$19=C18,1,0) -> 0 | R19: =IF($O$19=D18,1,0) -> 0 | S19: =IF($O$19=E18,1,0) -> 0 | T19: =IF($O$19=F18,1,0) -> 0 | U19: =IF($O$19=G18,1,0) -> 0 | W19: =IF(V19>3,1,0) -> 0
H20: =VLOOKUP(B20,Code!$A$1:$C$61,2,FALSE) -> #N/A | I20: =VLOOKUP(C20,Code!$A$1:$C$61,2,FALSE) -> #N/A | J20: =VLOOKUP(D20,Code!$A$1:$C$61,2,FALSE) -> #N/A | K20: =VLOOKUP(E20,Code!$A$1:$C$61,2,FALSE) -> #N/A | L20: =VLOOKUP(F20,Code!$A$1:$C$61,2,FALSE) -> #N/A | M20: =VLOOKUP(G20,Code!$A$1:$C$61,2,FALSE) -> #N/A | O20: Triple-Saut | P20: =IF($O$20=B17,1,0) -> 0 | Q20: =IF($O$20=C17,1,0) -> 0 | R20: =IF($O$20=D17,1,0) -> 0 | S20: =IF($O$20=E17,1,0) -> 0 | T20: =IF($O$20=F17,1,0) -> 0 | U20: =IF($O$20=G17,1,0) -> 0 | V20: =SUM(P20:U21) -> 0 | W20: =IF(V20>3,1,0) -> 0
A21: Lancers en translation | H21: =VLOOKUP(B21,Code!$A$1:$C$61,2,FALSE) -> #N/A | I21: =VLOOKUP(C21,Code!$A$1:$C$61,2,FALSE) -> #N/A | J21: =VLOOKUP(D21,Code!$A$1:$C$61,2,FALSE) -> #N/A | K21: =VLOOKUP(E21,Code!$A$1:$C$61,2,FALSE) -> #N/A | L21: =VLOOKUP(F21,Code!$A$1:$C$61,2,FALSE) -> #N/A | M21: =VLOOKUP(G21,Code!$A$1:$C$61,2,FALSE) -> #N/A | O21: Triple-Saut | P21: =IF($O$21=B18,1,0) -> 0 | Q21: =IF($O$21=C18,1,0) -> 0 | R21: =IF($O$21=D18,1,0) -> 0 | S21: =IF($O$21=E18,1,0) -> 0 | T21: =IF($O$21=F18,1,0) -> 0 | U21: =IF($O$21=G18,1,0) -> 0 | W21: =IF(V21>3,1,0) -> 0
H22: =VLOOKUP(B22,Code!$A$1:$C$61,2,FALSE) -> #N/A | I22: =VLOOKUP(C22,Code!$A$1:$C$61,2,FALSE) -> #N/A | J22: =VLOOKUP(D22,Code!$A$1:$C$61,2,FALSE) -> #N/A | K22: =VLOOKUP(E22,Code!$A$1:$C$61,2,FALSE) -> #N/A | L22: =VLOOKUP(F22,Code!$A$1:$C$61,2,FALSE) -> #N/A | M22: =VLOOKUP(G22,Code!$A$1:$C$61,2,FALSE) -> #N/A | O22: Hauteur | P22: =IF($O$22=B19,1,0) -> 0 | Q22: =IF($O$22=C19,1,0) -> 0 | R22: =IF($O$22=D19,1,0) -> 0 | S22: =IF($O$22=E19,1,0) -> 0 | T22: =IF($O$22=F19,1,0) -> 0 | U22: =IF($O$22=G19,1,0) -> 0 | V22: =SUM(P22:U23) -> 0 | W22: =IF(V22>3,1,0) -> 0
A23: Lancers en rotation | H23: =VLOOKUP(B23,Code!$A$1:$C$61,2,FALSE) -> #N/A | I23: =VLOOKUP(C23,Code!$A$1:$C$61,2,FALSE) -> #N/A | J23: =VLOOKUP(D23,Code!$A$1:$C$61,2,FALSE) -> #N/A | K23: =VLOOKUP(E23,Code!$A$1:$C$61,2,FALSE) -> #N/A | L23: =VLOOKUP(F23,Code!$A$1:$C$61,2,FALSE) -> #N/A | M23: =VLOOKUP(G23,Code!$A$1:$C$61,2,FALSE) -> #N/A | O23: Hauteur | P23: =IF($O$23=B20,1,0) -> 0 | Q23: =IF($O$23=C20,1,0) -> 0 | R23: =IF($O$23=D20,1,0) -> 0 | S23: =IF($O$23=E20,1,0) -> 0 | T23: =IF($O$23=F20,1,0) -> 0 | U23: =IF($O$23=G20,1,0) -> 0 | W23: =IF(V23>3,1,0) -> 0
H24: =VLOOKUP(B24,Code!$A$1:$C$61,2,FALSE) -> #N/A | I24: =VLOOKUP(C24,Code!$A$1:$C$61,2,FALSE) -> #N/A | J24: =VLOOKUP(D24,Code!$A$1:$C$61,2,FALSE) -> #N/A | K24: =VLOOKUP(E24,Code!$A$1:$C$61,2,FALSE) -> #N/A | L24: =VLOOKUP(F24,Code!$A$1:$C$61,2,FALSE) -> #N/A | M24: =VLOOKUP(G24,Code!$A$1:$C$61,2,FALSE) -> #N/A | O24: Perche | P24: =IF($O24=B19,1,0) -> 0 | Q24: =IF($O24=C19,1,0) -> 0 | R24: =IF($O24=D19,1,0) -> 0 | S24: =IF($O24=E19,1,0) -> 0 | T24: =IF($O24=F19,1,0) -> 0 | U24: =IF($O24=G19,1,0) -> 0 | V24: =SUM(P24:U25) -> 0 | W24: =IF(V24>3,1,0) -> 0
A25: Relais | H25: =VLOOKUP(B25,Code!$A$1:$C$61,2,FALSE) -> #N/A | I25: =VLOOKUP(C25,Code!$A$1:$C$61,2,FALSE) -> #N/A | J25: =VLOOKUP(D25,Code!$A$1:$C$61,2,FALSE) -> #N/A | K25: =VLOOKUP(E25,Code!$A$1:$C$61,2,FALSE) -> #N/A | L25: =VLOOKUP(F25,Code!$A$1:$C$61,2,FALSE) -> #N/A | M25: =VLOOKUP(G25,Code!$A$1:$C$61,2,FALSE) -> #N/A | O25: Perche | P25: =IF($O$25=B20,1,0) -> 0 | Q25: =IF($O$25=C20,1,0) -> 0 | R25: =IF($O$25=D20,1,0) -> 0 | S25: =IF($O$25=E20,1,0) -> 0 | T25: =IF($O$25=F20,1,0) -> 0 | U25: =IF($O$25=G20,1,0) -> 0 | W25: =IF(V25>3,1,0) -> 0
H26: =VLOOKUP(B9,licenciés!$A:$S,19,FALSE) -> #N/A | I26: =VLOOKUP(C9,licenciés!$A:$S,19,FALSE) -> #N/A | J26: =VLOOKUP(D9,licenciés!$A:$S,19,FALSE) -> #N/A | K26: =VLOOKUP(E9,licenciés!$A:$S,19,FALSE) -> #N/A | L26: =VLOOKUP(F9,licenciés!$A:$S,19,FALSE) -> #N/A | M26: =VLOOKUP(G9,licenciés!$A:$S,19,FALSE) -> #N/A | O26: Poids 4 kg | P26: =IF($O$26=B21,1,0) -> 0 | Q26: =IF($O$26=C21,1,0) -> 0 | R26: =IF($O$26=D21,1,0) -> 0 | S26: =IF($O$26=E21,1,0) -> 0 | T26: =IF($O$26=F21,1,0) -> 0 | U26: =IF($O$26=G21,1,0) -> 0 | V26: =SUM(P26:U27) -> 0 | W26: =IF(V26>3,1,0) -> 0
O27: Poids 4 kg | P27: =IF($O$27=B22,1,0) -> 0 | Q27: =IF($O$27=C22,1,0) -> 0 | R27: =IF($O$27=D22,1,0) -> 0 | S27: =IF($O$27=E22,1,0) -> 0 | T27: =IF($O$27=F22,1,0) -> 0 | U27: =IF($O$27=G22,1,0) -> 0 | W27: =IF(V27>3,1,0) -> 0
A28: Jeune Juge | D28: 3 PARTICIPANTS MAXIMUM PAR EPREUVE | O28: Javelot 600 g | P28: =IF($O$28=B21,1,0) -> 0 | Q28: =IF($O$28=C21,1,0) -> 0 | R28: =IF($O$28=D21,1,0) -> 0 | S28: =IF($O$28=E21,1,0) -> 0 | T28: =IF($O$28=F21,1,0) -> 0 | U28: =IF($O$28=G21,1,0) -> 0 | V28: =SUM(P28:U29) -> 0 | W28: =IF(V28>3,1,0) -> 0
B29: =VLOOKUP(B28,licenciés!$A:$M,2,FALSE) -> #N/A | O29: Javelot 600 g | P29: =IF($O$29=B22,1,0) -> 0 | Q29: =IF($O$29=C22,1,0) -> 0 | R29: =IF($O$29=D22,1,0) -> 0 | S29: =IF($O$29=E22,1,0) -> 0 | T29: =IF($O$29=F22,1,0) -> 0 | U29: =IF($O$29=G22,1,0) -> 0 | W29: =IF(V29>3,1,0) -> 0
B30: =VLOOKUP(B28,licenciés!$A:$M,3,FALSE) -> #N/A | D30: CHOIX DES EPREUVES NON-CONFORME | O30: Disque 1,25 kg | P30: =IF($O$30=B23,1,0) -> 0 | Q30: =IF($O$30=C23,1,0) -> 0 | R30: =IF($O$30=D23,1,0) -> 0 | S30: =IF($O$30=E23,1,0) -> 0 | T30: =IF($O$30=F23,1,0) -> 0 | U30: =IF($O$30=G23,1,0) -> 0 | V30: =SUM(P30:U31) -> 0 | W30: =IF(V30>3,1,0) -> 0
O31: Disque 1,25 kg | P31: =IF($O$31=B24,1,0) -> 0 | Q31: =IF($O$31=C24,1,0) -> 0 | R31: =IF($O$31=D24,1,0) -> 0 | S31: =IF($O$31=E24,1,0) -> 0 | T31: =IF($O$31=F24,1,0) -> 0 | U31: =IF($O$31=G24,1,0) -> 0 | W31: =IF(V31>3,1,0) -> 0
O32: Marteau 4 kg | P32: =IF($O$32=B23,1,0) -> 0 | Q32: =IF($O$32=C23,1,0) -> 0 | R32: =IF($O$32=D23,1,0) -> 0 | S32: =IF($O$32=E23,1,0) -> 0 | T32: =IF($O$32=F23,1,0) -> 0 | U32: =IF($O$32=G23,1,0) -> 0 | V32: =SUM(P32:U33) -> 0 | W32: =IF(V32>3,1,0) -> 0
A33: Attention | B33: Chaque athlète participe au maximum à 1 triathlon généraliste ou à 1 triathlon orienté (+ relais) | O33: Marteau 4 kg | P33: =IF($O$33=B24,1,0) -> 0 | Q33: =IF($O$33=C24,1,0) -> 0 | R33: =IF($O$33=D24,1,0) -> 0 | S33: =IF($O$33=E24,1,0) -> 0 | T33: =IF($O$33=F24,1,0) -> 0 | U33: =IF($O$33=G24,1,0) -> 0 | W33: =IF(V33>3,1,0) -> 0
B34: Si un athlète participe à 2 épreuves, interdiction de disputer 2 courses (hors relais) | W34: =SUM(W10:W33) -> 0
B35: Le nombre de participants d’une équipe dans une même épreuve est limité à 3.
A37: Composition d'équipe à retourner jusqu'au jeudi 8 octobre 9h00 à xavier@athle-centre.fr | P37: =IF(B14<>"",VLOOKUP(B14,Code!$A$1:$C$61,3,FALSE),0) -> 0 | Q37: =IF(C14<>"",VLOOKUP(C14,Code!$A$1:$C$61,3,FALSE),0) -> 0 | R37: =IF(D14<>"",VLOOKUP(D14,Code!$A$1:$C$61,3,FALSE),0) -> 0 | S37: =IF(E14<>"",VLOOKUP(E14,Code!$A$1:$C$61,3,FALSE),0) -> 0 | T37: =IF(F14<>"",VLOOKUP(F14,Code!$A$1:$C$61,3,FALSE),0) -> 0 | U37: =IF(G14<>"",VLOOKUP(G14,Code!$A$1:$C$61,3,FALSE),0) -> 0
P38: =IF(B15<>"",VLOOKUP(B15,Code!$A$1:$C$61,3,FALSE),0) -> 0 | Q38: =IF(C15<>"",VLOOKUP(C15,Code!$A$1:$C$61,3,FALSE),0) -> 0 | R38: =IF(D15<>"",VLOOKUP(D15,Code!$A$1:$C$61,3,FALSE),0) -> 0 | S38: =IF(E15<>"",VLOOKUP(E15,Code!$A$1:$C$61,3,FALSE),0) -> 0 | T38: =IF(F15<>"",VLOOKUP(F15,Code!$A$1:$C$61,3,FALSE),0) -> 0 | U38: =IF(G15<>"",VLOOKUP(G15,Code!$A$1:$C$61,3,FALSE),0) -> 0
P39: =IF(B16<>"",VLOOKUP(B16,Code!$A$1:$C$61,3,FALSE),0) -> 0 | Q39: =IF(C16<>"",VLOOKUP(C16,Code!$A$1:$C$61,3,FALSE),0) -> 0 | R39: =IF(D16<>"",VLOOKUP(D16,Code!$A$1:$C$61,3,FALSE),0) -> 0 | S39: =IF(E16<>"",VLOOKUP(E16,Code!$A$1:$C$61,3,FALSE),0) -> 0 | T39: =IF(F16<>"",VLOOKUP(F16,Code!$A$1:$C$61,3,FALSE),0) -> 0 | U39: =IF(G16<>"",VLOOKUP(G16,Code!$A$1:$C$61,3,FALSE),0) -> 0
P40: =IF(B17<>"",VLOOKUP(B17,Code!$A$1:$C$61,3,FALSE),0) -> 0 | Q40: =IF(C17<>"",VLOOKUP(C17,Code!$A$1:$C$61,3,FALSE),0) -> 0 | R40: =IF(D17<>"",VLOOKUP(D17,Code!$A$1:$C$61,3,FALSE),0) -> 0 | S40: =IF(E17<>"",VLOOKUP(E17,Code!$A$1:$C$61,3,FALSE),0) -> 0 | T40: =IF(F17<>"",VLOOKUP(F17,Code!$A$1:$C$61,3,FALSE),0) -> 0 | U40: =IF(G17<>"",VLOOKUP(G17,Code!$A$1:$C$61,3,FALSE),0) -> 0
P41: =IF(B18<>"",VLOOKUP(B18,Code!$A$1:$C$61,3,FALSE),0) -> 0 | Q41: =IF(C18<>"",VLOOKUP(C18,Code!$A$1:$C$61,3,FALSE),0) -> 0 | R41: =IF(D18<>"",VLOOKUP(D18,Code!$A$1:$C$61,3,FALSE),0) -> 0 | S41: =IF(E18<>"",VLOOKUP(E18,Code!$A$1:$C$61,3,FALSE),0) -> 0 | T41: =IF(F18<>"",VLOOKUP(F18,Code!$A$1:$C$61,3,FALSE),0) -> 0 | U41: =IF(G18<>"",VLOOKUP(G18,Code!$A$1:$C$61,3,FALSE),0) -> 0
P42: =IF(B19<>"",VLOOKUP(B19,Code!$A$1:$C$61,3,FALSE),0) -> 0 | Q42: =IF(C19<>"",VLOOKUP(C19,Code!$A$1:$C$61,3,FALSE),0) -> 0 | R42: =IF(D19<>"",VLOOKUP(D19,Code!$A$1:$C$61,3,FALSE),0) -> 0 | S42: =IF(E19<>"",VLOOKUP(E19,Code!$A$1:$C$61,3,FALSE),0) -> 0 | T42: =IF(F19<>"",VLOOKUP(F19,Code!$A$1:$C$61,3,FALSE),0) -> 0 | U42: =IF(G19<>"",VLOOKUP(G19,Code!$A$1:$C$61,3,FALSE),0) -> 0
P43: =IF(B20<>"",VLOOKUP(B20,Code!$A$1:$C$61,3,FALSE),0) -> 0 | Q43: =IF(C20<>"",VLOOKUP(C20,Code!$A$1:$C$61,3,FALSE),0) -> 0 | R43: =IF(D20<>"",VLOOKUP(D20,Code!$A$1:$C$61,3,FALSE),0) -> 0 | S43: =IF(E20<>"",VLOOKUP(E20,Code!$A$1:$C$61,3,FALSE),0) -> 0 | T43: =IF(F20<>"",VLOOKUP(F20,Code!$A$1:$C$61,3,FALSE),0) -> 0 | U43: =IF(G20<>"",VLOOKUP(G20,Code!$A$1:$C$61,3,FALSE),0) -> 0
P44: =IF(B21<>"",VLOOKUP(B21,Code!$A$1:$C$61,3,FALSE),0) -> 0 | Q44: =IF(C21<>"",VLOOKUP(C21,Code!$A$1:$C$61,3,FALSE),0) -> 0 | R44: =IF(D21<>"",VLOOKUP(D21,Code!$A$1:$C$61,3,FALSE),0) -> 0 | S44: =IF(E21<>"",VLOOKUP(E21,Code!$A$1:$C$61,3,FALSE),0) -> 0 | T44: =IF(F21<>"",VLOOKUP(F21,Code!$A$1:$C$61,3,FALSE),0) -> 0 | U44: =IF(G21<>"",VLOOKUP(G21,Code!$A$1:$C$61,3,FALSE),0) -> 0
...

Sheet licenciés
A1: 1272920 | B1: EBERLE | C1: LISON | E1: MI | F1: F | G1: 41025 | X1: O | Y1: COMP
A2: 1272922 | B2: RUHNKE | C2: AUGUSTIN | E2: MI | F2: M | G2: 41006 | X2: O | Y2: COMP
A3: 1278177 | B3: LANGLOIS | C3: MAXENCE | E3: MI | F3: M | G3: 41025 | X3: O | Y3: COMP
A4: 1300401 | B4: ROUSSEAU | C4: MAXIME | E4: MI | F4: M | G4: 18033 | X4: O | Y4: COMP
A5: 1311567 | B5: CHARLES | C5: NOAH | E5: MI | F5: M | G5: 41012 | X5: O | Y5: COMP
A6: 1314875 | B6: HELLOIN - BOEUF | C6: VIANNEY | E6: MI | F6: M | G6: 37047 | X6: O | Y6: COMP
A7: 1344113 | B7: TAFFOUREAU | C7: SARAH | E7: MI | F7: F | G7: 41025 | X7: O | Y7: COMP
A8: 1375604 | B8: MAXIME | C8: LOUNA | E8: MI | F8: F | G8: 18035 | X8: O | Y8: COMP
A9: 1377083 | B9: DEMONTFAUCON | C9: LUCAS | E9: MI | F9: M | G9: 28030 | X9: O | Y9: COMP
A10: 1378931 | B10: LUNEAU | C10: CHLOE | E10: MI | F10: F | G10: 36003 | X10: O | Y10: COMP
A11: 1381562 | B11: COQUAND | C11: LOANE | E11: MI | F11: F | G11: 28024 | X11: O | Y11: COMP
A12: 1383932 | B12: ENOULT | C12: JUSTINE | E12: MI | F12: F | G12: 18003 | X12: O | Y12: COMP
... A1859: 2262327 | B1859: DUCHENE | C1859: LYLOU | E1859: MI | F1859: F | G1859: 45008 | X1859: O | Y1859: COMP
A1860: 2262472 | B1860: BIN | C1860: ENZO | E1860: MI | F1860: M | G1860: 36003
A1861: 2263239 | B1861: ALERBACK | C1861: CLEO | E1861: MI | F1861: F | G1861: 41006
A1862: 2263723 | B1862: MOTILLON | C1862: JOSUA | E1862: BE | F1862: M | G1862: 37027
A1863: 2264244 | B1863: WATTEAU | C1863: MARTIN | E1863: MI | F1863: M | G1863: 45043
A1864: 2264246 | B1864: FOUCHER | C1864: MYLENE | E1864: BE | F1864: F | G1864: 45043
A1865: 2264277 | B1865: CEUS | C1865: LEANA | E1865: BE | F1865: F | G1865: 18003
A1866: 2264309 | B1866: DUPUY | C1866: MAXIME | E1866: MI | F1866: M | G1866: 45045
A1867: 2264358 | B1867: LANCELIN | C1867: JULIE | E1867: MI | F1867: F | G1867: 41003
A1868: 2264830 | B1868: PECHEVY | C1868: HUGO | E1868: BE | F1868: M | G1868: 18003
A1869: 2264969 | B1869: LACROIX | C1869: CAMILLE | E1869: BE | F1869: F | G1869: 18003
A1870: 2265645 | B1870: BARTHELEMY | C1870: LENA | E1870: MI | F1870: F | G1870: 18035
A1871: 2266213 | B1871: JOURDAIN | C1871: ELODIE | E1871: MI | F1871: F | G1871: 45044
... A2008: 2291638 | B2008: GALIA | C2008: CLEMENCE | E2008: BE | F2008: F | G2008: 37042

Sheet Club
A1: 18003 | B1: AC BOURGES | C1: ATHLETISME CLUB DE BOURGES | D1: CEN | G1: 18003
A2: 18007 | B2: EMG | C2: EM SAINT-GERMAIN-DU-PUY | D2: CEN | G2: 18007
A3: 18029 | B3: ASA DU BER | C3: ASA DU BERRY | D3: CEN | G3: 18029
A4: 18031 | B4: ACVB | C4: AC DE VIGNOUX S/BARANGEON | D4: CEN | G4: 18031
A5: 18032 | B5: USAVORD | C5: UNION SPORTIVE D AVORD* | D5: CEN | G5: 18032
A6: 18033 | B6: SAMBA | C6: SAINT-AMAND-MONTROND BOISCHAUT | D6: CEN | G6: 18033
A7: 18035 | B7: US BERRY A | C7: US BERRY ATHLETISME | D7: CEN | G7: 18035
A8: 18036 | B8: SANCERRE R | C8: SANCERRE RUNNING | D8: CEN | G8: 18036
A9: 18039 | B9: VVF ATHLE | C9: VIERZON-VIGNOUX-FOECY ATHLE* | D9: CEN | G9: 18039
A10: 28001 | B10: AAEE | C10: AAEE EPERNON | D10: CEN | G10: 28001
A11: 28004 | B11: NOGENTROTR | C11: AS NOGENT-LE-ROTROU | D11: CEN | G11: 28004
A12: 28008 | B12: ESPD | C12: ESP DREUX | D12: CEN | G12: 28008
... A76: 45056 | B76: TEAM NUTEO | C76: TEAM NUTEO | D76: CEN | G76: 45056

Sheet Code
A1: 50 m | B1: 104 | C1: 1
A2: 80 m | B2: 108 | C2: 1
A3: 100 m | B3: 110 | C3: 1
A4: 120 m | B4: 112 | C4: 1
A5: 200 m | B5: 120 | C5: 1
A6: 400 m | B6: 140 | C6: 1
A7: 800 m | B7: 208 | C7: 1
A8: 1 000 m | B8: 210 | C8: 10
A9: 1 500 m | B9: 215 | C9: 10
A10: 2 000 m | B10: 220 | C10: 10
A11: 3 000 m | B11: 230 | C11: 10
A12: 5 000 m | B12: 250 | C12: 10
... A56: Javelot 800 g | B56: 681 | C56: 10000
B57: 790
A58: 4 x 60 m | B58: 806
A59: 2 000 m Marche | B59: 902 | C59: 10
A60: 3 000 m Marche | B60: 903 | C60: 10
A61: 5 000 m Marche | B61: 905 | C61: 10

Sheet Fin
A1: Licence (10 max) obligatoire si licencié | B1: Nom (20 caractères max) Obligatoire | C1: Prénom (15 caractères max) - obligatoire | D1: Catégorie (2 caractères max) - obligatoire | E1: Sexe (1 caractère) - obligatoire | F1: Code d'appel (3 caractères - obligatoire) | G1: Code d'appel ep. N+1 eprv multiple (3 caractères) | H1: Perf Engagement num. (sans séparateur) | I1: N° d'ordre dans l'équipe (obligatoire pour import équipe Interclub) | J1: N° club athlète (6 caractères) | K1: nom club (30 caractères max) obligatoire si non licencié | L1: Code Famille (obligatoire Re, si relais) | M1: Nom équipe relais (30 caractères max) - obligatoire si relais | N1: Ordre composition relais (1 caractère) | O1: Catégorie épreuve relais (obligatoire si relais) | P1: Sexe épreuve relais (obligatoire si relais) | Q1: Nom épreuve (12 caractères max) | R1: Dossard | S1: Nationalité (3 caractères) - obligatoire si non licencié
A2: nolicence | B2: nom | C2: prenom | D2: categorie | E2: sexe | F2: codeappel | G2: epcombine | H2: perfengagement | I2: noordreequipe | J2: noclub | K2: nomclub | L2: codefamille | M2: nomrelais | N2: noordrerelais | O2: categorieep | P2: sexeep | Q2: nomepreuve | R2: nodossard | S2: nationalite
A3: =IF(Engagement!B14<>"",Engagement!$B$9,"") | B3: =IF(Engagement!B14<>"",Engagement!$B$10,"") | C3: =IF(Engagement!B14<>"",Engagement!$B$11,"") | D3: =IF(Engagement!B14<>"","MI","") | E3: =IF(Engagement!B14<>"","M","") | F3: =IF(Engagement!B14<>"",Engagement!H14,"") | J3: =IF(Engagement!B14<>"",Engagement!$H$10,"") | Q3: =IF(Engagement!B14<>"",Engagement!B14,"") | S3: =IF(Engagement!B14<>"",Engagement!$H$9,"")
A4: =IF(Engagement!B15<>"",Engagement!$B$9,"") | B4: =IF(Engagement!B15<>"",Engagement!$B$10,"") | C4: =IF(Engagement!B15<>"",Engagement!$B$11,"") | D4: =IF(Engagement!B15<>"","MI","") | E4: =IF(Engagement!B15<>"","M","") | F4: =IF(Engagement!B15<>"",Engagement!H15,"") | J4: =IF(Engagement!B15<>"",Engagement!$H$10,"") | Q4: =IF(Engagement!B15<>"",Engagement!B15,"") | S4: =IF(Engagement!B15<>"",Engagement!$H$9,"")
A5: =IF(Engagement!B16<>"",Engagement!$B$9,"") | B5: =IF(Engagement!B16<>"",Engagement!$B$10,"") | C5: =IF(Engagement!B16<>"",Engagement!$B$11,"") | D5: =IF(Engagement!B16<>"","MI","") | E5: =IF(Engagement!B16<>"","M","") | F5: =IF(Engagement!B16<>"",Engagement!H16,"") | J5: =IF(Engagement!B16<>"",Engagement!$H$10,"") | Q5: =IF(Engagement!B16<>"",Engagement!B16,"") | S5: =IF(Engagement!B16<>"",Engagement!$H$9,"")
A6: =IF(Engagement!B17<>"",Engagement!$B$9,"") | B6: =IF(Engagement!B17<>"",Engagement!$B$10,"") | C6: =IF(Engagement!B17<>"",Engagement!$B$11,"") | D6: =IF(Engagement!B17<>"","MI","") | E6: =IF(Engagement!B17<>"","M","") | F6: =IF(Engagement!B17<>"",Engagement!H17,"") | J6: =IF(Engagement!B17<>"",Engagement!$H$10,"") | Q6: =IF(Engagement!B17<>"",Engagement!B17,"") | S6: =IF(Engagement!B17<>"",Engagement!$H$9,"")
A7: =IF(Engagement!B18<>"",Engagement!$B$9,"") | B7: =IF(Engagement!B18<>"",Engagement!$B$10,"") | C7: =IF(Engagement!B18<>"",Engagement!$B$11,"") | D7: =IF(Engagement!B18<>"","MI","") | E7: =IF(Engagement!B18<>"","M","") | F7: =IF(Engagement!B18<>"",Engagement!H18,"") | J7: =IF(Engagement!B18<>"",Engagement!$H$10,"") | Q7: =IF(Engagement!B18<>"",Engagement!B18,"") | S7: =IF(Engagement!B18<>"",Engagement!$H$9,"")
A8: =IF(Engagement!B19<>"",Engagement!$B$9,"") | B8: =IF(Engagement!B19<>"",Engagement!$B$10,"") | C8: =IF(Engagement!B19<>"",Engagement!$B$11,"") | D8: =IF(Engagement!B19<>"","MI","") | E8: =IF(Engagement!B19<>"","M","") | F8: =IF(Engagement!B19<>"",Engagement!H19,"") | J8: =IF(Engagement!B19<>"",Engagement!$H$10,"") | Q8: =IF(Engagement!B19<>"",Engagement!B19,"") | S8: =IF(Engagement!B19<>"",Engagement!$H$9,"")
A9: =IF(Engagement!B20<>"",Engagement!$B$9,"") | B9: =IF(Engagement!B20<>"",Engagement!$B$10,"") | C9: =IF(Engagement!B20<>"",Engagement!$B$11,"") | D9: =IF(Engagement!B20<>"","MI","") | E9: =IF(Engagement!B20<>"","M","") | F9: =IF(Engagement!B20<>"",Engagement!H20,"") | J9: =IF(Engagement!B20<>"",Engagement!$H$10,"") | Q9: =IF(Engagement!B20<>"",Engagement!B20,"") | S9: =IF(Engagement!B20<>"",Engagement!$H$9,"")
A10: =IF(Engagement!B21<>"",Engagement!$B$9,"") | B10: =IF(Engagement!B21<>"",Engagement!$B$10,"") | C10: =IF(Engagement!B21<>"",Engagement!$B$11,"") | D10: =IF(Engagement!B21<>"","MI","") | E10: =IF(Engagement!B21<>"","M","") | F10: =IF(Engagement!B21<>"",Engagement!H21,"") | J10: =IF(Engagement!B21<>"",Engagement!$H$10,"") | Q10: =IF(Engagement!B21<>"",Engagement!B21,"") | S10: =IF(Engagement!B21<>"",Engagement!$H$9,"")
A11: =IF(Engagement!B22<>"",Engagement!$B$9,"") | B11: =IF(Engagement!B22<>"",Engagement!$B$10,"") | C11: =IF(Engagement!B22<>"",Engagement!$B$11,"") | D11: =IF(Engagement!B22<>"","MI","") | E11: =IF(Engagement!B22<>"","M","") | F11: =IF(Engagement!B22<>"",Engagement!H22,"") | J11: =IF(Engagement!B22<>"",Engagement!$H$10,"") | Q11: =IF(Engagement!B22<>"",Engagement!B22,"") | S11: =IF(Engagement!B22<>"",Engagement!$H$9,"")
A12: =IF(Engagement!B23<>"",Engagement!$B$9,"") | B12: =IF(Engagement!B23<>"",Engagement!$B$10,"") | C12: =IF(Engagement!B23<>"",Engagement!$B$11,"") | D12: =IF(Engagement!B23<>"","MI","") | E12: =IF(Engagement!B23<>"","M","") | F12: =IF(Engagement!B23<>"",Engagement!H23,"") | J12: =IF(Engagement!B23<>"",Engagement!$H$10,"") | Q12: =IF(Engagement!B23<>"",Engagement!B23,"") | S12: =IF(Engagement!B23<>"",Engagement!$H$9,"")
A13: =IF(Engagement!B24<>"",Engagement!$B$9,"") | B13: =IF(Engagement!B24<>"",Engagement!$B$10,"") | C13: =IF(Engagement!B24<>"",Engagement!$B$11,"") | D13: =IF(Engagement!B24<>"","MI","") | E13: =IF(Engagement!B24<>"","M","") | F13: =IF(Engagement!B24<>"",Engagement!H24,"") | J13: =IF(Engagement!B24<>"",Engagement!$H$10,"") | Q13: =IF(Engagement!B24<>"",Engagement!B24,"") | S13: =IF(Engagement!B24<>"",Engagement!$H$9,"")
A14: =IF(Engagement!B25<>"",Engagement!$B$9,"") | B14: =IF(Engagement!B25<>"",Engagement!$B$10,"") | C14: =IF(Engagement!B25<>"",Engagement!$B$11,"") | D14: =IF(Engagement!B25<>"","MI","") | E14: =IF(Engagement!B25<>"","M","") | F14: =IF(Engagement!B25<>"",Engagement!H25,"") | J14: =IF(Engagement!B25<>"",Engagement!$H$10,"") | L14: =IF(Engagement!B25<>"","Re","") | M14: =IF(Engagement!B25<>"",CONCATENATE(Engagement!$E$5," ",,Engagement!$G$5,""),"") | O14: =IF(Engagement!B25<>"","MI","") | P14: =IF(Engagement!B25<>"","M","") | Q14: =IF(Engagement!B25<>"",Engagement!B25,"") | S14: =IF(Engagement!B25<>"",Engagement!$H$9,"")
A15: =IF(Engagement!C14<>"",Engagement!$C$9,"") | B15: =IF(Engagement!C14<>"",Engagement!$C$10,"") | C15: =IF(Engagement!C14<>"",Engagement!$C$11,"") | D15: =IF(Engagement!C14<>"","MI","") | E15: =IF(Engagement!C14<>"","M","") | F15: =IF(Engagement!C14<>"",Engagement!I14,"") | J15: =IF(Engagement!C14<>"",Engagement!$I$10,"") | Q15: =IF(Engagement!C14<>"",Engagement!C14,"") | S15: =IF(Engagement!C14<>"",Engagement!$I$9,"")
A16: =IF(Engagement!C15<>"",Engagement!$C$9,"") | B16: =IF(Engagement!C15<>"",Engagement!$C$10,"") | C16: =IF(Engagement!C15<>"",Engagement!$C$11,"") | D16: =IF(Engagement!C15<>"","MI","") | E16: =IF(Engagement!C15<>"","M","") | F16: =IF(Engagement!C15<>"",Engagement!I15,"") | J16: =IF(Engagement!C15<>"",Engagement!$I$10,"") | Q16: =IF(Engagement!C15<>"",Engagement!C15,"") | S16: =IF(Engagement!C15<>"",Engagement!$I$9,"")
A17: =IF(Engagement!C16<>"",Engagement!$C$9,"") | B17: =IF(Engagement!C16<>"",Engagement!$C$10,"") | C17: =IF(Engagement!C16<>"",Engagement!$C$11,"") | D17: =IF(Engagement!C16<>"","MI","") | E17: =IF(Engagement!C16<>"","M","") | F17: =IF(Engagement!C16<>"",Engagement!I16,"") | J17: =IF(Engagement!C16<>"",Engagement!$I$10,"") | Q17: =IF(Engagement!C16<>"",Engagement!C16,"") | S17: =IF(Engagement!C16<>"",Engagement!$I$9,"")
A18: =IF(Engagement!C17<>"",Engagement!$C$9,"") | B18: =IF(Engagement!C17<>"",Engagement!$C$10,"") | C18: =IF(Engagement!C17<>"",Engagement!$C$11,"") | D18: =IF(Engagement!C17<>"","MI","") | E18: =IF(Engagement!C17<>"","M","") | F18: =IF(Engagement!C17<>"",Engagement!I17,"") | J18: =IF(Engagement!C17<>"",Engagement!$I$10,"") | Q18: =IF(Engagement!C17<>"",Engagement!C17,"") | S18: =IF(Engagement!C17<>"",Engagement!$I$9,"")
A19: =IF(Engagement!C18<>"",Engagement!$C$9,"") | B19: =IF(Engagement!C18<>"",Engagement!$C$10,"") | C19: =IF(Engagement!C18<>"",Engagement!$C$11,"") | D19: =IF(Engagement!C18<>"","MI","") | E19: =IF(Engagement!C18<>"","M","") | F19: =IF(Engagement!C18<>"",Engagement!I18,"") | J19: =IF(Engagement!C18<>"",Engagement!$I$10,"") | Q19: =IF(Engagement!C18<>"",Engagement!C18,"") | S19: =IF(Engagement!C18<>"",Engagement!$I$9,"")
A20: =IF(Engagement!C19<>"",Engagement!$C$9,"") | B20: =IF(Engagement!C19<>"",Engagement!$C$10,"") | C20: =IF(Engagement!C19<>"",Engagement!$C$11,"") | D20: =IF(Engagement!C19<>"","MI","") | E20: =IF(Engagement!C19<>"","M","") | F20: =IF(Engagement!C19<>"",Engagement!I19,"") | J20: =IF(Engagement!C19<>"",Engagement!$I$10,"") | Q20: =IF(Engagement!C19<>"",Engagement!C19,"") | S20: =IF(Engagement!C19<>"",Engagement!$I$9,"")
A21: =IF(Engagement!C20<>"",Engagement!$C$9,"") | B21: =IF(Engagement!C20<>"",Engagement!$C$10,"") | C21: =IF(Engagement!C20<>"",Engagement!$C$11,"") | D21: =IF(Engagement!C20<>"","MI","") | E21: =IF(Engagement!C20<>"","M","") | F21: =IF(Engagement!C20<>"",Engagement!I20,"") | J21: =IF(Engagement!C20<>"",Engagement!$I$10,"") | Q21: =IF(Engagement!C20<>"",Engagement!C20,"") | S21: =IF(Engagement!C20<>"",Engagement!$I$9,"")
A22: =IF(Engagement!C21<>"",Engagement!$C$9,"") | B22: =IF(Engagement!C21<>"",Engagement!$C$10,"") | C22: =IF(Engagement!C21<>"",Engagement!$C$11,"") | D22: =IF(Engagement!C21<>"","MI","") | E22: =IF(Engagement!C21<>"","M","") | F22: =IF(Engagement!C21<>"",Engagement!I21,"") | J22: =IF(Engagement!C21<>"",Engagement!$I$10,"") | Q22: =IF(Engagement!C21<>"",Engagement!C21,"") | S22: =IF(Engagement!C21<>"",Engagement!$I$9,"")
A23: =IF(Engagement!C22<>"",Engagement!$C$9,"") | B23: =IF(Engagement!C22<>"",Engagement!$C$10,"") | C23: =IF(Engagement!C22<>"",Engagement!$C$11,"") | D23: =IF(Engagement!C22<>"","MI","") | E23: =IF(Engagement!C22<>"","M","") | F23: =IF(Engagement!C22<>"",Engagement!I22,"") | J23: =IF(Engagement!C22<>"",Engagement!$I$10,"") | Q23: =IF(Engagement!C22<>"",Engagement!C22,"") | S23: =IF(Engagement!C22<>"",Engagement!$I$9,"")
A24: =IF(Engagement!C23<>"",Engagement!$C$9,"") | B24: =IF(Engagement!C23<>"",Engagement!$C$10,"") | C24: =IF(Engagement!C23<>"",Engagement!$C$11,"") | D24: =IF(Engagement!C23<>"","MI","") | E24: =IF(Engagement!C23<>"","M","") | F24: =IF(Engagement!C23<>"",Engagement!I23,"") | J24: =IF(Engagement!C23<>"",Engagement!$I$10,"") | Q24: =IF(Engagement!C23<>"",Engagement!C23,"") | S24: =IF(Engagement!C23<>"",Engagement!$I$9,"")
A25: =IF(Engagement!C24<>"",Engagement!$C$9,"") | B25: =IF(Engagement!C24<>"",Engagement!$C$10,"") | C25: =IF(Engagement!C24<>"",Engagement!$C$11,"") | D25: =IF(Engagement!C24<>"","MI","") | E25: =IF(Engagement!C24<>"","M","") | F25: =IF(Engagement!C24<>"",Engagement!I24,"") | J25: =IF(Engagement!C24<>"",Engagement!$I$10,"") | Q25: =IF(Engagement!C24<>"",Engagement!C24,"") | S25: =IF(Engagement!C24<>"",Engagement!$I$9,"")
A26: =IF(Engagement!C25<>"",Engagement!$C$9,"") | B26: =IF(Engagement!C25<>"",Engagement!$C$10,"") | C26: =IF(Engagement!C25<>"",Engagement!$C$11,"") | D26: =IF(Engagement!C25<>"","MI","") | E26: =IF(Engagement!C25<>"","M","") | F26: =IF(Engagement!C25<>"",Engagement!I25,"") | J26: =IF(Engagement!C25<>"",Engagement!$I$10,"") | L26: =IF(Engagement!C25<>"","Re","") | M26: =IF(Engagement!C25<>"",CONCATENATE(Engagement!$E$5," ",,Engagement!$G$5,""),"") | O26: =IF(Engagement!C25<>"","MI","") | P26: =IF(Engagement!C25<>"","M","") | Q26: =IF(Engagement!C25<>"",Engagement!C25,"") | S26: =IF(Engagement!C25<>"",Engagement!$I$9,"")
A27: =IF(Engagement!D14<>"",Engagement!$D$9,"") | B27: =IF(Engagement!D14<>"",Engagement!$D$10,"") | C27: =IF(Engagement!D14<>"",Engagement!$D$11,"") | D27: =IF(Engagement!D14<>"","MI","") | E27: =IF(Engagement!D14<>"","M","") | F27: =IF(Engagement!D14<>"",Engagement!J14,"") | J27: =IF(Engagement!D14<>"",Engagement!$J$10,"") | Q27: =IF(Engagement!D14<>"",Engagement!D14,"") | S27: =IF(Engagement!D14<>"",Engagement!$J$9,"")
A28: =IF(Engagement!D15<>"",Engagement!$D$9,"") | B28: =IF(Engagement!D15<>"",Engagement!$D$10,"") | C28: =IF(Engagement!D15<>"",Engagement!$D$11,"") | D28: =IF(Engagement!D15<>"","MI","") | E28: =IF(Engagement!D15<>"","M","") | F28: =IF(Engagement!D15<>"",Engagement!J15,"") | J28: =IF(Engagement!D15<>"",Engagement!$J$10,"") | Q28: =IF(Engagement!D15<>"",Engagement!D15,"") | S28: =IF(Engagement!D15<>"",Engagement!$J$9,"")
A29: =IF(Engagement!D16<>"",Engagement!$D$9,"") | B29: =IF(Engagement!D16<>"",Engagement!$D$10,"") | C29: =IF(Engagement!D16<>"",Engagement!$D$11,"") | D29: =IF(Engagement!D16<>"","MI","") | E29: =IF(Engagement!D16<>"","M","") | F29: =IF(Engagement!D16<>"",Engagement!J16,"") | J29: =IF(Engagement!D16<>"",Engagement!$J$10,"") | Q29: =IF(Engagement!D16<>"",Engagement!D16,"") | S29: =IF(Engagement!D16<>"",Engagement!$J$9,"")
A30: =IF(Engagement!D17<>"",Engagement!$D$9,"") | B30: =IF(Engagement!D17<>"",Engagement!$D$10,"") | C30: =IF(Engagement!D17<>"",Engagement!$D$11,"") | D30: =IF(Engagement!D17<>"","MI","") | E30: =IF(Engagement!D17<>"","M","") | F30: =IF(Engagement!D17<>"",Engagement!J17,"") | J30: =IF(Engagement!D17<>"",Engagement!$J$10,"") | Q30: =IF(Engagement!D17<>"",Engagement!D17,"") | S30: =IF(Engagement!D17<>"",Engagement!$J$9,"")
A31: =IF(Engagement!D18<>"",Engagement!$D$9,"") | B31: =IF(Engagement!D18<>"",Engagement!$D$10,"") | C31: =IF(Engagement!D18<>"",Engagement!$D$11,"") | D31: =IF(Engagement!D18<>"","MI","") | E31: =IF(Engagement!D18<>"","M","") | F31: =IF(Engagement!D18<>"",Engagement!J18,"") | J31: =IF(Engagement!D18<>"",Engagement!$J$10,"") | Q31: =IF(Engagement!D18<>"",Engagement!D18,"") | S31: =IF(Engagement!D18<>"",Engagement!$J$9,"")
A32: =IF(Engagement!D19<>"",Engagement!$D$9,"") | B32: =IF(Engagement!D19<>"",Engagement!$D$10,"") | C32: =IF(Engagement!D19<>"",Engagement!$D$11,"") | D32: =IF(Engagement!D19<>"","MI","") | E32: =IF(Engagement!D19<>"","M","") | F32: =IF(Engagement!D19<>"",Engagement!J19,"") | J32: =IF(Engagement!D19<>"",Engagement!$J$10,"") | Q32: =IF(Engagement!D19<>"",Engagement!D19,"") | S32: =IF(Engagement!D19<>"",Engagement!$J$9,"")
A33: =IF(Engagement!D20<>"",Engagement!$D$9,"") | B33: =IF(Engagement!D20<>"",Engagement!$D$10,"") | C33: =IF(Engagement!D20<>"",Engagement!$D$11,"") | D33: =IF(Engagement!D20<>"","MI","") | E33: =IF(Engagement!D20<>"","M","") | F33: =IF(Engagement!D20<>"",Engagement!J20,"") | J33: =IF(Engagement!D20<>"",Engagement!$J$10,"") | Q33: =IF(Engagement!D20<>"",Engagement!D20,"") | S33: =IF(Engagement!D20<>"",Engagement!$J$9,"")
A34: =IF(Engagement!D21<>"",Engagement!$D$9,"") | B34: =IF(Engagement!D21<>"",Engagement!$D$10,"") | C34: =IF(Engagement!D21<>"",Engagement!$D$11,"") | D34: =IF(Engagement!D21<>"","MI","") | E34: =IF(Engagement!D21<>"","M","") | F34: =IF(Engagement!D21<>"",Engagement!J21,"") | J34: =IF(Engagement!D21<>"",Engagement!$J$10,"") | Q34: =IF(Engagement!D21<>"",Engagement!D21,"") | S34: =IF(Engagement!D21<>"",Engagement!$J$9,"")
A35: =IF(Engagement!D22<>"",Engagement!$D$9,"") | B35: =IF(Engagement!D22<>"",Engagement!$D$10,"") | C35: =IF(Engagement!D22<>"",Engagement!$D$11,"") | D35: =IF(Engagement!D22<>"","MI","") | E35: =IF(Engagement!D22<>"","M","") | F35: =IF(Engagement!D22<>"",Engagement!J22,"") | J35: =IF(Engagement!D22<>"",Engagement!$J$10,"") | Q35: =IF(Engagement!D22<>"",Engagement!D22,"") | S35: =IF(Engagement!D22<>"",Engagement!$J$9,"")
A36: =IF(Engagement!D23<>"",Engagement!$D$9,"") | B36: =IF(Engagement!D23<>"",Engagement!$D$10,"") | C36: =IF(Engagement!D23<>"",Engagement!$D$11,"") | D36: =IF(Engagement!D23<>"","MI","") | E36: =IF(Engagement!D23<>"","M","") | F36: =IF(Engagement!D23<>"",Engagement!J23,"") | J36: =IF(Engagement!D23<>"",Engagement!$J$10,"") | Q36: =IF(Engagement!D23<>"",Engagement!D23,"") | S36: =IF(Engagement!D23<>"",Engagement!$J$9,"")
A37: =IF(Engagement!D24<>"",Engagement!$D$9,"") | B37: =IF(Engagement!D24<>"",Engagement!$D$10,"") | C37: =IF(Engagement!D24<>"",Engagement!$D$11,"") | D37: =IF(Engagement!D24<>"","MI","") | E37: =IF(Engagement!D24<>"","M","") | F37: =IF(Engagement!D24<>"",Engagement!J24,"") | J37: =IF(Engagement!D24<>"",Engagement!$J$10,"") | Q37: =IF(Engagement!D24<>"",Engagement!D24,"") | S37: =IF(Engagement!D24<>"",Engagement!$J$9,"")
A38: =IF(Engagement!D25<>"",Engagement!$D$9,"") | B38: =IF(Engagement!D25<>"",Engagement!$D$10,"") | C38: =IF(Engagement!D25<>"",Engagement!$D$11,"") | D38: =IF(Engagement!D25<>"","MI","") | E38: =IF(Engagement!D25<>"","M","") | F38: =IF(Engagement!D25<>"",Engagement!J25,"") | J38: =IF(Engagement!D25<>"",Engagement!$J$10,"") | L38: =IF(Engagement!D25<>"","Re","") | M38: =IF(Engagement!D25<>"",CONCATENATE(Engagement!$E$5," ",,Engagement!$G$5,""),"") | O38: =IF(Engagement!D25<>"","MI","") | P38: =IF(Engagement!D25<>"","M","") | Q38: =IF(Engagement!D25<>"",Engagement!D25,"") | S38: =IF(Engagement!D25<>"",Engagement!$J$9,"")
A39: =IF(Engagement!E14<>"",Engagement!$E$9,"") | B39: =IF(Engagement!E14<>"",Engagement!$E$10,"") | C39: =IF(Engagement!E14<>"",Engagement!$E$11,"") | D39: =IF(Engagement!E14<>"","MI","") | E39: =IF(Engagement!E14<>"","M","") | F39: =IF(Engagement!E14<>"",Engagement!K14,"") | J39: =IF(Engagement!E14<>"",Engagement!$K$10,"") | Q39: =IF(Engagement!E14<>"",Engagement!E14,"") | S39: =IF(Engagement!E14<>"",Engagement!$K$9,"")
A40: =IF(Engagement!E15<>"",Engagement!$E$9,"") | B40: =IF(Engagement!E15<>"",Engagement!$E$10,"") | C40: =IF(Engagement!E15<>"",Engagement!$E$11,"") | D40: =IF(Engagement!E15<>"","MI","") | E40: =IF(Engagement!E15<>"","M","") | F40: =IF(Engagement!E15<>"",Engagement!K15,"") | J40: =IF(Engagement!E15<>"",Engagement!$K$10,"") | Q40: =IF(Engagement!E15<>"",Engagement!E15,"") | S40: =IF(Engagement!E15<>"",Engagement!$K$9,"")
...
