Workbook

Sheet Interclubs2022
A2: Interclubs Seniors
A4: Lieu : | F4: Club : | M4: Châteauroux (N3) | O4: A.M.O. MER | R4: 100 m | S4: Hauteur
M5: Saint Cyr sur Loire (REG) | O5: AAEE EPERNON | R5: 200 m | S5: Perche
E6: Equipe n° | M6: Saran (N2B) | O6: AC ROMORANTIN | R6: 400 m | S6: Longueur
M7: Vineuil (N2A) | O7: AJ BLOIS-ONZAIN | R7: 800 m | S7: Triples-Saut
C8: JURY | M8: Courses | O8: AS FONDETTES | S8: Poids
M9: Sauts | O9: AS NOGENT-LE-ROTROU | S9: Disque
C10: N° Licence | D10: NOM | E10: PRENOM | F10: SPECIALITE | G10: NIVEAU | I10: Choix préféré | M10: Lancers | O10: ATHLE BOCAGE VENDEE* | S10: Marteau
D11: =VLOOKUP(C11,Licenciés!A:D,2,FALSE) -> #N/A | E11: =VLOOKUP(C11,Licenciés!A:D,3,FALSE) -> #N/A | M11: Starter | O11: ATHLE CHARTRES LUCE ASPTT MAIN | S11: Javelot
D12: =VLOOKUP(C12,Licenciés!A:D,2,FALSE) -> #N/A | E12: =VLOOKUP(C12,Licenciés!A:D,3,FALSE) -> #N/A | M12: Marche | O12: ATHLETIC CLUBS DU LITTORAL 44* | S12: Starter
D13: =VLOOKUP(C13,Licenciés!A:D,2,FALSE) -> #N/A | E13: =VLOOKUP(C13,Licenciés!A:D,3,FALSE) -> #N/A | M13: Chrono | O13: ATHLETIC TROIS TOURS* | S13: Marche
D14: =VLOOKUP(C14,Licenciés!A:D,2,FALSE) -> #N/A | E14: =VLOOKUP(C14,Licenciés!A:D,3,FALSE) -> #N/A | M14: Juge Arbitre | O14: ATHLETISME SAINT BARTHELEMY D'ANJOU | S14: Chrono
D15: =VLOOKUP(C15,Licenciés!A:D,2,FALSE) -> #N/A | E15: =VLOOKUP(C15,Licenciés!A:D,3,FALSE) -> #N/A | M15: Secrétariat Informatique | O15: BOURGES ENTENTE ATHLETISME* | S15: Course
D16: =VLOOKUP(C16,Licenciés!A:D,2,FALSE) -> #N/A | E16: =VLOOKUP(C16,Licenciés!A:D,3,FALSE) -> #N/A | O16: CA DU PAYS SAUMUROIS* | S16: Secrétariat Informatique
D17: =VLOOKUP(C17,Licenciés!A:D,2,FALSE) -> #N/A | E17: =VLOOKUP(C17,Licenciés!A:D,3,FALSE) -> #N/A | M17: Fédéral | O17: CARQUEFOU AC
M18: Régional | O18: EA ISSOUDUN
A19: Féminines | F19: Masculins | M19: Autre | O19: EC ORLEANS CERCLE JULES FERRY* | R19: 1 500 m
A20: Epreuves | B20: Ordre | C20: N° Licence | D20: NOM | E20: PRENOM | F20: Epreuves | G20: Ordre | H20: N° Licence | I20: NOM | J20: PRENOM | O20: ENTENTE ATHLE NORD MAYENNE* | R20: 3 000 m
A21: 100 m | B21: 1 | D21: =VLOOKUP(C21,Licenciés!A:C,2,FALSE) -> #N/A | E21: =VLOOKUP(C21,Licenciés!A:C,3,FALSE) -> #N/A | F21: 100 m | G21: 1 | I21: =VLOOKUP(H21,Licenciés!A:C,2,FALSE) -> #N/A | J21: =VLOOKUP(H21,Licenciés!A:C,3,FALSE) -> #N/A | K21: =IF((VLOOKUP(C21,Licenciés!A:Y,25,FALSE)="COMP"),1,0) -> #N/A | L21: =IF((VLOOKUP(H21,Licenciés!A:Y,25,FALSE)="COMP"),1,0) -> #N/A | O21: ENTENTE DES MAUGES* | R21: Haies Hautes
B22: 2 | D22: =VLOOKUP(C22,Licenciés!A:C,2,FALSE) -> #N/A | E22: =VLOOKUP(C22,Licenciés!A:C,3,FALSE) -> #N/A | G22: 2 | I22: =VLOOKUP(H22,Licenciés!A:C,2,FALSE) -> #N/A | J22: =VLOOKUP(H22,Licenciés!A:C,3,FALSE) -> #N/A | K22: =IF((VLOOKUP(C22,Licenciés!A:Y,25,FALSE)="COMP"),1,0) -> #N/A | L22: =IF((VLOOKUP(H22,Licenciés!A:Y,25,FALSE)="COMP"),1,0) -> #N/A | O22: ENTENTE SARTHE ATHLETISME* | R22: Haies Basses
A23: 200 m | B23: 1 | D23: =VLOOKUP(C23,Licenciés!A:C,2,FALSE) -> #N/A | E23: =VLOOKUP(C23,Licenciés!A:C,3,FALSE) -> #N/A | F23: 200 m | G23: 1 | I23: =VLOOKUP(H23,Licenciés!A:C,2,FALSE) -> #N/A | J23: =VLOOKUP(H23,Licenciés!A:C,3,FALSE) -> #N/A | K23: =IF((VLOOKUP(C23,Licenciés!A:Y,25,FALSE)="COMP"),1,0) -> #N/A | L23: =IF((VLOOKUP(H23,Licenciés!A:Y,25,FALSE)="COMP"),1,0) -> #N/A | O23: ENTENTE VENDOME MAROLLES ATHLE | R23: Marche
B24: 2 | D24: =VLOOKUP(C24,Licenciés!A:C,2,FALSE) -> #N/A | E24: =VLOOKUP(C24,Licenciés!A:C,3,FALSE) -> #N/A | G24: 2 | I24: =VLOOKUP(H24,Licenciés!A:C,2,FALSE) -> #N/A | J24: =VLOOKUP(H24,Licenciés!A:C,3,FALSE) -> #N/A | K24: =IF((VLOOKUP(C24,Licenciés!A:Y,25,FALSE)="COMP"),1,0) -> #N/A | L24: =IF((VLOOKUP(H24,Licenciés!A:Y,25,FALSE)="COMP"),1,0) -> #N/A | O24: ES JOUY ST-PREST ATHLETISME | R24: Hauteur
A25: 400 m | B25: 1 | D25: =VLOOKUP(C25,Licenciés!A:C,2,FALSE) -> #N/A | E25: =VLOOKUP(C25,Licenciés!A:C,3,FALSE) -> #N/A | F25: 400 m | G25: 1 | I25: =VLOOKUP(H25,Licenciés!A:C,2,FALSE) -> #N/A | J25: =VLOOKUP(H25,Licenciés!A:C,3,FALSE) -> #N/A | K25: =IF((VLOOKUP(C25,Licenciés!A:Y,25,FALSE)="COMP"),1,0) -> #N/A | L25: =IF((VLOOKUP(H25,Licenciés!A:Y,25,FALSE)="COMP"),1,0) -> #N/A | O25: ES MAINTENON PIERRES ATHLE. | R25: Perche
B26: 2 | D26: =VLOOKUP(C26,Licenciés!A:C,2,FALSE) -> #N/A | E26: =VLOOKUP(C26,Licenciés!A:C,3,FALSE) -> #N/A | G26: 2 | I26: =VLOOKUP(H26,Licenciés!A:C,2,FALSE) -> #N/A | J26: =VLOOKUP(H26,Licenciés!A:C,3,FALSE) -> #N/A | K26: =IF((VLOOKUP(C26,Licenciés!A:Y,25,FALSE)="COMP"),1,0) -> #N/A | L26: =IF((VLOOKUP(H26,Licenciés!A:Y,25,FALSE)="COMP"),1,0) -> #N/A | O26: ETOILE DREUX ATHLETIC CLUB | R26: Longueur
A27: 800 m | B27: 1 | D27: =VLOOKUP(C27,Licenciés!A:C,2,FALSE) -> #N/A | E27: =VLOOKUP(C27,Licenciés!A:C,3,FALSE) -> #N/A | F27: 800 m | G27: 1 | I27: =VLOOKUP(H27,Licenciés!A:C,2,FALSE) -> #N/A | J27: =VLOOKUP(H27,Licenciés!A:C,3,FALSE) -> #N/A | K27: =IF((VLOOKUP(C27,Licenciés!A:Y,25,FALSE)="COMP"),1,0) -> #N/A | L27: =IF((VLOOKUP(H27,Licenciés!A:Y,25,FALSE)="COMP"),1,0) -> #N/A | O27: GIEN ATHLE MARATHON | R27: Triple-Saut
B28: 2 | D28: =VLOOKUP(C28,Licenciés!A:C,2,FALSE) -> #N/A | E28: =VLOOKUP(C28,Licenciés!A:C,3,FALSE) -> #N/A | G28: 2 | I28: =VLOOKUP(H28,Licenciés!A:C,2,FALSE) -> #N/A | J28: =VLOOKUP(H28,Licenciés!A:C,3,FALSE) -> #N/A | K28: =IF((VLOOKUP(C28,Licenciés!A:Y,25,FALSE)="COMP"),1,0) -> #N/A | L28: =IF((VLOOKUP(H28,Licenciés!A:Y,25,FALSE)="COMP"),1,0) -> #N/A | O28: J3 SPORTS AMILLY* | R28: Poids
A29: 1 500m | B29: 1 | D29: =VLOOKUP(C29,Licenciés!A:C,2,FALSE) -> #N/A | E29: =VLOOKUP(C29,Licenciés!A:C,3,FALSE) -> #N/A | F29: 1 500m | G29: 1 | I29: =VLOOKUP(H29,Licenciés!A:C,2,FALSE) -> #N/A | J29: =VLOOKUP(H29,Licenciés!A:C,3,FALSE) -> #N/A | K29: =IF((VLOOKUP(C29,Licenciés!A:Y,25,FALSE)="COMP"),1,0) -> #N/A | L29: =IF((VLOOKUP(H29,Licenciés!A:Y,25,FALSE)="COMP"),1,0) -> #N/A | O29: JA MONTFORT- GESNOIS | R29: Disque
B30: 2 | D30: =VLOOKUP(C30,Licenciés!A:C,2,FALSE) -> #N/A | E30: =VLOOKUP(C30,Licenciés!A:C,3,FALSE) -> #N/A | G30: 2 | I30: =VLOOKUP(H30,Licenciés!A:C,2,FALSE) -> #N/A | J30: =VLOOKUP(H30,Licenciés!A:C,3,FALSE) -> #N/A | K30: =IF((VLOOKUP(C30,Licenciés!A:Y,25,FALSE)="COMP"),1,0) -> #N/A | L30: =IF((VLOOKUP(H30,Licenciés!A:Y,25,FALSE)="COMP"),1,0) -> #N/A | O30: LA BERRICHONNE CHATEAUROUX ATH | R30: Marteau
A31: 3 000 m | B31: 1 | D31: =VLOOKUP(C31,Licenciés!A:C,2,FALSE) -> #N/A | E31: =VLOOKUP(C31,Licenciés!A:C,3,FALSE) -> #N/A | F31: 3000 m | G31: 1 | I31: =VLOOKUP(H31,Licenciés!A:C,2,FALSE) -> #N/A | J31: =VLOOKUP(H31,Licenciés!A:C,3,FALSE) -> #N/A | K31: =IF((VLOOKUP(C31,Licenciés!A:Y,25,FALSE)="COMP"),1,0) -> #N/A | L31: =IF((VLOOKUP(H31,Licenciés!A:Y,25,FALSE)="COMP"),1,0) -> #N/A | O31: OC CHATEAUDUN BONNEVAL A.* | R31: Javelot
B32: 2 | D32: =VLOOKUP(C32,Licenciés!A:C,2,FALSE) -> #N/A | E32: =VLOOKUP(C32,Licenciés!A:C,3,FALSE) -> #N/A | G32: 2 | I32: =VLOOKUP(H32,Licenciés!A:C,2,FALSE) -> #N/A | J32: =VLOOKUP(H32,Licenciés!A:C,3,FALSE) -> #N/A | K32: =IF((VLOOKUP(C32,Licenciés!A:Y,25,FALSE)="COMP"),1,0) -> #N/A | L32: =IF((VLOOKUP(H32,Licenciés!A:Y,25,FALSE)="COMP"),1,0) -> #N/A | O32: REVEIL SPORTIF DE ST CYR/LOIRE | R32: Relais 4 x 100 m
A33: 100 m Haies | B33: 1 | D33: =VLOOKUP(C33,Licenciés!A:C,2,FALSE) -> #N/A | E33: =VLOOKUP(C33,Licenciés!A:C,3,FALSE) -> #N/A | F33: 110 m Haies | G33: 1 | I33: =VLOOKUP(H33,Licenciés!A:C,2,FALSE) -> #N/A | J33: =VLOOKUP(H33,Licenciés!A:C,3,FALSE) -> #N/A | K33: =IF((VLOOKUP(C33,Licenciés!A:Y,25,FALSE)="COMP"),1,0) -> #N/A | L33: =IF((VLOOKUP(H33,Licenciés!A:Y,25,FALSE)="COMP"),1,0) -> #N/A | O33: SAINT PIERRE-MONTLOUIS ATHLE* | R33: Relais 4 x 400 m
B34: 2 | D34: =VLOOKUP(C34,Licenciés!A:C,2,FALSE) -> #N/A | E34: =VLOOKUP(C34,Licenciés!A:C,3,FALSE) -> #N/A | G34: 2 | I34: =VLOOKUP(H34,Licenciés!A:C,2,FALSE) -> #N/A | J34: =VLOOKUP(H34,Licenciés!A:C,3,FALSE) -> #N/A | K34: =IF((VLOOKUP(C34,Licenciés!A:Y,25,FALSE)="COMP"),1,0) -> #N/A | L34: =IF((VLOOKUP(H34,Licenciés!A:Y,25,FALSE)="COMP"),1,0) -> #N/A | O34: SARAN LOIRET ATHLETIC CLUB
A35: 400 m Haies | B35: 1 | D35: =VLOOKUP(C35,Licenciés!A:C,2,FALSE) -> #N/A | E35: =VLOOKUP(C35,Licenciés!A:C,3,FALSE) -> #N/A | F35: 400 m Haies | G35: 1 | I35: =VLOOKUP(H35,Licenciés!A:C,2,FALSE) -> #N/A | J35: =VLOOKUP(H35,Licenciés!A:C,3,FALSE) -> #N/A | K35: =IF((VLOOKUP(C35,Licenciés!A:Y,25,FALSE)="COMP"),1,0) -> #N/A | L35: =IF((VLOOKUP(H35,Licenciés!A:Y,25,FALSE)="COMP"),1,0) -> #N/A | O35: UNION SPORTIVE D AVORD*
B36: 2 | D36: =VLOOKUP(C36,Licenciés!A:C,2,FALSE) -> #N/A | E36: =VLOOKUP(C36,Licenciés!A:C,3,FALSE) -> #N/A | G36: 2 | I36: =VLOOKUP(H36,Licenciés!A:C,2,FALSE) -> #N/A | J36: =VLOOKUP(H36,Licenciés!A:C,3,FALSE) -> #N/A | K36: =IF((VLOOKUP(C36,Licenciés!A:Y,25,FALSE)="COMP"),1,0) -> #N/A | L36: =IF((VLOOKUP(H36,Licenciés!A:Y,25,FALSE)="COMP"),1,0) -> #N/A | O36: VIERZON-VIGNOUX-FOECY ATHLE*
A37: 3 000 m Marche | B37: 1 | D37: =VLOOKUP(C37,Licenciés!A:C,2,FALSE) -> #N/A | E37: =VLOOKUP(C37,Licenciés!A:C,3,FALSE) -> #N/A | F37: 5 000 m Marche | G37: 1 | I37: =VLOOKUP(H37,Licenciés!A:C,2,FALSE) -> #N/A | J37: =VLOOKUP(H37,Licenciés!A:C,3,FALSE) -> #N/A | K37: =IF((VLOOKUP(C37,Licenciés!A:Y,25,FALSE)="COMP"),1,0) -> #N/A | L37: =IF((VLOOKUP(H37,Licenciés!A:Y,25,FALSE)="COMP"),1,0) -> #N/A | O37: VINEUIL SPORTS
B38: 2 | D38: =VLOOKUP(C38,Licenciés!A:C,2,FALSE) -> #N/A | E38: =VLOOKUP(C38,Licenciés!A:C,3,FALSE) -> #N/A | G38: 2 | I38: =VLOOKUP(H38,Licenciés!A:C,2,FALSE) -> #N/A | J38: =VLOOKUP(H38,Licenciés!A:C,3,FALSE) -> #N/A | K38: =IF((VLOOKUP(C38,Licenciés!A:Y,25,FALSE)="COMP"),1,0) -> #N/A | L38: =IF((VLOOKUP(H38,Licenciés!A:Y,25,FALSE)="COMP"),1,0) -> #N/A
F39: 3 000 m steeple | G39: 1 | I39: =VLOOKUP(H39,Licenciés!A:C,2,FALSE) -> #N/A | J39: =VLOOKUP(H39,Licenciés!A:C,3,FALSE) -> #N/A | K39: =IF((VLOOKUP(C39,Licenciés!A:Y,25,FALSE)="COMP"),1,0) -> #N/A | L39: =IF((VLOOKUP(H39,Licenciés!A:Y,25,FALSE)="COMP"),1,0) -> #N/A
G40: 2 | I40: =VLOOKUP(H40,Licenciés!A:C,2,FALSE) -> #N/A | J40: =VLOOKUP(H40,Licenciés!A:C,3,FALSE) -> #N/A | K40: =IF((VLOOKUP(C40,Licenciés!A:Y,25,FALSE)="COMP"),1,0) -> #N/A | L40: =IF((VLOOKUP(H40,Licenciés!A:Y,25,FALSE)="COMP"),1,0) -> #N/A
A41: Hauteur | B41: 1 | D41: =VLOOKUP(C41,Licenciés!A:C,2,FALSE) -> #N/A | E41: =VLOOKUP(C41,Licenciés!A:C,3,FALSE) -> #N/A | F41: Hauteur | G41: 1 | I41: =VLOOKUP(H41,Licenciés!A:C,2,FALSE) -> #N/A | J41: =VLOOKUP(H41,Licenciés!A:C,3,FALSE) -> #N/A | K41: =IF((VLOOKUP(C41,Licenciés!A:Y,25,FALSE)="COMP"),1,0) -> #N/A | L41: =IF((VLOOKUP(H41,Licenciés!A:Y,25,FALSE)="COMP"),1,0) -> #N/A
B42: 2 | D42: =VLOOKUP(C42,Licenciés!A:C,2,FALSE) -> #N/A | E42: =VLOOKUP(C42,Licenciés!A:C,3,FALSE) -> #N/A | G42: 2 | I42: =VLOOKUP(H42,Licenciés!A:C,2,FALSE) -> #N/A | J42: =VLOOKUP(H42,Licenciés!A:C,3,FALSE) -> #N/A | K42: =IF((VLOOKUP(C42,Licenciés!A:Y,25,FALSE)="COMP"),1,0) -> #N/A | L42: =IF((VLOOKUP(H42,Licenciés!A:Y,25,FALSE)="COMP"),1,0) -> #N/A
...

Sheet Licenciés
A1: 2429463 | B1: ABADIE | C1: CHARLES | E1: MA | F1: M | G1: 37038 | Y1: =IF(ISERROR(AA1)=FALSE,"COMP","") -> COMP | Z1: 2429463 | AA1: =VLOOKUP(A1,Z:Z,1,FALSE) -> 2429463
A2: 2430543 | B2: ABDOULAIEV | C2: IBRAGIM | E2: CA | F2: M | G2: 37015 | Y2: =IF(ISERROR(AA2)=FALSE,"COMP","") -> COMP | Z2: 2430543 | AA2: =VLOOKUP(A2,Z:Z,1,FALSE) -> 2430543
A3: 2422611 | B3: ABDOULAYE | C3: MACALOU | E3: ES | F3: M | G3: 37023 | Y3: =IF(ISERROR(AA3)=FALSE,"COMP","") -> COMP | Z3: 2422611 | AA3: =VLOOKUP(A3,Z:Z,1,FALSE) -> 2422611
A4: 1856992 | B4: ABDOU-MOKTAR | C4: HABAB | E4: SE | F4: M | G4: 45008 | Y4: =IF(ISERROR(AA4)=FALSE,"COMP","") | Z4: 1929288 | AA4: =VLOOKUP(A4,Z:Z,1,FALSE) -> #N/A
A5: 508163 | B5: ABEL | C5: JACOB | E5: MA | F5: M | G5: 37021 | Y5: =IF(ISERROR(AA5)=FALSE,"COMP","") | Z5: 2287716 | AA5: =VLOOKUP(A5,Z:Z,1,FALSE) -> #N/A
A6: 1929288 | B6: ABENZA | C6: ARTHUR | E6: SE | F6: M | G6: 45003 | Y6: =IF(ISERROR(AA6)=FALSE,"COMP","") -> COMP | Z6: 2198121 | AA6: =VLOOKUP(A6,Z:Z,1,FALSE) -> 1929288
A7: 2287716 | B7: ABLANCOURT | C7: VADIM | E7: CA | F7: M | G7: 45003 | Y7: =IF(ISERROR(AA7)=FALSE,"COMP","") -> COMP | Z7: 2160922 | AA7: =VLOOKUP(A7,Z:Z,1,FALSE) -> 2287716
A8: 2191809 | B8: ABOAB | C8: MIREILLE | E8: MA | F8: F | G8: 37021 | Y8: =IF(ISERROR(AA8)=FALSE,"COMP","") | Z8: 378241 | AA8: =VLOOKUP(A8,Z:Z,1,FALSE) -> #N/A
A9: 2198121 | B9: ABOUO | C9: NITSHIA-PRIELLE | E9: CA | F9: F | G9: 28011 | Y9: =IF(ISERROR(AA9)=FALSE,"COMP","") -> COMP | Z9: 603467 | AA9: =VLOOKUP(A9,Z:Z,1,FALSE) -> 2198121
A10: 2160922 | B10: ABOUT | C10: HEDI | E10: ES | F10: M | G10: 28037 | Y10: =IF(ISERROR(AA10)=FALSE,"COMP","") -> COMP | Z10: 1157245 | AA10: =VLOOKUP(A10,Z:Z,1,FALSE) -> 2160922
A11: 2255906 | B11: ABRAHAM | C11: JOCELYNE | E11: MA | F11: F | G11: 37024 | Y11: =IF(ISERROR(AA11)=FALSE,"COMP","") | Z11: 2357548 | AA11: =VLOOKUP(A11,Z:Z,1,FALSE) -> #N/A
A12: 2054874 | B12: ABRASSART | C12: ANNE | E12: MA | F12: F | G12: 18031 | Y12: =IF(ISERROR(AA12)=FALSE,"COMP","") | Z12: 1665548 | AA12: =VLOOKUP(A12,Z:Z,1,FALSE) -> #N/A
... A183: 1260160 | B183: ASSELIN | C183: MARIE-CLAUDE | E183: MA | F183: F | G183: 45044 | Y183: =IF(ISERROR(AA183)=FALSE,"COMP","") | Z183: 2426859 | AA183: =VLOOKUP(A183,Z:Z,1,FALSE) -> #N/A
A184: 2210939 | B184: ASSELINEAU | C184: AURELIEN | E184: SE | F184: M | G184: 45009 | L184: 37+L184038 | Y184: =IF(ISERROR(AA184)=FALSE,"COMP","") | Z184: 2418950 | AA184: =VLOOKUP(A184,Z:Z,1,FALSE) -> #N/A
A185: 361997 | B185: ASSELINEAU | C185: GHISLAIN | E185: MA | F185: M | G185: 45038 | Y185: =IF(ISERROR(AA185)=FALSE,"COMP","") -> COMP | Z185: 737082 | AA185: =VLOOKUP(A185,Z:Z,1,FALSE) -> 361997
A186: 2350058 | B186: ASSERIN | C186: CAMILLE | E186: CA | F186: M | G186: 45045 | Y186: =IF(ISERROR(AA186)=FALSE,"COMP","") -> COMP | Z186: 326509 | AA186: =VLOOKUP(A186,Z:Z,1,FALSE) -> 2350058
A187: 2404344 | B187: ASSIE | C187: JEAN-PIERRE | E187: MA | F187: M | G187: 45011 | Y187: =IF(ISERROR(AA187)=FALSE,"COMP","") | Z187: 1157914 | AA187: =VLOOKUP(A187,Z:Z,1,FALSE) -> #N/A
A188: 1513079 | B188: ASTOURY | C188: JEAN-FRANCOIS | E188: MA | F188: M | G188: 37046 | Y188: =IF(ISERROR(AA188)=FALSE,"COMP","") | Z188: 647863 | AA188: =VLOOKUP(A188,Z:Z,1,FALSE) -> #N/A
A189: 2396189 | B189: ATHEY-FOUGEROUSE | C189: BRICE | E189: JU | F189: M | G189: 41012 | Y189: =IF(ISERROR(AA189)=FALSE,"COMP","") -> COMP | Z189: 1216156 | AA189: =VLOOKUP(A189,Z:Z,1,FALSE) -> 2396189
A190: 1101115 | B190: ATIKI | C190: KARIM | E190: MA | F190: M | G190: 36003 | Y190: =IF(ISERROR(AA190)=FALSE,"COMP","") -> COMP | Z190: 2089479 | AA190: =VLOOKUP(A190,Z:Z,1,FALSE) -> 1101115
A191: 2336175 | B191: AUBAILLY | C191: CATHERINE | E191: MA | F191: F | G191: 36023 | Y191: =IF(ISERROR(AA191)=FALSE,"COMP","") | Z191: 2228307 | AA191: =VLOOKUP(A191,Z:Z,1,FALSE) -> #N/A
A192: 238993 | B192: AUBAILLY | C192: RAYMOND | E192: MA | F192: M | G192: 18005 | Y192: =IF(ISERROR(AA192)=FALSE,"COMP","") | Z192: 398199 | AA192: =VLOOKUP(A192,Z:Z,1,FALSE) -> #N/A
A193: 2349170 | B193: AUBAISLE | C193: CAROLE | E193: MA | F193: F | G193: 18029 | Y193: =IF(ISERROR(AA193)=FALSE,"COMP","") | Z193: 1845138 | AA193: =VLOOKUP(A193,Z:Z,1,FALSE) -> #N/A
A194: 2350680 | B194: AUBARD | C194: ALEXANDRE | E194: SE | F194: M | G194: 36024 | Y194: =IF(ISERROR(AA194)=FALSE,"COMP","") | Z194: 1690951 | AA194: =VLOOKUP(A194,Z:Z,1,FALSE) -> #N/A
A195: 2265128 | B195: AUBARD | C195: ANTONIN | E195: JU | F195: M | G195: 36024 | Y195: =IF(ISERROR(AA195)=FALSE,"COMP","") | Z195: 1732501 | AA195: =VLOOKUP(A195,Z:Z,1,FALSE) -> #N/A
A196: 2159477 | B196: AUBARD | C196: EMMANUEL | E196: MA | F196: M | G196: 36024 | Y196: =IF(ISERROR(AA196)=FALSE,"COMP","") | Z196: 2125785 | AA196: =VLOOKUP(A196,Z:Z,1,FALSE) -> #N/A
... A10812: 1877742 | B10812: CHAULOUX | C10812: JULIEN | E10812: MA | F10812: M | G10812: 44073 | Y10812: =IF(ISERROR(AA10812)=FALSE,"COMP","") | Z10812: 2077909 | AA10812: =VLOOKUP(A10812,Z:Z,1,FALSE) -> #N/A
A10813: 2379823 | B10813: CHAUMOITRE | C10813: ELSA | E10813: SE | F10813: F | G10813: 44039 | Y10813: =IF(ISERROR(AA10813)=FALSE,"COMP","") | AA10813: =VLOOKUP(A10813,Z:Z,1,FALSE) -> #N/A
A10814: 1564475 | B10814: CHAUMONT | C10814: AURELIE | E10814: MA | F10814: F | G10814: 44067 | Y10814: =IF(ISERROR(AA10814)=FALSE,"COMP","") -> COMP | AA10814: =VLOOKUP(A10814,Z:Z,1,FALSE) -> 1564475
A10815: 1594986 | B10815: CHAUMULOT | C10815: LIAM | E10815: JU | F10815: M | G10815: 72080 | Y10815: =IF(ISERROR(AA10815)=FALSE,"COMP","") -> COMP | AA10815: =VLOOKUP(A10815,Z:Z,1,FALSE) -> 1594986
A10816: 2290825 | B10816: CHAUSSE | C10816: MAXIME | E10816: JU | F10816: M | G10816: 72041 | Y10816: =IF(ISERROR(AA10816)=FALSE,"COMP","") -> COMP | AA10816: =VLOOKUP(A10816,Z:Z,1,FALSE) -> 2290825
A10817: 2089173 | B10817: CHAUSSEE | C10817: FRANCOIS | E10817: MA | F10817: M | G10817: 44090 | Y10817: =IF(ISERROR(AA10817)=FALSE,"COMP","") | AA10817: =VLOOKUP(A10817,Z:Z,1,FALSE) -> #N/A
A10818: 1557875 | B10818: CHAUSSEE | C10818: MELANIE | E10818: MA | F10818: F | G10818: 44090 | Y10818: =IF(ISERROR(AA10818)=FALSE,"COMP","") | AA10818: =VLOOKUP(A10818,Z:Z,1,FALSE) -> #N/A
A10819: 1906850 | B10819: CHAUSSEPIED | C10819: MARINA | E10819: MA | F10819: F | G10819: 49054 | Y10819: =IF(ISERROR(AA10819)=FALSE,"COMP","") | AA10819: =VLOOKUP(A10819,Z:Z,1,FALSE) -> #N/A
A10820: 2287165 | B10820: CHAUSSEPIED | C10820: PABLO | E10820: JU | F10820: M | G10820: 44039 | Y10820: =IF(ISERROR(AA10820)=FALSE,"COMP","") -> COMP | AA10820: =VLOOKUP(A10820,Z:Z,1,FALSE) -> 2287165
A10821: 555389 | B10821: CHAUTARD | C10821: JEAN-BAPTISTE | E10821: MA | F10821: M | G10821: 72041 | Y10821: =IF(ISERROR(AA10821)=FALSE,"COMP","") | AA10821: =VLOOKUP(A10821,Z:Z,1,FALSE) -> #N/A
A10822: 2207453 | B10822: CHAUVAT | C10822: ANNIE | E10822: MA | F10822: F | G10822: 49002 | Y10822: =IF(ISERROR(AA10822)=FALSE,"COMP","") | AA10822: =VLOOKUP(A10822,Z:Z,1,FALSE) -> #N/A
A10823: 1998697 | B10823: CHAUVAT | C10823: FANTINE | E10823: CA | F10823: F | G10823: 49006 | Y10823: =IF(ISERROR(AA10823)=FALSE,"COMP","") -> COMP | AA10823: =VLOOKUP(A10823,Z:Z,1,FALSE) -> 1998697
A10824: 2347949 | B10824: CHAUVAT | C10824: XAVIER | E10824: MA | F10824: M | G10824: 49001 | Y10824: =IF(ISERROR(AA10824)=FALSE,"COMP","") | AA10824: =VLOOKUP(A10824,Z:Z,1,FALSE) -> #N/A
... A24210: 2077909 | B24210: ZUFFI | C24210: LILY | E24210: JU | F24210: F | G24210: 49009 | Y24210: =IF(ISERROR(AA24210)=FALSE,"COMP","") -> COMP | AA24210: =VLOOKUP(A24210,Z:Z,1,FALSE) -> 2077909

Sheet Equipes
A1: Licence (10 max) obligatoire si licencié | B1: Nom (20 caractères max) Obligatoire | C1: Prénom (15 caractères max) - obligatoire | D1: Catégorie (2 caractères max) - obligatoire | E1: Sexe (1 caractère) - obligatoire | F1: Code d'appel (3 caractères - obligatoire) | G1: Code d'appel ep. N+1 eprv multiple (3 caractères) | H1: Perf Engagement num. (sans séparateur) | I1: N° d'ordre dans l'équipe (obligatoire pour import équipe Interclub) | J1: N° club athlète (6 caractères) | K1: nom club (30 caractères max) obligatoire si non licencié | L1: Code Famille (obligatoire Re, si relais) | M1: Nom équipe relais (30 caractères max) - obligatoire si relais | N1: Ordre composition relais (1 caractère) | O1: Catégorie épreuve relais (obligatoire si relais) | P1: Sexe épreuve relais (obligatoire si relais) | Q1: Nom épreuve (12 caractères max) | R1: Dossard | S1: Nationalité (3 caractères) - obligatoire si non licencié
A2: nolicence | B2: nom | C2: prenom | D2: categorie | E2: sexe | F2: codeappel | G2: epcombine | H2: perfengagement | I2: noordreequipe | J2: noclub | K2: nomclub | L2: codefamille | M2: nomrelais | N2: noordrerelais | O2: categorieep | P2: sexeep | Q2: nomepreuve | R2: nodossard | S2: nationalite
A3: =IF(ISERROR(Interclubs2022!D21)=FALSE,Interclubs2022!C21,"") | B3: =IF(A3<>"",VLOOKUP(A3,Licenciés!A:F,2,FALSE),"") | C3: =IF(A3<>"",VLOOKUP(A3,Licenciés!A:F,3,FALSE),"") | D3: =IF(A3<>"",VLOOKUP(A3,Licenciés!A:F,5,FALSE),"") | E3: =IF(A3<>"",VLOOKUP(A3,Licenciés!A:F,6,FALSE),"") | F3: =IF(A3<>"", 110,"") | I3: =IF(A3<>"",Interclubs2022!B21,"") | J3: =IF(A3<>"",VLOOKUP(A3,Licenciés!A:G,7,FALSE),"")
A4: =IF(ISERROR(Interclubs2022!D22)=FALSE,Interclubs2022!C22,"") | B4: =IF(A4<>"",VLOOKUP(A4,Licenciés!A:F,2,FALSE),"") | C4: =IF(A4<>"",VLOOKUP(A4,Licenciés!A:F,3,FALSE),"") | D4: =IF(A4<>"",VLOOKUP(A4,Licenciés!A:F,5,FALSE),"") | E4: =IF(A4<>"",VLOOKUP(A4,Licenciés!A:F,6,FALSE),"") | F4: =IF(A4<>"", 110,"") | I4: =IF(A4<>"",Interclubs2022!B22,"") | J4: =IF(A4<>"",VLOOKUP(A4,Licenciés!A:G,7,FALSE),"")
A5: =IF(ISERROR(Interclubs2022!D23)=FALSE,Interclubs2022!C23,"") | B5: =IF(A5<>"",VLOOKUP(A5,Licenciés!A:F,2,FALSE),"") | C5: =IF(A5<>"",VLOOKUP(A5,Licenciés!A:F,3,FALSE),"") | D5: =IF(A5<>"",VLOOKUP(A5,Licenciés!A:F,5,FALSE),"") | E5: =IF(A5<>"",VLOOKUP(A5,Licenciés!A:F,6,FALSE),"") | F5: =IF(A5<>"", 120,"") | I5: =IF(A5<>"",Interclubs2022!B23,"") | J5: =IF(A5<>"",VLOOKUP(A5,Licenciés!A:G,7,FALSE),"")
A6: =IF(ISERROR(Interclubs2022!D24)=FALSE,Interclubs2022!C24,"") | B6: =IF(A6<>"",VLOOKUP(A6,Licenciés!A:F,2,FALSE),"") | C6: =IF(A6<>"",VLOOKUP(A6,Licenciés!A:F,3,FALSE),"") | D6: =IF(A6<>"",VLOOKUP(A6,Licenciés!A:F,5,FALSE),"") | E6: =IF(A6<>"",VLOOKUP(A6,Licenciés!A:F,6,FALSE),"") | F6: =IF(A6<>"", 120,"") | I6: =IF(A6<>"",Interclubs2022!B24,"") | J6: =IF(A6<>"",VLOOKUP(A6,Licenciés!A:G,7,FALSE),"")
A7: =IF(ISERROR(Interclubs2022!D25)=FALSE,Interclubs2022!C25,"") | B7: =IF(A7<>"",VLOOKUP(A7,Licenciés!A:F,2,FALSE),"") | C7: =IF(A7<>"",VLOOKUP(A7,Licenciés!A:F,3,FALSE),"") | D7: =IF(A7<>"",VLOOKUP(A7,Licenciés!A:F,5,FALSE),"") | E7: =IF(A7<>"",VLOOKUP(A7,Licenciés!A:F,6,FALSE),"") | F7: =IF(A7<>"", 140,"") | I7: =IF(A7<>"",Interclubs2022!B25,"") | J7: =IF(A7<>"",VLOOKUP(A7,Licenciés!A:G,7,FALSE),"")
A8: =IF(ISERROR(Interclubs2022!D26)=FALSE,Interclubs2022!C26,"") | B8: =IF(A8<>"",VLOOKUP(A8,Licenciés!A:F,2,FALSE),"") | C8: =IF(A8<>"",VLOOKUP(A8,Licenciés!A:F,3,FALSE),"") | D8: =IF(A8<>"",VLOOKUP(A8,Licenciés!A:F,5,FALSE),"") | E8: =IF(A8<>"",VLOOKUP(A8,Licenciés!A:F,6,FALSE),"") | F8: =IF(A8<>"", 140,"") | I8: =IF(A8<>"",Interclubs2022!B26,"") | J8: =IF(A8<>"",VLOOKUP(A8,Licenciés!A:G,7,FALSE),"")
A9: =IF(ISERROR(Interclubs2022!D27)=FALSE,Interclubs2022!C27,"") | B9: =IF(A9<>"",VLOOKUP(A9,Licenciés!A:F,2,FALSE),"") | C9: =IF(A9<>"",VLOOKUP(A9,Licenciés!A:F,3,FALSE),"") | D9: =IF(A9<>"",VLOOKUP(A9,Licenciés!A:F,5,FALSE),"") | E9: =IF(A9<>"",VLOOKUP(A9,Licenciés!A:F,6,FALSE),"") | F9: =IF(A9<>"", 208,"") | I9: =IF(A9<>"",Interclubs2022!B27,"") | J9: =IF(A9<>"",VLOOKUP(A9,Licenciés!A:G,7,FALSE),"")
A10: =IF(ISERROR(Interclubs2022!D28)=FALSE,Interclubs2022!C28,"") | B10: =IF(A10<>"",VLOOKUP(A10,Licenciés!A:F,2,FALSE),"") | C10: =IF(A10<>"",VLOOKUP(A10,Licenciés!A:F,3,FALSE),"") | D10: =IF(A10<>"",VLOOKUP(A10,Licenciés!A:F,5,FALSE),"") | E10: =IF(A10<>"",VLOOKUP(A10,Licenciés!A:F,6,FALSE),"") | F10: =IF(A10<>"", 208,"") | I10: =IF(A10<>"",Interclubs2022!B28,"") | J10: =IF(A10<>"",VLOOKUP(A10,Licenciés!A:G,7,FALSE),"")
A11: =IF(ISERROR(Interclubs2022!D29)=FALSE,Interclubs2022!C29,"") | B11: =IF(A11<>"",VLOOKUP(A11,Licenciés!A:F,2,FALSE),"") | C11: =IF(A11<>"",VLOOKUP(A11,Licenciés!A:F,3,FALSE),"") | D11: =IF(A11<>"",VLOOKUP(A11,Licenciés!A:F,5,FALSE),"") | E11: =IF(A11<>"",VLOOKUP(A11,Licenciés!A:F,6,FALSE),"") | F11: =IF(A11<>"", 215,"") | I11: =IF(A11<>"",Interclubs2022!B29,"") | J11: =IF(A11<>"",VLOOKUP(A11,Licenciés!A:G,7,FALSE),"")
A12: =IF(ISERROR(Interclubs2022!D30)=FALSE,Interclubs2022!C30,"") | B12: =IF(A12<>"",VLOOKUP(A12,Licenciés!A:F,2,FALSE),"") | C12: =IF(A12<>"",VLOOKUP(A12,Licenciés!A:F,3,FALSE),"") | D12: =IF(A12<>"",VLOOKUP(A12,Licenciés!A:F,5,FALSE),"") | E12: =IF(A12<>"",VLOOKUP(A12,Licenciés!A:F,6,FALSE),"") | F12: =IF(A12<>"", 215,"") | I12: =IF(A12<>"",Interclubs2022!B30,"") | J12: =IF(A12<>"",VLOOKUP(A12,Licenciés!A:G,7,FALSE),"")
A13: =IF(ISERROR(Interclubs2022!D31)=FALSE,Interclubs2022!C31,"") | B13: =IF(A13<>"",VLOOKUP(A13,Licenciés!A:F,2,FALSE),"") | C13: =IF(A13<>"",VLOOKUP(A13,Licenciés!A:F,3,FALSE),"") | D13: =IF(A13<>"",VLOOKUP(A13,Licenciés!A:F,5,FALSE),"") | E13: =IF(A13<>"",VLOOKUP(A13,Licenciés!A:F,6,FALSE),"") | F13: =IF(A13<>"", 230,"") | I13: =IF(A13<>"",Interclubs2022!B31,"") | J13: =IF(A13<>"",VLOOKUP(A13,Licenciés!A:G,7,FALSE),"")
A14: =IF(ISERROR(Interclubs2022!D32)=FALSE,Interclubs2022!C32,"") | B14: =IF(A14<>"",VLOOKUP(A14,Licenciés!A:F,2,FALSE),"") | C14: =IF(A14<>"",VLOOKUP(A14,Licenciés!A:F,3,FALSE),"") | D14: =IF(A14<>"",VLOOKUP(A14,Licenciés!A:F,5,FALSE),"") | E14: =IF(A14<>"",VLOOKUP(A14,Licenciés!A:F,6,FALSE),"") | F14: =IF(A14<>"", 230,"") | I14: =IF(A14<>"",Interclubs2022!B32,"") | J14: =IF(A14<>"",VLOOKUP(A14,Licenciés!A:G,7,FALSE),"")
A15: =IF(ISERROR(Interclubs2022!D33)=FALSE,Interclubs2022!C33,"") | B15: =IF(A15<>"",VLOOKUP(A15,Licenciés!A:F,2,FALSE),"") | C15: =IF(A15<>"",VLOOKUP(A15,Licenciés!A:F,3,FALSE),"") | D15: =IF(A15<>"",VLOOKUP(A15,Licenciés!A:F,5,FALSE),"") | E15: =IF(A15<>"",VLOOKUP(A15,Licenciés!A:F,6,FALSE),"") | F15: =IF(A15<>"", 310,"") | I15: =IF(A15<>"",Interclubs2022!B33,"") | J15: =IF(A15<>"",VLOOKUP(A15,Licenciés!A:G,7,FALSE),"")
A16: =IF(ISERROR(Interclubs2022!D34)=FALSE,Interclubs2022!C34,"") | B16: =IF(A16<>"",VLOOKUP(A16,Licenciés!A:F,2,FALSE),"") | C16: =IF(A16<>"",VLOOKUP(A16,Licenciés!A:F,3,FALSE),"") | D16: =IF(A16<>"",VLOOKUP(A16,Licenciés!A:F,5,FALSE),"") | E16: =IF(A16<>"",VLOOKUP(A16,Licenciés!A:F,6,FALSE),"") | F16: =IF(A16<>"", 310,"") | I16: =IF(A16<>"",Interclubs2022!B34,"") | J16: =IF(A16<>"",VLOOKUP(A16,Licenciés!A:G,7,FALSE),"")
A17: =IF(ISERROR(Interclubs2022!D35)=FALSE,Interclubs2022!C35,"") | B17: =IF(A17<>"",VLOOKUP(A17,Licenciés!A:F,2,FALSE),"") | C17: =IF(A17<>"",VLOOKUP(A17,Licenciés!A:F,3,FALSE),"") | D17: =IF(A17<>"",VLOOKUP(A17,Licenciés!A:F,5,FALSE),"") | E17: =IF(A17<>"",VLOOKUP(A17,Licenciés!A:F,6,FALSE),"") | F17: =IF(A17<>"", 340,"") | I17: =IF(A17<>"",Interclubs2022!B35,"") | J17: =IF(A17<>"",VLOOKUP(A17,Licenciés!A:G,7,FALSE),"")
A18: =IF(ISERROR(Interclubs2022!D36)=FALSE,Interclubs2022!C36,"") | B18: =IF(A18<>"",VLOOKUP(A18,Licenciés!A:F,2,FALSE),"") | C18: =IF(A18<>"",VLOOKUP(A18,Licenciés!A:F,3,FALSE),"") | D18: =IF(A18<>"",VLOOKUP(A18,Licenciés!A:F,5,FALSE),"") | E18: =IF(A18<>"",VLOOKUP(A18,Licenciés!A:F,6,FALSE),"") | F18: =IF(A18<>"", 340,"") | I18: =IF(A18<>"",Interclubs2022!B36,"") | J18: =IF(A18<>"",VLOOKUP(A18,Licenciés!A:G,7,FALSE),"")
A19: =IF(ISERROR(Interclubs2022!D37)=FALSE,Interclubs2022!C37,"") | B19: =IF(A19<>"",VLOOKUP(A19,Licenciés!A:F,2,FALSE),"") | C19: =IF(A19<>"",VLOOKUP(A19,Licenciés!A:F,3,FALSE),"") | D19: =IF(A19<>"",VLOOKUP(A19,Licenciés!A:F,5,FALSE),"") | E19: =IF(A19<>"",VLOOKUP(A19,Licenciés!A:F,6,FALSE),"") | F19: =IF(A19<>"", 903,"") | I19: =IF(A19<>"",Interclubs2022!B37,"") | J19: =IF(A19<>"",VLOOKUP(A19,Licenciés!A:G,7,FALSE),"")
A20: =IF(ISERROR(Interclubs2022!D38)=FALSE,Interclubs2022!C38,"") | B20: =IF(A20<>"",VLOOKUP(A20,Licenciés!A:F,2,FALSE),"") | C20: =IF(A20<>"",VLOOKUP(A20,Licenciés!A:F,3,FALSE),"") | D20: =IF(A20<>"",VLOOKUP(A20,Licenciés!A:F,5,FALSE),"") | E20: =IF(A20<>"",VLOOKUP(A20,Licenciés!A:F,6,FALSE),"") | F20: =IF(A20<>"", 903,"") | I20: =IF(A20<>"",Interclubs2022!B38,"") | J20: =IF(A20<>"",VLOOKUP(A20,Licenciés!A:G,7,FALSE),"")
A21: =IF(ISERROR(Interclubs2022!D41)=FALSE,Interclubs2022!C41,"") | B21: =IF(A21<>"",VLOOKUP(A21,Licenciés!A:F,2,FALSE),"") | C21: =IF(A21<>"",VLOOKUP(A21,Licenciés!A:F,3,FALSE),"") | D21: =IF(A21<>"",VLOOKUP(A21,Licenciés!A:F,5,FALSE),"") | E21: =IF(A21<>"",VLOOKUP(A21,Licenciés!A:F,6,FALSE),"") | F21: =IF(A21<>"", 501,"") | I21: =IF(A21<>"",Interclubs2022!B41,"") | J21: =IF(A21<>"",VLOOKUP(A21,Licenciés!A:G,7,FALSE),"")
A22: =IF(ISERROR(Interclubs2022!D42)=FALSE,Interclubs2022!C42,"") | B22: =IF(A22<>"",VLOOKUP(A22,Licenciés!A:F,2,FALSE),"") | C22: =IF(A22<>"",VLOOKUP(A22,Licenciés!A:F,3,FALSE),"") | D22: =IF(A22<>"",VLOOKUP(A22,Licenciés!A:F,5,FALSE),"") | E22: =IF(A22<>"",VLOOKUP(A22,Licenciés!A:F,6,FALSE),"") | F22: =IF(A22<>"", 501,"") | I22: =IF(A22<>"",Interclubs2022!B42,"") | J22: =IF(A22<>"",VLOOKUP(A22,Licenciés!A:G,7,FALSE),"")
A23: =IF(ISERROR(Interclubs2022!D43)=FALSE,Interclubs2022!C43,"") | B23: =IF(A23<>"",VLOOKUP(A23,Licenciés!A:F,2,FALSE),"") | C23: =IF(A23<>"",VLOOKUP(A23,Licenciés!A:F,3,FALSE),"") | D23: =IF(A23<>"",VLOOKUP(A23,Licenciés!A:F,5,FALSE),"") | E23: =IF(A23<>"",VLOOKUP(A23,Licenciés!A:F,6,FALSE),"") | F23: =IF(A23<>"", 502,"") | I23: =IF(A23<>"",Interclubs2022!B43,"") | J23: =IF(A23<>"",VLOOKUP(A23,Licenciés!A:G,7,FALSE),"")
A24: =IF(ISERROR(Interclubs2022!D44)=FALSE,Interclubs2022!C44,"") | B24: =IF(A24<>"",VLOOKUP(A24,Licenciés!A:F,2,FALSE),"") | C24: =IF(A24<>"",VLOOKUP(A24,Licenciés!A:F,3,FALSE),"") | D24: =IF(A24<>"",VLOOKUP(A24,Licenciés!A:F,5,FALSE),"") | E24: =IF(A24<>"",VLOOKUP(A24,Licenciés!A:F,6,FALSE),"") | F24: =IF(A24<>"", 502,"") | I24: =IF(A24<>"",Interclubs2022!B44,"") | J24: =IF(A24<>"",VLOOKUP(A24,Licenciés!A:G,7,FALSE),"")
A25: =IF(ISERROR(Interclubs2022!D45)=FALSE,Interclubs2022!C45,"") | B25: =IF(A25<>"",VLOOKUP(A25,Licenciés!A:F,2,FALSE),"") | C25: =IF(A25<>"",VLOOKUP(A25,Licenciés!A:F,3,FALSE),"") | D25: =IF(A25<>"",VLOOKUP(A25,Licenciés!A:F,5,FALSE),"") | E25: =IF(A25<>"",VLOOKUP(A25,Licenciés!A:F,6,FALSE),"") | F25: =IF(A25<>"", 503,"") | I25: =IF(A25<>"",Interclubs2022!B45,"") | J25: =IF(A25<>"",VLOOKUP(A25,Licenciés!A:G,7,FALSE),"")
A26: =IF(ISERROR(Interclubs2022!D46)=FALSE,Interclubs2022!C46,"") | B26: =IF(A26<>"",VLOOKUP(A26,Licenciés!A:F,2,FALSE),"") | C26: =IF(A26<>"",VLOOKUP(A26,Licenciés!A:F,3,FALSE),"") | D26: =IF(A26<>"",VLOOKUP(A26,Licenciés!A:F,5,FALSE),"") | E26: =IF(A26<>"",VLOOKUP(A26,Licenciés!A:F,6,FALSE),"") | F26: =IF(A26<>"", 503,"") | I26: =IF(A26<>"",Interclubs2022!B46,"") | J26: =IF(A26<>"",VLOOKUP(A26,Licenciés!A:G,7,FALSE),"")
A27: =IF(ISERROR(Interclubs2022!D47)=FALSE,Interclubs2022!C47,"") | B27: =IF(A27<>"",VLOOKUP(A27,Licenciés!A:F,2,FALSE),"") | C27: =IF(A27<>"",VLOOKUP(A27,Licenciés!A:F,3,FALSE),"") | D27: =IF(A27<>"",VLOOKUP(A27,Licenciés!A:F,5,FALSE),"") | E27: =IF(A27<>"",VLOOKUP(A27,Licenciés!A:F,6,FALSE),"") | F27: =IF(A27<>"", 504,"") | I27: =IF(A27<>"",Interclubs2022!B47,"") | J27: =IF(A27<>"",VLOOKUP(A27,Licenciés!A:G,7,FALSE),"")
A28: =IF(ISERROR(Interclubs2022!D48)=FALSE,Interclubs2022!C48,"") | B28: =IF(A28<>"",VLOOKUP(A28,Licenciés!A:F,2,FALSE),"") | C28: =IF(A28<>"",VLOOKUP(A28,Licenciés!A:F,3,FALSE),"") | D28: =IF(A28<>"",VLOOKUP(A28,Licenciés!A:F,5,FALSE),"") | E28: =IF(A28<>"",VLOOKUP(A28,Licenciés!A:F,6,FALSE),"") | F28: =IF(A28<>"", 504,"") | I28: =IF(A28<>"",Interclubs2022!B48,"") | J28: =IF(A28<>"",VLOOKUP(A28,Licenciés!A:G,7,FALSE),"")
A29: =IF(ISERROR(Interclubs2022!D49)=FALSE,Interclubs2022!C49,"") | B29: =IF(A29<>"",VLOOKUP(A29,Licenciés!A:F,2,FALSE),"") | C29: =IF(A29<>"",VLOOKUP(A29,Licenciés!A:F,3,FALSE),"") | D29: =IF(A29<>"",VLOOKUP(A29,Licenciés!A:F,5,FALSE),"") | E29: =IF(A29<>"",VLOOKUP(A29,Licenciés!A:F,6,FALSE),"") | F29: =IF(A29<>"", 604,"") | I29: =IF(A29<>"",Interclubs2022!B49,"") | J29: =IF(A29<>"",VLOOKUP(A29,Licenciés!A:G,7,FALSE),"")
A30: =IF(ISERROR(Interclubs2022!D50)=FALSE,Interclubs2022!C50,"") | B30: =IF(A30<>"",VLOOKUP(A30,Licenciés!A:F,2,FALSE),"") | C30: =IF(A30<>"",VLOOKUP(A30,Licenciés!A:F,3,FALSE),"") | D30: =IF(A30<>"",VLOOKUP(A30,Licenciés!A:F,5,FALSE),"") | E30: =IF(A30<>"",VLOOKUP(A30,Licenciés!A:F,6,FALSE),"") | F30: =IF(A30<>"", 604,"") | I30: =IF(A30<>"",Interclubs2022!B50,"") | J30: =IF(A30<>"",VLOOKUP(A30,Licenciés!A:G,7,FALSE),"")
A31: =IF(ISERROR(Interclubs2022!D51)=FALSE,Interclubs2022!C51,"") | B31: =IF(A31<>"",VLOOKUP(A31,Licenciés!A:F,2,FALSE),"") | C31: =IF(A31<>"",VLOOKUP(A31,Licenciés!A:F,3,FALSE),"") | D31: =IF(A31<>"",VLOOKUP(A31,Licenciés!A:F,5,FALSE),"") | E31: =IF(A31<>"",VLOOKUP(A31,Licenciés!A:F,6,FALSE),"") | F31: =IF(A31<>"", 610,"") | I31: =IF(A31<>"",Interclubs2022!B51,"") | J31: =IF(A31<>"",VLOOKUP(A31,Licenciés!A:G,7,FALSE),"")
A32: =IF(ISERROR(Interclubs2022!D52)=FALSE,Interclubs2022!C52,"") | B32: =IF(A32<>"",VLOOKUP(A32,Licenciés!A:F,2,FALSE),"") | C32: =IF(A32<>"",VLOOKUP(A32,Licenciés!A:F,3,FALSE),"") | D32: =IF(A32<>"",VLOOKUP(A32,Licenciés!A:F,5,FALSE),"") | E32: =IF(A32<>"",VLOOKUP(A32,Licenciés!A:F,6,FALSE),"") | F32: =IF(A32<>"", 610,"") | I32: =IF(A32<>"",Interclubs2022!B52,"") | J32: =IF(A32<>"",VLOOKUP(A32,Licenciés!A:G,7,FALSE),"")
A33: =IF(ISERROR(Interclubs2022!D53)=FALSE,Interclubs2022!C53,"") | B33: =IF(A33<>"",VLOOKUP(A33,Licenciés!A:F,2,FALSE),"") | C33: =IF(A33<>"",VLOOKUP(A33,Licenciés!A:F,3,FALSE),"") | D33: =IF(A33<>"",VLOOKUP(A33,Licenciés!A:F,5,FALSE),"") | E33: =IF(A33<>"",VLOOKUP(A33,Licenciés!A:F,6,FALSE),"") | F33: =IF(A33<>"", 634,"") | I33: =IF(A33<>"",Interclubs2022!B53,"") | J33: =IF(A33<>"",VLOOKUP(A33,Licenciés!A:G,7,FALSE),"")
A34: =IF(ISERROR(Interclubs2022!D54)=FALSE,Interclubs2022!C54,"") | B34: =IF(A34<>"",VLOOKUP(A34,Licenciés!A:F,2,FALSE),"") | C34: =IF(A34<>"",VLOOKUP(A34,Licenciés!A:F,3,FALSE),"") | D34: =IF(A34<>"",VLOOKUP(A34,Licenciés!A:F,5,FALSE),"") | E34: =IF(A34<>"",VLOOKUP(A34,Licenciés!A:F,6,FALSE),"") | F34: =IF(A34<>"", 634,"") | I34: =IF(A34<>"",Interclubs2022!B54,"") | J34: =IF(A34<>"",VLOOKUP(A34,Licenciés!A:G,7,FALSE),"")
A35: =IF(ISERROR(Interclubs2022!D55)=FALSE,Interclubs2022!C55,"") | B35: =IF(A35<>"",VLOOKUP(A35,Licenciés!A:F,2,FALSE),"") | C35: =IF(A35<>"",VLOOKUP(A35,Licenciés!A:F,3,FALSE),"") | D35: =IF(A35<>"",VLOOKUP(A35,Licenciés!A:F,5,FALSE),"") | E35: =IF(A35<>"",VLOOKUP(A35,Licenciés!A:F,6,FALSE),"") | F35: =IF(A35<>"", 660,"") | I35: =IF(A35<>"",Interclubs2022!B55,"") | J35: =IF(A35<>"",VLOOKUP(A35,Licenciés!A:G,7,FALSE),"")
A36: =IF(ISERROR(Interclubs2022!D56)=FALSE,Interclubs2022!C56,"") | B36: =IF(A36<>"",VLOOKUP(A36,Licenciés!A:F,2,FALSE),"") | C36: =IF(A36<>"",VLOOKUP(A36,Licenciés!A:F,3,FALSE),"") | D36: =IF(A36<>"",VLOOKUP(A36,Licenciés!A:F,5,FALSE),"") | E36: =IF(A36<>"",VLOOKUP(A36,Licenciés!A:F,6,FALSE),"") | F36: =IF(A36<>"", 660,"") | I36: =IF(A36<>"",Interclubs2022!B56,"") | J36: =IF(A36<>"",VLOOKUP(A36,Licenciés!A:G,7,FALSE),"")
A37: =IF(ISERROR(Interclubs2022!D57)=FALSE,Interclubs2022!C57,"") | B37: =IF(A37<>"",VLOOKUP(A37,Licenciés!A:F,2,FALSE),"") | C37: =IF(A37<>"",VLOOKUP(A37,Licenciés!A:F,3,FALSE),"") | D37: =IF(A37<>"",VLOOKUP(A37,Licenciés!A:F,5,FALSE),"") | E37: =IF(A37<>"",VLOOKUP(A37,Licenciés!A:F,6,FALSE),"") | F37: =IF(A37<>"", 810,"") | J37: =IF(A37<>"",VLOOKUP(A37,Licenciés!A:G,7,FALSE),"") | L37: =IF(A37<>"","Re","") | M37: =IF(A37<>"",CONCATENATE(Interclubs2022!$H$4," ",Interclubs2022!$F$6),"") | N37: =IF(A37<>"",Interclubs2022!B57,"") | O37: =IF(A37<>"","SE","") | P37: =IF(A37<>"","F","")
A38: =IF(ISERROR(Interclubs2022!D58)=FALSE,Interclubs2022!C58,"") | B38: =IF(A38<>"",VLOOKUP(A38,Licenciés!A:F,2,FALSE),"") | C38: =IF(A38<>"",VLOOKUP(A38,Licenciés!A:F,3,FALSE),"") | D38: =IF(A38<>"",VLOOKUP(A38,Licenciés!A:F,5,FALSE),"") | E38: =IF(A38<>"",VLOOKUP(A38,Licenciés!A:F,6,FALSE),"") | F38: =IF(A38<>"", 810,"") | J38: =IF(A38<>"",VLOOKUP(A38,Licenciés!A:G,7,FALSE),"") | L38: =IF(A38<>"","Re","") | M38: =IF(A38<>"",CONCATENATE(Interclubs2022!$H$4," ",Interclubs2022!$F$6),"") | N38: =IF(A38<>"",Interclubs2022!B58,"") | O38: =IF(A38<>"","SE","") | P38: =IF(A38<>"","F","")
A39: =IF(ISERROR(Interclubs2022!D59)=FALSE,Interclubs2022!C59,"") | B39: =IF(A39<>"",VLOOKUP(A39,Licenciés!A:F,2,FALSE),"") | C39: =IF(A39<>"",VLOOKUP(A39,Licenciés!A:F,3,FALSE),"") | D39: =IF(A39<>"",VLOOKUP(A39,Licenciés!A:F,5,FALSE),"") | E39: =IF(A39<>"",VLOOKUP(A39,Licenciés!A:F,6,FALSE),"") | F39: =IF(A39<>"", 810,"") | J39: =IF(A39<>"",VLOOKUP(A39,Licenciés!A:G,7,FALSE),"") | L39: =IF(A39<>"","Re","") | M39: =IF(A39<>"",CONCATENATE(Interclubs2022!$H$4," ",Interclubs2022!$F$6),"") | N39: =IF(A39<>"",Interclubs2022!B59,"") | O39: =IF(A39<>"","SE","") | P39: =IF(A39<>"","F","")
A40: =IF(ISERROR(Interclubs2022!D60)=FALSE,Interclubs2022!C60,"") | B40: =IF(A40<>"",VLOOKUP(A40,Licenciés!A:F,2,FALSE),"") | C40: =IF(A40<>"",VLOOKUP(A40,Licenciés!A:F,3,FALSE),"") | D40: =IF(A40<>"",VLOOKUP(A40,Licenciés!A:F,5,FALSE),"") | E40: =IF(A40<>"",VLOOKUP(A40,Licenciés!A:F,6,FALSE),"") | F40: =IF(A40<>"", 810,"") | J40: =IF(A40<>"",VLOOKUP(A40,Licenciés!A:G,7,FALSE),"") | L40: =IF(A40<>"","Re","") | M40: =IF(A40<>"",CONCATENATE(Interclubs2022!$H$4," ",Interclubs2022!$F$6),"") | N40: =IF(A40<>"",Interclubs2022!B60,"") | O40: =IF(A40<>"","SE","") | P40: =IF(A40<>"","F","")
...

Sheet Jury
A1: Licence | B1: N° club | C1: N° ligue | D1: Nom | E1: Prenom | F1: Fonction | G1: Sous domaine | H1: Qualite | I1: Ordre édition fonction | J1: Ordre édition sous domaine | K1: Date jury
A2: nolicence | B2: noclub | C2: noligue | D2: nom | E2: prenom | F2: fonction | G2: sousdomaine | H2: qualite | I2: ordreeditfonction | J2: ordreeditsousdomaine | K2: datejury
A3: =IF(ISERROR(Interclubs2022!D11)=TRUE,"",Interclubs2022!C11) | B3: =IF(A3<>"",VLOOKUP(A3,Licenciés!A:G,7,FALSE),"") | C3: =IF(A3<>"","CEN","") | D3: =IF(A3<>"",Interclubs2022!D11,"") | E3: =IF(A3<>"",Interclubs2022!E11,"")
A4: =IF(ISERROR(Interclubs2022!D12)=TRUE,"",Interclubs2022!C12) | B4: =IF(A4<>"",VLOOKUP(A4,Licenciés!A:G,7,FALSE),"") | C4: =IF(A4<>"","CEN","") | D4: =IF(A4<>"",Interclubs2022!D12,"") | E4: =IF(A4<>"",Interclubs2022!E12,"")
A5: =IF(ISERROR(Interclubs2022!D13)=TRUE,"",Interclubs2022!C13) | B5: =IF(A5<>"",VLOOKUP(A5,Licenciés!A:G,7,FALSE),"") | C5: =IF(A5<>"","CEN","") | D5: =IF(A5<>"",Interclubs2022!D13,"") | E5: =IF(A5<>"",Interclubs2022!E13,"")
A6: =IF(ISERROR(Interclubs2022!D14)=TRUE,"",Interclubs2022!C14) | B6: =IF(A6<>"",VLOOKUP(A6,Licenciés!A:G,7,FALSE),"") | C6: =IF(A6<>"","CEN","") | D6: =IF(A6<>"",Interclubs2022!D14,"") | E6: =IF(A6<>"",Interclubs2022!E14,"")
A7: =IF(ISERROR(Interclubs2022!D15)=TRUE,"",Interclubs2022!C15) | B7: =IF(A7<>"",VLOOKUP(A7,Licenciés!A:G,7,FALSE),"") | C7: =IF(A7<>"","CEN","") | D7: =IF(A7<>"",Interclubs2022!D15,"") | E7: =IF(A7<>"",Interclubs2022!E15,"")
A8: =IF(ISERROR(Interclubs2022!D16)=TRUE,"",Interclubs2022!C16) | B8: =IF(A8<>"",VLOOKUP(A8,Licenciés!A:G,7,FALSE),"") | C8: =IF(A8<>"","CEN","") | D8: =IF(A8<>"",Interclubs2022!D16,"") | E8: =IF(A8<>"",Interclubs2022!E16,"")
A9: =IF(ISERROR(Interclubs2022!D17)=TRUE,"",Interclubs2022!C17) | B9: =IF(A9<>"",VLOOKUP(A9,Licenciés!A:G,7,FALSE),"") | C9: =IF(A9<>"","CEN","") | D9: =IF(A9<>"",Interclubs2022!D17,"") | E9: =IF(A9<>"",Interclubs2022!E17,"")
