Workbook
Name FEM: '2022'!$R$3:$U$23

Sheet 2022
W1: EM SAINT-GERMAIN-DU-PUY
A2: Interclubs Nationaux Ca/Ju/Es/SE à Saint Cyr sur Loire le 01/10/2022 Masculins | W2: ASA DU BERRY
R3: CA | S3: JU | T3: ES | U3: SE | V3: VE | W3: AC DE VIGNOUX S/BARANGEON
A4: Club : | Q4: 100 m | R4: 110 | S4: 110 | T4: 110 | U4: 110 | V4: 110 | W4: UNION SPORTIVE D AVORD*
Q5: 200 m | R5: 120 | S5: 120 | T5: 120 | U5: 120 | V5: 120 | W5: SAINT-AMAND-MONTROND BOISCHAUT
Q6: 400 m | R6: 140 | S6: 140 | T6: 140 | U6: 140 | V6: 140 | W6: SANCERRE RUNNING
Q7: 110 m Haies | R7: 312 | S7: 315 | T7: 313 | U7: 313 | V7: 313 | W7: VIERZON-VIGNOUX-FOECY ATHLE*
A8: Masculins | Q8: 400 m Haies | R8: 341 | S8: 342 | T8: 342 | U8: 342 | V8: 342 | W8: BOURGES ENTENTE ATHLETISME*
A9: Epreuves | D9: NOM | E9: PRENOM | Q9: 800 m | R9: 208 | S9: 208 | T9: 208 | U9: 208 | V9: 208 | W9: AAEE EPERNON
A10: 100 m | D10: =VLOOKUP(C10,Licenciés!A:C,2,FALSE) -> #N/A | E10: =VLOOKUP(C10,Licenciés!A:C,3,FALSE) -> #N/A | F10: =IF(VLOOKUP($C10,Licenciés!A:Y,5,FALSE)="CA",1,0) -> #N/A | G10: =IF(VLOOKUP($C10,Licenciés!A:Y,5,FALSE)="JU",2,0) -> #N/A | H10: =IF(VLOOKUP($C10,Licenciés!A:Y,5,FALSE)="ES",3,0) -> #N/A | I10: =IF(VLOOKUP($C10,Licenciés!A:Y,5,FALSE)="SE",4,0) -> #N/A | J10: =IF(VLOOKUP($C10,Licenciés!A:Y,5,FALSE)="VE",5,0) -> #N/A | K10: =F10+G10+H10+I10+J10 -> #N/A | L10: =VLOOKUP(A10,$Q$4:$V$22,K10+1,FALSE) -> #N/A | Q10: 1 500 m | R10: 215 | S10: 215 | T10: 215 | U10: 215 | V10: 215 | W10: AS NOGENT-LE-ROTROU
A11: 200 m | D11: =VLOOKUP(C11,Licenciés!A:C,2,FALSE) -> #N/A | E11: =VLOOKUP(C11,Licenciés!A:C,3,FALSE) -> #N/A | F11: =IF(VLOOKUP($C11,Licenciés!A:Y,5,FALSE)="CA",1,0) -> #N/A | G11: =IF(VLOOKUP($C11,Licenciés!A:Y,5,FALSE)="JU",2,0) -> #N/A | H11: =IF(VLOOKUP($C11,Licenciés!A:Y,5,FALSE)="ES",3,0) -> #N/A | I11: =IF(VLOOKUP($C11,Licenciés!A:Y,5,FALSE)="SE",4,0) -> #N/A | J11: =IF(VLOOKUP($C11,Licenciés!A:Y,5,FALSE)="VE",5,0) -> #N/A | K11: =F11+G11+H11+I11+J11 -> #N/A | L11: =VLOOKUP(A11,$Q$4:$V$22,K11+1,FALSE) -> #N/A | Q11: 3 000 m | R11: 230 | S11: 230 | T11: 230 | U11: 230 | V11: 230 | W11: ES JOUY ST-PREST ATHLETISME
A12: 400 m | D12: =VLOOKUP(C12,Licenciés!A:C,2,FALSE) -> #N/A | E12: =VLOOKUP(C12,Licenciés!A:C,3,FALSE) -> #N/A | F12: =IF(VLOOKUP($C12,Licenciés!A:Y,5,FALSE)="CA",1,0) -> #N/A | G12: =IF(VLOOKUP($C12,Licenciés!A:Y,5,FALSE)="JU",2,0) -> #N/A | H12: =IF(VLOOKUP($C12,Licenciés!A:Y,5,FALSE)="ES",3,0) -> #N/A | I12: =IF(VLOOKUP($C12,Licenciés!A:Y,5,FALSE)="SE",4,0) -> #N/A | J12: =IF(VLOOKUP($C12,Licenciés!A:Y,5,FALSE)="VE",5,0) -> #N/A | K12: =F12+G12+H12+I12+J12 -> #N/A | L12: =VLOOKUP(A12,$Q$4:$V$22,K12+1,FALSE) -> #N/A | Q12: 2 000 m Steeple | R12: 422 | S12: 421 | T12: 421 | U12: 421 | V12: 421 | W12: OC CHATEAUDUN BONNEVAL A.*
A13: 110 m Haies | D13: =VLOOKUP(C13,Licenciés!A:C,2,FALSE) -> #N/A | E13: =VLOOKUP(C13,Licenciés!A:C,3,FALSE) -> #N/A | F13: =IF(VLOOKUP($C13,Licenciés!A:Y,5,FALSE)="CA",1,0) -> #N/A | G13: =IF(VLOOKUP($C13,Licenciés!A:Y,5,FALSE)="JU",2,0) -> #N/A | H13: =IF(VLOOKUP($C13,Licenciés!A:Y,5,FALSE)="ES",3,0) -> #N/A | I13: =IF(VLOOKUP($C13,Licenciés!A:Y,5,FALSE)="SE",4,0) -> #N/A | J13: =IF(VLOOKUP($C13,Licenciés!A:Y,5,FALSE)="VE",5,0) -> #N/A | K13: =F13+G13+H13+I13+J13 -> #N/A | L13: =VLOOKUP(A13,$Q$4:$V$22,K13+1,FALSE) -> #N/A | Q13: 5 000 m Marche | R13: 905 | S13: 905 | T13: 905 | U13: 905 | V13: 905 | W13: AS LEVES
A14: 400 m Haies | D14: =VLOOKUP(C14,Licenciés!A:C,2,FALSE) -> #N/A | E14: =VLOOKUP(C14,Licenciés!A:C,3,FALSE) -> #N/A | F14: =IF(VLOOKUP($C14,Licenciés!A:Y,5,FALSE)="CA",1,0) -> #N/A | G14: =IF(VLOOKUP($C14,Licenciés!A:Y,5,FALSE)="JU",2,0) -> #N/A | H14: =IF(VLOOKUP($C14,Licenciés!A:Y,5,FALSE)="ES",3,0) -> #N/A | I14: =IF(VLOOKUP($C14,Licenciés!A:Y,5,FALSE)="SE",4,0) -> #N/A | J14: =IF(VLOOKUP($C14,Licenciés!A:Y,5,FALSE)="VE",5,0) -> #N/A | K14: =F14+G14+H14+I14+J14 -> #N/A | L14: =VLOOKUP(A14,$Q$4:$V$22,K14+1,FALSE) -> #N/A | Q14: Hauteur | R14: 501 | S14: 501 | T14: 501 | U14: 501 | V14: 501 | W14: AC CLOYES
A15: 800 m | D15: =VLOOKUP(C15,Licenciés!A:C,2,FALSE) -> #N/A | E15: =VLOOKUP(C15,Licenciés!A:C,3,FALSE) -> #N/A | F15: =IF(VLOOKUP($C15,Licenciés!A:Y,5,FALSE)="CA",1,0) -> #N/A | G15: =IF(VLOOKUP($C15,Licenciés!A:Y,5,FALSE)="JU",2,0) -> #N/A | H15: =IF(VLOOKUP($C15,Licenciés!A:Y,5,FALSE)="ES",3,0) -> #N/A | I15: =IF(VLOOKUP($C15,Licenciés!A:Y,5,FALSE)="SE",4,0) -> #N/A | J15: =IF(VLOOKUP($C15,Licenciés!A:Y,5,FALSE)="VE",5,0) -> #N/A | K15: =F15+G15+H15+I15+J15 -> #N/A | L15: =VLOOKUP(A15,$Q$4:$V$22,K15+1,FALSE) -> #N/A | Q15: Perche | R15: 502 | S15: 502 | T15: 502 | U15: 502 | V15: 502 | W15: LUISANT AC
A16: 1 500 m | D16: =VLOOKUP(C16,Licenciés!A:C,2,FALSE) -> #N/A | E16: =VLOOKUP(C16,Licenciés!A:C,3,FALSE) -> #N/A | F16: =IF(VLOOKUP($C16,Licenciés!A:Y,5,FALSE)="CA",1,0) -> #N/A | G16: =IF(VLOOKUP($C16,Licenciés!A:Y,5,FALSE)="JU",2,0) -> #N/A | H16: =IF(VLOOKUP($C16,Licenciés!A:Y,5,FALSE)="ES",3,0) -> #N/A | I16: =IF(VLOOKUP($C16,Licenciés!A:Y,5,FALSE)="SE",4,0) -> #N/A | J16: =IF(VLOOKUP($C16,Licenciés!A:Y,5,FALSE)="VE",5,0) -> #N/A | K16: =F16+G16+H16+I16+J16 -> #N/A | L16: =VLOOKUP(A16,$Q$4:$V$22,K16+1,FALSE) -> #N/A | Q16: Longueur | R16: 503 | S16: 503 | T16: 503 | U16: 503 | V16: 503 | W16: ES MAINTENON PIERRES ATHLE.
A17: 3 000 m | D17: =VLOOKUP(C17,Licenciés!A:C,2,FALSE) -> #N/A | E17: =VLOOKUP(C17,Licenciés!A:C,3,FALSE) -> #N/A | F17: =IF(VLOOKUP($C17,Licenciés!A:Y,5,FALSE)="CA",1,0) -> #N/A | G17: =IF(VLOOKUP($C17,Licenciés!A:Y,5,FALSE)="JU",2,0) -> #N/A | H17: =IF(VLOOKUP($C17,Licenciés!A:Y,5,FALSE)="ES",3,0) -> #N/A | I17: =IF(VLOOKUP($C17,Licenciés!A:Y,5,FALSE)="SE",4,0) -> #N/A | J17: =IF(VLOOKUP($C17,Licenciés!A:Y,5,FALSE)="VE",5,0) -> #N/A | K17: =F17+G17+H17+I17+J17 -> #N/A | L17: =VLOOKUP(A17,$Q$4:$V$22,K17+1,FALSE) -> #N/A | Q17: Triple Saut | R17: 504 | S17: 504 | T17: 504 | U17: 504 | V17: 504 | W17: CHARTRES MMA SPORT ATHLETISME
A18: 2 000 m Steeple | D18: =VLOOKUP(C18,Licenciés!A:C,2,FALSE) -> #N/A | E18: =VLOOKUP(C18,Licenciés!A:C,3,FALSE) -> #N/A | F18: =IF(VLOOKUP($C18,Licenciés!A:Y,5,FALSE)="CA",1,0) -> #N/A | G18: =IF(VLOOKUP($C18,Licenciés!A:Y,5,FALSE)="JU",2,0) -> #N/A | H18: =IF(VLOOKUP($C18,Licenciés!A:Y,5,FALSE)="ES",3,0) -> #N/A | I18: =IF(VLOOKUP($C18,Licenciés!A:Y,5,FALSE)="SE",4,0) -> #N/A | J18: =IF(VLOOKUP($C18,Licenciés!A:Y,5,FALSE)="VE",5,0) -> #N/A | K18: =F18+G18+H18+I18+J18 -> #N/A | L18: =VLOOKUP(A18,$Q$4:$V$22,K18+1,FALSE) -> #N/A | Q18: Poids | R18: 605 | S18: 606 | T18: 607 | U18: 607 | V18: 607 | W18: US BELHOMERT
A19: 5 000 m Marche | D19: =VLOOKUP(C19,Licenciés!A:C,2,FALSE) -> #N/A | E19: =VLOOKUP(C19,Licenciés!A:C,3,FALSE) -> #N/A | F19: =IF(VLOOKUP($C19,Licenciés!A:Y,5,FALSE)="CA",1,0) -> #N/A | G19: =IF(VLOOKUP($C19,Licenciés!A:Y,5,FALSE)="JU",2,0) -> #N/A | H19: =IF(VLOOKUP($C19,Licenciés!A:Y,5,FALSE)="ES",3,0) -> #N/A | I19: =IF(VLOOKUP($C19,Licenciés!A:Y,5,FALSE)="SE",4,0) -> #N/A | J19: =IF(VLOOKUP($C19,Licenciés!A:Y,5,FALSE)="VE",5,0) -> #N/A | K19: =F19+G19+H19+I19+J19 -> #N/A | L19: =VLOOKUP(A19,$Q$4:$V$22,K19+1,FALSE) -> #N/A | Q19: Disque | R19: 615 | S19: 617 | T19: 620 | U19: 620 | V19: 620 | W19: ATHLE CHARTRES LUCE ASPTT MAIN
A20: Hauteur | D20: =VLOOKUP(C20,Licenciés!A:C,2,FALSE) -> #N/A | E20: =VLOOKUP(C20,Licenciés!A:C,3,FALSE) -> #N/A | F20: =IF(VLOOKUP($C20,Licenciés!A:Y,5,FALSE)="CA",1,0) -> #N/A | G20: =IF(VLOOKUP($C20,Licenciés!A:Y,5,FALSE)="JU",2,0) -> #N/A | H20: =IF(VLOOKUP($C20,Licenciés!A:Y,5,FALSE)="ES",3,0) -> #N/A | I20: =IF(VLOOKUP($C20,Licenciés!A:Y,5,FALSE)="SE",4,0) -> #N/A | J20: =IF(VLOOKUP($C20,Licenciés!A:Y,5,FALSE)="VE",5,0) -> #N/A | K20: =F20+G20+H20+I20+J20 -> #N/A | L20: =VLOOKUP(A20,$Q$4:$V$22,K20+1,FALSE) -> #N/A | Q20: Marteau | R20: 635 | S20: 636 | T20: 637 | U20: 637 | V20: 637 | W20: OXYGENE 28
A21: Perche | D21: =VLOOKUP(C21,Licenciés!A:C,2,FALSE) -> #N/A | E21: =VLOOKUP(C21,Licenciés!A:C,3,FALSE) -> #N/A | F21: =IF(VLOOKUP($C21,Licenciés!A:Y,5,FALSE)="CA",1,0) -> #N/A | G21: =IF(VLOOKUP($C21,Licenciés!A:Y,5,FALSE)="JU",2,0) -> #N/A | H21: =IF(VLOOKUP($C21,Licenciés!A:Y,5,FALSE)="ES",3,0) -> #N/A | I21: =IF(VLOOKUP($C21,Licenciés!A:Y,5,FALSE)="SE",4,0) -> #N/A | J21: =IF(VLOOKUP($C21,Licenciés!A:Y,5,FALSE)="VE",5,0) -> #N/A | K21: =F21+G21+H21+I21+J21 -> #N/A | L21: =VLOOKUP(A21,$Q$4:$V$22,K21+1,FALSE) -> #N/A | Q21: Javelot | R21: 670 | S21: 681 | T21: 681 | U21: 681 | V21: 681 | W21: PASSION RUNNING DU PERCHE
A22: Longueur | D22: =VLOOKUP(C22,Licenciés!A:C,2,FALSE) -> #N/A | E22: =VLOOKUP(C22,Licenciés!A:C,3,FALSE) -> #N/A | F22: =IF(VLOOKUP($C22,Licenciés!A:Y,5,FALSE)="CA",1,0) -> #N/A | G22: =IF(VLOOKUP($C22,Licenciés!A:Y,5,FALSE)="JU",2,0) -> #N/A | H22: =IF(VLOOKUP($C22,Licenciés!A:Y,5,FALSE)="ES",3,0) -> #N/A | I22: =IF(VLOOKUP($C22,Licenciés!A:Y,5,FALSE)="SE",4,0) -> #N/A | J22: =IF(VLOOKUP($C22,Licenciés!A:Y,5,FALSE)="VE",5,0) -> #N/A | K22: =F22+G22+H22+I22+J22 -> #N/A | L22: =VLOOKUP(A22,$Q$4:$V$22,K22+1,FALSE) -> #N/A | Q22: 4 x 200 m | W22: ETOILE DREUX ATHLETIC CLUB
A23: Triple Saut | D23: =VLOOKUP(C23,Licenciés!A:C,2,FALSE) -> #N/A | E23: =VLOOKUP(C23,Licenciés!A:C,3,FALSE) -> #N/A | F23: =IF(VLOOKUP($C23,Licenciés!A:Y,5,FALSE)="CA",1,0) -> #N/A | G23: =IF(VLOOKUP($C23,Licenciés!A:Y,5,FALSE)="JU",2,0) -> #N/A | H23: =IF(VLOOKUP($C23,Licenciés!A:Y,5,FALSE)="ES",3,0) -> #N/A | I23: =IF(VLOOKUP($C23,Licenciés!A:Y,5,FALSE)="SE",4,0) -> #N/A | J23: =IF(VLOOKUP($C23,Licenciés!A:Y,5,FALSE)="VE",5,0) -> #N/A | K23: =F23+G23+H23+I23+J23 -> #N/A | L23: =VLOOKUP(A23,$Q$4:$V$22,K23+1,FALSE) -> #N/A | W23: LA BERRICHONNE CHATEAUROUX ATH
A24: Poids | D24: =VLOOKUP(C24,Licenciés!A:C,2,FALSE) -> #N/A | E24: =VLOOKUP(C24,Licenciés!A:C,3,FALSE) -> #N/A | F24: =IF(VLOOKUP($C24,Licenciés!A:Y,5,FALSE)="CA",1,0) -> #N/A | G24: =IF(VLOOKUP($C24,Licenciés!A:Y,5,FALSE)="JU",2,0) -> #N/A | H24: =IF(VLOOKUP($C24,Licenciés!A:Y,5,FALSE)="ES",3,0) -> #N/A | I24: =IF(VLOOKUP($C24,Licenciés!A:Y,5,FALSE)="SE",4,0) -> #N/A | J24: =IF(VLOOKUP($C24,Licenciés!A:Y,5,FALSE)="VE",5,0) -> #N/A | K24: =F24+G24+H24+I24+J24 -> #N/A | L24: =VLOOKUP(A24,$Q$4:$V$22,K24+1,FALSE) -> #N/A | W24: ASC BUZANCAIS
A25: Disque | D25: =VLOOKUP(C25,Licenciés!A:C,2,FALSE) -> #N/A | E25: =VLOOKUP(C25,Licenciés!A:C,3,FALSE) -> #N/A | F25: =IF(VLOOKUP($C25,Licenciés!A:Y,5,FALSE)="CA",1,0) -> #N/A | G25: =IF(VLOOKUP($C25,Licenciés!A:Y,5,FALSE)="JU",2,0) -> #N/A | H25: =IF(VLOOKUP($C25,Licenciés!A:Y,5,FALSE)="ES",3,0) -> #N/A | I25: =IF(VLOOKUP($C25,Licenciés!A:Y,5,FALSE)="SE",4,0) -> #N/A | J25: =IF(VLOOKUP($C25,Licenciés!A:Y,5,FALSE)="VE",5,0) -> #N/A | K25: =F25+G25+H25+I25+J25 -> #N/A | L25: =VLOOKUP(A25,$Q$4:$V$22,K25+1,FALSE) -> #N/A | W25: EA ISSOUDUN
A26: Marteau | D26: =VLOOKUP(C26,Licenciés!A:C,2,FALSE) -> #N/A | E26: =VLOOKUP(C26,Licenciés!A:C,3,FALSE) -> #N/A | F26: =IF(VLOOKUP($C26,Licenciés!A:Y,5,FALSE)="CA",1,0) -> #N/A | G26: =IF(VLOOKUP($C26,Licenciés!A:Y,5,FALSE)="JU",2,0) -> #N/A | H26: =IF(VLOOKUP($C26,Licenciés!A:Y,5,FALSE)="ES",3,0) -> #N/A | I26: =IF(VLOOKUP($C26,Licenciés!A:Y,5,FALSE)="SE",4,0) -> #N/A | J26: =IF(VLOOKUP($C26,Licenciés!A:Y,5,FALSE)="VE",5,0) -> #N/A | K26: =F26+G26+H26+I26+J26 -> #N/A | L26: =VLOOKUP(A26,$Q$4:$V$22,K26+1,FALSE) -> #N/A | W26: UNION SPORTIVE DE LA CHATRE.
A27: Javelot | D27: =VLOOKUP(C27,Licenciés!A:C,2,FALSE) -> #N/A | E27: =VLOOKUP(C27,Licenciés!A:C,3,FALSE) -> #N/A | F27: =IF(VLOOKUP($C27,Licenciés!A:Y,5,FALSE)="CA",1,0) -> #N/A | G27: =IF(VLOOKUP($C27,Licenciés!A:Y,5,FALSE)="JU",2,0) -> #N/A | H27: =IF(VLOOKUP($C27,Licenciés!A:Y,5,FALSE)="ES",3,0) -> #N/A | I27: =IF(VLOOKUP($C27,Licenciés!A:Y,5,FALSE)="SE",4,0) -> #N/A | J27: =IF(VLOOKUP($C27,Licenciés!A:Y,5,FALSE)="VE",5,0) -> #N/A | K27: =F27+G27+H27+I27+J27 -> #N/A | L27: =VLOOKUP(A27,$Q$4:$V$22,K27+1,FALSE) -> #N/A | W27: COUREURS DE FOND DEOLOIS
A28: Relais 4 x 200 m | B28: 1 | D28: =VLOOKUP(C28,Licenciés!A:C,2,FALSE) -> #N/A | E28: =VLOOKUP(C28,Licenciés!A:C,3,FALSE) -> #N/A | F28: =IF(VLOOKUP($C28,Licenciés!A:Y,5,FALSE)="CA",1,0) -> #N/A | G28: =IF(VLOOKUP($C28,Licenciés!A:Y,5,FALSE)="JU",2,0) -> #N/A | H28: =IF(VLOOKUP($C28,Licenciés!A:Y,5,FALSE)="ES",3,0) -> #N/A | I28: =IF(VLOOKUP($C28,Licenciés!A:Y,5,FALSE)="SE",4,0) -> #N/A | J28: =IF(VLOOKUP($C28,Licenciés!A:Y,5,FALSE)="VE",5,0) -> #N/A | K28: =F28+G28+H28+I28+J28 -> #N/A | W28: ASPTT CHATEAUROUX 36 SECTION S
B29: 2 | D29: =VLOOKUP(C29,Licenciés!A:C,2,FALSE) -> #N/A | E29: =VLOOKUP(C29,Licenciés!A:C,3,FALSE) -> #N/A | F29: =IF(VLOOKUP($C29,Licenciés!A:Y,5,FALSE)="CA",1,0) -> #N/A | G29: =IF(VLOOKUP($C29,Licenciés!A:Y,5,FALSE)="JU",2,0) -> #N/A | H29: =IF(VLOOKUP($C29,Licenciés!A:Y,5,FALSE)="ES",3,0) -> #N/A | I29: =IF(VLOOKUP($C29,Licenciés!A:Y,5,FALSE)="SE",4,0) -> #N/A | J29: =IF(VLOOKUP($C29,Licenciés!A:Y,5,FALSE)="VE",5,0) -> #N/A | K29: =F29+G29+H29+I29+J29 -> #N/A | W29: AVENIR AMBOISE ATHLETISME
B30: 3 | D30: =VLOOKUP(C30,Licenciés!A:C,2,FALSE) -> #N/A | E30: =VLOOKUP(C30,Licenciés!A:C,3,FALSE) -> #N/A | F30: =IF(VLOOKUP($C30,Licenciés!A:Y,5,FALSE)="CA",1,0) -> #N/A | G30: =IF(VLOOKUP($C30,Licenciés!A:Y,5,FALSE)="JU",2,0) -> #N/A | H30: =IF(VLOOKUP($C30,Licenciés!A:Y,5,FALSE)="ES",3,0) -> #N/A | I30: =IF(VLOOKUP($C30,Licenciés!A:Y,5,FALSE)="SE",4,0) -> #N/A | J30: =IF(VLOOKUP($C30,Licenciés!A:Y,5,FALSE)="VE",5,0) -> #N/A | K30: =F30+G30+H30+I30+J30 -> #N/A | W30: CA CHINON
B31: 4 | D31: =VLOOKUP(C31,Licenciés!A:C,2,FALSE) -> #N/A | E31: =VLOOKUP(C31,Licenciés!A:C,3,FALSE) -> #N/A | F31: =IF(VLOOKUP($C31,Licenciés!A:Y,5,FALSE)="CA",1,0) -> #N/A | G31: =IF(VLOOKUP($C31,Licenciés!A:Y,5,FALSE)="JU",2,0) -> #N/A | H31: =IF(VLOOKUP($C31,Licenciés!A:Y,5,FALSE)="ES",3,0) -> #N/A | I31: =IF(VLOOKUP($C31,Licenciés!A:Y,5,FALSE)="SE",4,0) -> #N/A | J31: =IF(VLOOKUP($C31,Licenciés!A:Y,5,FALSE)="VE",5,0) -> #N/A | K31: =F31+G31+H31+I31+J31 -> #N/A | W31: REVEIL SPORTIF DE ST CYR/LOIRE
W32: ATHLETIC TROIS TOURS*
A33: Athlètes non-répertoriés dans la base | W33: AS FONDETTES
W34: SAINTE MAURE ATHLETIC CLUB*
A35: Féminines | W35: US RENAUDINE ATHLE CROSS
A36: Epreuves | C36: N° Licence | D36: NOM | E36: PRENOM | W36: ASPTT TOURS
W37: ASSOCIATION COUREURS DE LOCHES
W38: SAINT PIERRE-MONTLOUIS ATHLE*
W39: JOUE LES TOURS ATHLETISME
W40: JOUE RUNNING 37
...

Sheet Licenciés
A1: 339025 | B1: GUEZENNEC | C1: TRISTAN | E1: ES | F1: M | G1: 18003
A2: 395673 | B2: JUMEAU | C2: CELIA | E2: SE | F2: F | G2: 28024
A3: 466241 | B3: MOBISA | C3: MARION | E3: ES | F3: F | G3: 37021
A4: 605875 | B4: FOURNIER | C4: MORGAN | E4: SE | F4: M | G4: 45008
A5: 610223 | B5: GUISSET | C5: MALINA | E5: ES | F5: F | G5: 37021
A6: 612730 | B6: EVRARD | C6: CAMILLE | E6: ES | F6: F | G6: 41003
A7: 628336 | B7: GASSELIN | C7: LEO | E7: SE | F7: M | G7: 41002
A8: 632399 | B8: DORSILE | C8: MAEVA | E8: ES | F8: F | G8: 36003
A9: 637067 | B9: TURPIN | C9: JOSEPH | E9: ES | F9: M | G9: 41003
A10: 642622 | B10: HODEAU | C10: LUCIE | E10: ES | F10: F | G10: 41002
A11: 735032 | B11: CHEVARD | C11: MATHILDE | E11: ES | F11: F | G11: 37023
A12: 1042467 | B12: LECOMTE | C12: THOMAS | E12: SE | F12: M | G12: 37021
... A1567: 2456719 | B1567: COLRAT | C1567: INES | E1567: CA | F1567: F | G1567: 37015

Sheet Equipes
A1: Licence (10 max) obligatoire si licencié | B1: Nom (20 caractères max) Obligatoire | C1: Prénom (15 caractères max) - obligatoire | D1: Catégorie (2 caractères max) - obligatoire | E1: Sexe (1 caractère) - obligatoire | F1: Code d'appel (3 caractères - obligatoire) | G1: Code d'appel ep. N+1 eprv multiple (3 caractères) | H1: Perf Engagement num. (sans séparateur) | I1: N° d'ordre dans l'équipe (obligatoire pour import équipe Interclub) | J1: N° club athlète (6 caractères) | K1: nom club (30 caractères max) obligatoire si non licencié | L1: Code Famille (obligatoire Re, si relais) | M1: Nom équipe relais (30 caractères max) - obligatoire si relais | N1: Ordre composition relais (1 caractère) | O1: Catégorie épreuve relais (obligatoire si relais) | P1: Sexe épreuve relais (obligatoire si relais) | Q1: Nom épreuve (12 caractères max) | R1: Dossard | S1: Nationalité (3 caractères) - obligatoire si non licencié
A2: nolicence | B2: nom | C2: prenom | D2: categorie | E2: sexe | F2: codeappel | G2: epcombine | H2: perfengagement | I2: noordreequipe | J2: noclub | K2: nomclub | L2: codefamille | M2: nomrelais | N2: noordrerelais | O2: categorieep | P2: sexeep | Q2: nomepreuve | R2: nodossard | S2: nationalite
A3: =IF(ISERROR('2022'!D10)=FALSE,'2022'!C10,"") | B3: =IF(A3<>"",VLOOKUP(A3,Licenciés!A:F,2,FALSE),"") | C3: =IF(A3<>"",VLOOKUP(A3,Licenciés!A:F,3,FALSE),"") | D3: =IF(A3<>"",VLOOKUP(A3,Licenciés!A:F,5,FALSE),"") | E3: =IF(A3<>"",VLOOKUP(A3,Licenciés!A:F,6,FALSE),"") | F3: =IF(A3<>"",'2022'!L10,"") | J3: =IF(A3<>"",VLOOKUP(A3,Licenciés!A:G,7,FALSE),"")
A4: =IF(ISERROR('2022'!D11)=FALSE,'2022'!C11,"") | B4: =IF(A4<>"",VLOOKUP(A4,Licenciés!A:F,2,FALSE),"") | C4: =IF(A4<>"",VLOOKUP(A4,Licenciés!A:F,3,FALSE),"") | D4: =IF(A4<>"",VLOOKUP(A4,Licenciés!A:F,5,FALSE),"") | E4: =IF(A4<>"",VLOOKUP(A4,Licenciés!A:F,6,FALSE),"") | F4: =IF(A4<>"",'2022'!L11,"") | J4: =IF(A4<>"",VLOOKUP(A4,Licenciés!A:G,7,FALSE),"")
A5: =IF(ISERROR('2022'!D12)=FALSE,'2022'!C12,"") | B5: =IF(A5<>"",VLOOKUP(A5,Licenciés!A:F,2,FALSE),"") | C5: =IF(A5<>"",VLOOKUP(A5,Licenciés!A:F,3,FALSE),"") | D5: =IF(A5<>"",VLOOKUP(A5,Licenciés!A:F,5,FALSE),"") | E5: =IF(A5<>"",VLOOKUP(A5,Licenciés!A:F,6,FALSE),"") | F5: =IF(A5<>"",'2022'!L12,"") | J5: =IF(A5<>"",VLOOKUP(A5,Licenciés!A:G,7,FALSE),"")
A6: =IF(ISERROR('2022'!D13)=FALSE,'2022'!C13,"") | B6: =IF(A6<>"",VLOOKUP(A6,Licenciés!A:F,2,FALSE),"") | C6: =IF(A6<>"",VLOOKUP(A6,Licenciés!A:F,3,FALSE),"") | D6: =IF(A6<>"",VLOOKUP(A6,Licenciés!A:F,5,FALSE),"") | E6: =IF(A6<>"",VLOOKUP(A6,Licenciés!A:F,6,FALSE),"") | F6: =IF(A6<>"",'2022'!L13,"") | J6: =IF(A6<>"",VLOOKUP(A6,Licenciés!A:G,7,FALSE),"")
A7: =IF(ISERROR('2022'!D14)=FALSE,'2022'!C14,"") | B7: =IF(A7<>"",VLOOKUP(A7,Licenciés!A:F,2,FALSE),"") | C7: =IF(A7<>"",VLOOKUP(A7,Licenciés!A:F,3,FALSE),"") | D7: =IF(A7<>"",VLOOKUP(A7,Licenciés!A:F,5,FALSE),"") | E7: =IF(A7<>"",VLOOKUP(A7,Licenciés!A:F,6,FALSE),"") | F7: =IF(A7<>"",'2022'!L14,"") | J7: =IF(A7<>"",VLOOKUP(A7,Licenciés!A:G,7,FALSE),"")
A8: =IF(ISERROR('2022'!D15)=FALSE,'2022'!C15,"") | B8: =IF(A8<>"",VLOOKUP(A8,Licenciés!A:F,2,FALSE),"") | C8: =IF(A8<>"",VLOOKUP(A8,Licenciés!A:F,3,FALSE),"") | D8: =IF(A8<>"",VLOOKUP(A8,Licenciés!A:F,5,FALSE),"") | E8: =IF(A8<>"",VLOOKUP(A8,Licenciés!A:F,6,FALSE),"") | F8: =IF(A8<>"",'2022'!L15,"") | J8: =IF(A8<>"",VLOOKUP(A8,Licenciés!A:G,7,FALSE),"")
A9: =IF(ISERROR('2022'!D16)=FALSE,'2022'!C16,"") | B9: =IF(A9<>"",VLOOKUP(A9,Licenciés!A:F,2,FALSE),"") | C9: =IF(A9<>"",VLOOKUP(A9,Licenciés!A:F,3,FALSE),"") | D9: =IF(A9<>"",VLOOKUP(A9,Licenciés!A:F,5,FALSE),"") | E9: =IF(A9<>"",VLOOKUP(A9,Licenciés!A:F,6,FALSE),"") | F9: =IF(A9<>"",'2022'!L16,"") | J9: =IF(A9<>"",VLOOKUP(A9,Licenciés!A:G,7,FALSE),"")
A10: =IF(ISERROR('2022'!D17)=FALSE,'2022'!C17,"") | B10: =IF(A10<>"",VLOOKUP(A10,Licenciés!A:F,2,FALSE),"") | C10: =IF(A10<>"",VLOOKUP(A10,Licenciés!A:F,3,FALSE),"") | D10: =IF(A10<>"",VLOOKUP(A10,Licenciés!A:F,5,FALSE),"") | E10: =IF(A10<>"",VLOOKUP(A10,Licenciés!A:F,6,FALSE),"") | F10: =IF(A10<>"",'2022'!L17,"") | J10: =IF(A10<>"",VLOOKUP(A10,Licenciés!A:G,7,FALSE),"")
A11: =IF(ISERROR('2022'!D18)=FALSE,'2022'!C18,"") | B11: =IF(A11<>"",VLOOKUP(A11,Licenciés!A:F,2,FALSE),"") | C11: =IF(A11<>"",VLOOKUP(A11,Licenciés!A:F,3,FALSE),"") | D11: =IF(A11<>"",VLOOKUP(A11,Licenciés!A:F,5,FALSE),"") | E11: =IF(A11<>"",VLOOKUP(A11,Licenciés!A:F,6,FALSE),"") | F11: =IF(A11<>"",'2022'!L18,"") | J11: =IF(A11<>"",VLOOKUP(A11,Licenciés!A:G,7,FALSE),"")
A12: =IF(ISERROR('2022'!D19)=FALSE,'2022'!C19,"") | B12: =IF(A12<>"",VLOOKUP(A12,Licenciés!A:F,2,FALSE),"") | C12: =IF(A12<>"",VLOOKUP(A12,Licenciés!A:F,3,FALSE),"") | D12: =IF(A12<>"",VLOOKUP(A12,Licenciés!A:F,5,FALSE),"") | E12: =IF(A12<>"",VLOOKUP(A12,Licenciés!A:F,6,FALSE),"") | F12: =IF(A12<>"",'2022'!L19,"") | J12: =IF(A12<>"",VLOOKUP(A12,Licenciés!A:G,7,FALSE),"")
A13: =IF(ISERROR('2022'!D20)=FALSE,'2022'!C20,"") | B13: =IF(A13<>"",VLOOKUP(A13,Licenciés!A:F,2,FALSE),"") | C13: =IF(A13<>"",VLOOKUP(A13,Licenciés!A:F,3,FALSE),"") | D13: =IF(A13<>"",VLOOKUP(A13,Licenciés!A:F,5,FALSE),"") | E13: =IF(A13<>"",VLOOKUP(A13,Licenciés!A:F,6,FALSE),"") | F13: =IF(A13<>"",'2022'!L20,"") | J13: =IF(A13<>"",VLOOKUP(A13,Licenciés!A:G,7,FALSE),"")
A14: =IF(ISERROR('2022'!D21)=FALSE,'2022'!C21,"") | B14: =IF(A14<>"",VLOOKUP(A14,Licenciés!A:F,2,FALSE),"") | C14: =IF(A14<>"",VLOOKUP(A14,Licenciés!A:F,3,FALSE),"") | D14: =IF(A14<>"",VLOOKUP(A14,Licenciés!A:F,5,FALSE),"") | E14: =IF(A14<>"",VLOOKUP(A14,Licenciés!A:F,6,FALSE),"") | F14: =IF(A14<>"",'2022'!L21,"") | J14: =IF(A14<>"",VLOOKUP(A14,Licenciés!A:G,7,FALSE),"")
... A20: =IF(ISERROR('2022'!D27)=FALSE,'2022'!C27,"") | B20: =IF(A20<>"",VLOOKUP(A20,Licenciés!A:F,2,FALSE),"") | C20: =IF(A20<>"",VLOOKUP(A20,Licenciés!A:F,3,FALSE),"") | D20: =IF(A20<>"",VLOOKUP(A20,Licenciés!A:F,5,FALSE),"") | E20: =IF(A20<>"",VLOOKUP(A20,Licenciés!A:F,6,FALSE),"") | F20: =IF(A20<>"",'2022'!L27,"") | J20: =IF(A20<>"",VLOOKUP(A20,Licenciés!A:G,7,FALSE),"")
A21: =IF(ISERROR('2022'!D28)=FALSE,'2022'!C28,"") | B21: =IF(A21<>"",VLOOKUP(A21,Licenciés!A:F,2,FALSE),"") | C21: =IF(A21<>"",VLOOKUP(A21,Licenciés!A:F,3,FALSE),"") | D21: =IF(A21<>"",VLOOKUP(A21,Licenciés!A:F,5,FALSE),"") | E21: =IF(A21<>"",VLOOKUP(A21,Licenciés!A:F,6,FALSE),"") | F21: =IF(A21<>"",820,"") | J21: =IF(A21<>"",VLOOKUP(A21,Licenciés!A:G,7,FALSE),"") | L21: =IF(A21<>"","RE","") | M21: =IF(A21<>"",'2022'!$B$4,"") | N21: =IF(A21<>"",1,"") | O21: =IF(A21<>"","TC","") | P21: =IF(A21<>"","M","")
A22: =IF(ISERROR('2022'!D29)=FALSE,'2022'!C29,"") | B22: =IF(A22<>"",VLOOKUP(A22,Licenciés!A:F,2,FALSE),"") | C22: =IF(A22<>"",VLOOKUP(A22,Licenciés!A:F,3,FALSE),"") | D22: =IF(A22<>"",VLOOKUP(A22,Licenciés!A:F,5,FALSE),"") | E22: =IF(A22<>"",VLOOKUP(A22,Licenciés!A:F,6,FALSE),"") | F22: =IF(A22<>"",820,"") | J22: =IF(A22<>"",VLOOKUP(A22,Licenciés!A:G,7,FALSE),"") | L22: =IF(A22<>"","RE","") | M22: =IF(A22<>"",'2022'!$B$4,"") | N22: =IF(A22<>"",2,"") | O22: =IF(A22<>"","TC","") | P22: =IF(A22<>"","M","")
A23: =IF(ISERROR('2022'!D30)=FALSE,'2022'!C30,"") | B23: =IF(A23<>"",VLOOKUP(A23,Licenciés!A:F,2,FALSE),"") | C23: =IF(A23<>"",VLOOKUP(A23,Licenciés!A:F,3,FALSE),"") | D23: =IF(A23<>"",VLOOKUP(A23,Licenciés!A:F,5,FALSE),"") | E23: =IF(A23<>"",VLOOKUP(A23,Licenciés!A:F,6,FALSE),"") | F23: =IF(A23<>"",820,"") | J23: =IF(A23<>"",VLOOKUP(A23,Licenciés!A:G,7,FALSE),"") | L23: =IF(A23<>"","RE","") | M23: =IF(A23<>"",'2022'!$B$4,"") | N23: =IF(A23<>"",3,"") | O23: =IF(A23<>"","TC","") | P23: =IF(A23<>"","M","")
A24: =IF(ISERROR('2022'!D31)=FALSE,'2022'!C31,"") | B24: =IF(A24<>"",VLOOKUP(A24,Licenciés!A:F,2,FALSE),"") | C24: =IF(A24<>"",VLOOKUP(A24,Licenciés!A:F,3,FALSE),"") | D24: =IF(A24<>"",VLOOKUP(A24,Licenciés!A:F,5,FALSE),"") | E24: =IF(A24<>"",VLOOKUP(A24,Licenciés!A:F,6,FALSE),"") | F24: =IF(A24<>"",820,"") | J24: =IF(A24<>"",VLOOKUP(A24,Licenciés!A:G,7,FALSE),"") | L24: =IF(A24<>"","RE","") | M24: =IF(A24<>"",'2022'!$B$4,"") | N24: =IF(A24<>"",4,"") | O24: =IF(A24<>"","TC","") | P24: =IF(A24<>"","M","")
