Workbook

Sheet Interclubs2023
A2: Interclubs Seniors
A4: Lieu : | F4: Club : | M4: Châteauroux | O4: UNION SPORTIVE D AVORD* | R4: 100 m
M5: Gien | O5: VIERZON-VIGNOUX-FOECY ATHLE* | R5: 200 m
E6: Equipe n° | M6: Saint-Pierre des Corps | O6: BOURGES ENTENTE ATHLETISME* | R6: 400 m
O7: AAEE EPERNON | R7: 800 m
C8: JURY | M8: Courses | O8: AS NOGENT-LE-ROTROU
M9: Sauts | O9: ES JOUY ST-PREST ATHLETISME
C10: N° Licence | D10: NOM | E10: PRENOM | F10: SPECIALITE | G10: NIVEAU | M10: Lancers | O10: OC CHATEAUDUN BONNEVAL A.*
D11: =IF(C11<>"",VLOOKUP(C11,Licenciés!A:D,2,FALSE),"") | E11: =IF(C11<>"",VLOOKUP(C11,Licenciés!A:D,3,FALSE),"") | M11: Starter | O11: AC CLOYES
D12: =IF(C12<>"",VLOOKUP(C12,Licenciés!A:D,2,FALSE),"") | E12: =IF(C12<>"",VLOOKUP(C12,Licenciés!A:D,3,FALSE),"") | M12: Marche | O12: ES MAINTENON PIERRES ATHLE.
D13: =IF(C13<>"",VLOOKUP(C13,Licenciés!A:D,2,FALSE),"") | E13: =IF(C13<>"",VLOOKUP(C13,Licenciés!A:D,3,FALSE),"") | M13: Chrono | O13: ATHLE CHARTRES LUCE ASPTT MAINVILLIERS
D14: =IF(C14<>"",VLOOKUP(C14,Licenciés!A:D,2,FALSE),"") | E14: =IF(C14<>"",VLOOKUP(C14,Licenciés!A:D,3,FALSE),"") | M14: Juge Arbitre | O14: ETOILE DREUX ATHLETIC CLUB
D15: =IF(C15<>"",VLOOKUP(C15,Licenciés!A:D,2,FALSE),"") | E15: =IF(C15<>"",VLOOKUP(C15,Licenciés!A:D,3,FALSE),"") | M15: Secrétariat Informatique | O15: LA BERRICHONNE CHATEAUROUX ATHLETIC CLUB*
D16: =IF(C16<>"",VLOOKUP(C16,Licenciés!A:D,2,FALSE),"") | E16: =IF(C16<>"",VLOOKUP(C16,Licenciés!A:D,3,FALSE),"") | O16: EA ISSOUDUN
D17: =IF(C17<>"",VLOOKUP(C17,Licenciés!A:D,2,FALSE),"") | E17: =IF(C17<>"",VLOOKUP(C17,Licenciés!A:D,3,FALSE),"") | M17: Fédéral | O17: AVENIR AMBOISE ATHLETISME
M18: Régional | O18: CA CHINON
A19: Féminines | F19: Masculins | M19: Autre | O19: REVEIL SPORTIF DE ST CYR/LOIRE | R19: 1 500 m
A20: Epreuves | B20: Ordre | C20: N° Licence | D20: NOM | E20: PRENOM | F20: Epreuves | G20: Ordre | H20: N° Licence | I20: NOM | J20: PRENOM | O20: ATHLETIC TROIS TOURS* | R20: 3 000 m
A21: 100 m | B21: 1 | D21: =IF(C21<>"",VLOOKUP(C21,Licenciés!A:C,2,FALSE),"") | E21: =IF(C21<>"",VLOOKUP(C21,Licenciés!A:C,3,FALSE),"") | F21: 100 m | G21: 1 | I21: =IF(H21<>"",VLOOKUP(H21,Licenciés!A:C,2,FALSE),"") | J21: =IF(H21<>"",VLOOKUP(H21,Licenciés!A:C,3,FALSE),"") | K21: =IF((VLOOKUP(C21,Licenciés!A:X,8,FALSE)="COMP"),1,0) -> #N/A | L21: =IF((VLOOKUP(H21,Licenciés!A:X,8,FALSE)="COMP"),1,0) -> #N/A | O21: AS FONDETTES | R21: Haies Hautes
B22: 2 | D22: =IF(C22<>"",VLOOKUP(C22,Licenciés!A:C,2,FALSE),"") | E22: =IF(C22<>"",VLOOKUP(C22,Licenciés!A:C,3,FALSE),"") | G22: 2 | I22: =IF(H22<>"",VLOOKUP(H22,Licenciés!A:C,2,FALSE),"") | J22: =IF(H22<>"",VLOOKUP(H22,Licenciés!A:C,3,FALSE),"") | K22: =IF((VLOOKUP(C22,Licenciés!A:X,8,FALSE)="COMP"),1,0) -> #N/A | L22: =IF((VLOOKUP(H22,Licenciés!A:X,8,FALSE)="COMP"),1,0) -> #N/A | O22: SAINT PIERRE-MONTLOUIS ATHLE* | R22: Haies Basses
A23: 200 m | B23: 1 | D23: =IF(C23<>"",VLOOKUP(C23,Licenciés!A:C,2,FALSE),"") | E23: =IF(C23<>"",VLOOKUP(C23,Licenciés!A:C,3,FALSE),"") | F23: 200 m | G23: 1 | I23: =IF(H23<>"",VLOOKUP(H23,Licenciés!A:C,2,FALSE),"") | J23: =IF(H23<>"",VLOOKUP(H23,Licenciés!A:C,3,FALSE),"") | K23: =IF((VLOOKUP(C23,Licenciés!A:X,8,FALSE)="COMP"),1,0) -> #N/A | L23: =IF((VLOOKUP(H23,Licenciés!A:X,8,FALSE)="COMP"),1,0) -> #N/A | O23: JOUE LES TOURS ATHLETISME | R23: Marche
B24: 2 | D24: =IF(C24<>"",VLOOKUP(C24,Licenciés!A:C,2,FALSE),"") | E24: =IF(C24<>"",VLOOKUP(C24,Licenciés!A:C,3,FALSE),"") | G24: 2 | I24: =IF(H24<>"",VLOOKUP(H24,Licenciés!A:C,2,FALSE),"") | J24: =IF(H24<>"",VLOOKUP(H24,Licenciés!A:C,3,FALSE),"") | K24: =IF((VLOOKUP(C24,Licenciés!A:X,8,FALSE)="COMP"),1,0) -> #N/A | L24: =IF((VLOOKUP(H24,Licenciés!A:X,8,FALSE)="COMP"),1,0) -> #N/A | O24: JOUE RUNNING 37 | R24: Hauteur
A25: 400 m | B25: 1 | D25: =IF(C25<>"",VLOOKUP(C25,Licenciés!A:C,2,FALSE),"") | E25: =IF(C25<>"",VLOOKUP(C25,Licenciés!A:C,3,FALSE),"") | F25: 400 m | G25: 1 | I25: =IF(H25<>"",VLOOKUP(H25,Licenciés!A:C,2,FALSE),"") | J25: =IF(H25<>"",VLOOKUP(H25,Licenciés!A:C,3,FALSE),"") | K25: =IF((VLOOKUP(C25,Licenciés!A:X,8,FALSE)="COMP"),1,0) -> #N/A | L25: =IF((VLOOKUP(H25,Licenciés!A:X,8,FALSE)="COMP"),1,0) -> #N/A | O25: AJ BLOIS-ONZAIN | R25: Perche
B26: 2 | D26: =IF(C26<>"",VLOOKUP(C26,Licenciés!A:C,2,FALSE),"") | E26: =IF(C26<>"",VLOOKUP(C26,Licenciés!A:C,3,FALSE),"") | G26: 2 | I26: =IF(H26<>"",VLOOKUP(H26,Licenciés!A:C,2,FALSE),"") | J26: =IF(H26<>"",VLOOKUP(H26,Licenciés!A:C,3,FALSE),"") | K26: =IF((VLOOKUP(C26,Licenciés!A:X,8,FALSE)="COMP"),1,0) -> #N/A | L26: =IF((VLOOKUP(H26,Licenciés!A:X,8,FALSE)="COMP"),1,0) -> #N/A | O26: AC ROMORANTIN | R26: Longueur
A27: 800 m | B27: 1 | D27: =IF(C27<>"",VLOOKUP(C27,Licenciés!A:C,2,FALSE),"") | E27: =IF(C27<>"",VLOOKUP(C27,Licenciés!A:C,3,FALSE),"") | F27: 800 m | G27: 1 | I27: =IF(H27<>"",VLOOKUP(H27,Licenciés!A:C,2,FALSE),"") | J27: =IF(H27<>"",VLOOKUP(H27,Licenciés!A:C,3,FALSE),"") | K27: =IF((VLOOKUP(C27,Licenciés!A:X,8,FALSE)="COMP"),1,0) -> #N/A | L27: =IF((VLOOKUP(H27,Licenciés!A:X,8,FALSE)="COMP"),1,0) -> #N/A | O27: VINEUIL SPORTS | R27: Triple-Saut
B28: 2 | D28: =IF(C28<>"",VLOOKUP(C28,Licenciés!A:C,2,FALSE),"") | E28: =IF(C28<>"",VLOOKUP(C28,Licenciés!A:C,3,FALSE),"") | G28: 2 | I28: =IF(H28<>"",VLOOKUP(H28,Licenciés!A:C,2,FALSE),"") | J28: =IF(H28<>"",VLOOKUP(H28,Licenciés!A:C,3,FALSE),"") | K28: =IF((VLOOKUP(C28,Licenciés!A:X,8,FALSE)="COMP"),1,0) -> #N/A | L28: =IF((VLOOKUP(H28,Licenciés!A:X,8,FALSE)="COMP"),1,0) -> #N/A | O28: ENTENTE VENDOME MAROLLES ATHLETISME * | R28: Poids
A29: 1 500m | B29: 1 | D29: =IF(C29<>"",VLOOKUP(C29,Licenciés!A:C,2,FALSE),"") | E29: =IF(C29<>"",VLOOKUP(C29,Licenciés!A:C,3,FALSE),"") | F29: 1 500m | G29: 1 | I29: =IF(H29<>"",VLOOKUP(H29,Licenciés!A:C,2,FALSE),"") | J29: =IF(H29<>"",VLOOKUP(H29,Licenciés!A:C,3,FALSE),"") | K29: =IF((VLOOKUP(C29,Licenciés!A:X,8,FALSE)="COMP"),1,0) -> #N/A | L29: =IF((VLOOKUP(H29,Licenciés!A:X,8,FALSE)="COMP"),1,0) -> #N/A | O29: CAM VALLEE DU CHER-CONTROIS | R29: Disque
B30: 2 | D30: =IF(C30<>"",VLOOKUP(C30,Licenciés!A:C,2,FALSE),"") | E30: =IF(C30<>"",VLOOKUP(C30,Licenciés!A:C,3,FALSE),"") | G30: 2 | I30: =IF(H30<>"",VLOOKUP(H30,Licenciés!A:C,2,FALSE),"") | J30: =IF(H30<>"",VLOOKUP(H30,Licenciés!A:C,3,FALSE),"") | K30: =IF((VLOOKUP(C30,Licenciés!A:X,8,FALSE)="COMP"),1,0) -> #N/A | L30: =IF((VLOOKUP(H30,Licenciés!A:X,8,FALSE)="COMP"),1,0) -> #N/A | O30: A.M.O. MER | R30: Marteau
A31: 3 000 m | B31: 1 | D31: =IF(C31<>"",VLOOKUP(C31,Licenciés!A:C,2,FALSE),"") | E31: =IF(C31<>"",VLOOKUP(C31,Licenciés!A:C,3,FALSE),"") | F31: 3000 m | G31: 1 | I31: =IF(H31<>"",VLOOKUP(H31,Licenciés!A:C,2,FALSE),"") | J31: =IF(H31<>"",VLOOKUP(H31,Licenciés!A:C,3,FALSE),"") | K31: =IF((VLOOKUP(C31,Licenciés!A:X,8,FALSE)="COMP"),1,0) -> #N/A | L31: =IF((VLOOKUP(H31,Licenciés!A:X,8,FALSE)="COMP"),1,0) -> #N/A | O31: SARAN LOIRET ATHLETIC CLUB | R31: Javelot
B32: 2 | D32: =IF(C32<>"",VLOOKUP(C32,Licenciés!A:C,2,FALSE),"") | E32: =IF(C32<>"",VLOOKUP(C32,Licenciés!A:C,3,FALSE),"") | G32: 2 | I32: =IF(H32<>"",VLOOKUP(H32,Licenciés!A:C,2,FALSE),"") | J32: =IF(H32<>"",VLOOKUP(H32,Licenciés!A:C,3,FALSE),"") | K32: =IF((VLOOKUP(C32,Licenciés!A:X,8,FALSE)="COMP"),1,0) -> #N/A | L32: =IF((VLOOKUP(H32,Licenciés!A:X,8,FALSE)="COMP"),1,0) -> #N/A | O32: EC ORLEANS CERCLE JULES FERRY* | R32: Relais 4 x 100 m
A33: 100 m Haies | B33: 1 | D33: =IF(C33<>"",VLOOKUP(C33,Licenciés!A:C,2,FALSE),"") | E33: =IF(C33<>"",VLOOKUP(C33,Licenciés!A:C,3,FALSE),"") | F33: 110 m Haies | G33: 1 | I33: =IF(H33<>"",VLOOKUP(H33,Licenciés!A:C,2,FALSE),"") | J33: =IF(H33<>"",VLOOKUP(H33,Licenciés!A:C,3,FALSE),"") | K33: =IF((VLOOKUP(C33,Licenciés!A:X,8,FALSE)="COMP"),1,0) -> #N/A | L33: =IF((VLOOKUP(H33,Licenciés!A:X,8,FALSE)="COMP"),1,0) -> #N/A | O33: J3 SPORTS AMILLY* | R33: Relais 4 x 400 m
B34: 2 | D34: =IF(C34<>"",VLOOKUP(C34,Licenciés!A:C,2,FALSE),"") | E34: =IF(C34<>"",VLOOKUP(C34,Licenciés!A:C,3,FALSE),"") | G34: 2 | I34: =IF(H34<>"",VLOOKUP(H34,Licenciés!A:C,2,FALSE),"") | J34: =IF(H34<>"",VLOOKUP(H34,Licenciés!A:C,3,FALSE),"") | K34: =IF((VLOOKUP(C34,Licenciés!A:X,8,FALSE)="COMP"),1,0) -> #N/A | L34: =IF((VLOOKUP(H34,Licenciés!A:X,8,FALSE)="COMP"),1,0) -> #N/A | O34: USM MONTARGIS
A35: 400 m Haies | B35: 1 | D35: =IF(C35<>"",VLOOKUP(C35,Licenciés!A:C,2,FALSE),"") | E35: =IF(C35<>"",VLOOKUP(C35,Licenciés!A:C,3,FALSE),"") | F35: 400 m Haies | G35: 1 | I35: =IF(H35<>"",VLOOKUP(H35,Licenciés!A:C,2,FALSE),"") | J35: =IF(H35<>"",VLOOKUP(H35,Licenciés!A:C,3,FALSE),"") | K35: =IF((VLOOKUP(C35,Licenciés!A:X,8,FALSE)="COMP"),1,0) -> #N/A | L35: =IF((VLOOKUP(H35,Licenciés!A:X,8,FALSE)="COMP"),1,0) -> #N/A | O35: USM OLIVET
B36: 2 | D36: =IF(C36<>"",VLOOKUP(C36,Licenciés!A:C,2,FALSE),"") | E36: =IF(C36<>"",VLOOKUP(C36,Licenciés!A:C,3,FALSE),"") | G36: 2 | I36: =IF(H36<>"",VLOOKUP(H36,Licenciés!A:C,2,FALSE),"") | J36: =IF(H36<>"",VLOOKUP(H36,Licenciés!A:C,3,FALSE),"") | K36: =IF((VLOOKUP(C36,Licenciés!A:X,8,FALSE)="COMP"),1,0) -> #N/A | L36: =IF((VLOOKUP(H36,Licenciés!A:X,8,FALSE)="COMP"),1,0) -> #N/A | O36: GIEN ATHLE MARATHON
A37: 3 000 m Marche | B37: 1 | D37: =IF(C37<>"",VLOOKUP(C37,Licenciés!A:C,2,FALSE),"") | E37: =IF(C37<>"",VLOOKUP(C37,Licenciés!A:C,3,FALSE),"") | F37: 5 000 m Marche | G37: 1 | I37: =IF(H37<>"",VLOOKUP(H37,Licenciés!A:C,2,FALSE),"") | J37: =IF(H37<>"",VLOOKUP(H37,Licenciés!A:C,3,FALSE),"") | K37: =IF((VLOOKUP(C37,Licenciés!A:X,8,FALSE)="COMP"),1,0) -> #N/A | L37: =IF((VLOOKUP(H37,Licenciés!A:X,8,FALSE)="COMP"),1,0) -> #N/A | O37: ASSOCIATION NEUVILLE ATHLETISME
B38: 2 | D38: =IF(C38<>"",VLOOKUP(C38,Licenciés!A:C,2,FALSE),"") | E38: =IF(C38<>"",VLOOKUP(C38,Licenciés!A:C,3,FALSE),"") | G38: 2 | I38: =IF(H38<>"",VLOOKUP(H38,Licenciés!A:C,2,FALSE),"") | J38: =IF(H38<>"",VLOOKUP(H38,Licenciés!A:C,3,FALSE),"") | K38: =IF((VLOOKUP(C38,Licenciés!A:X,8,FALSE)="COMP"),1,0) -> #N/A | L38: =IF((VLOOKUP(H38,Licenciés!A:X,8,FALSE)="COMP"),1,0) -> #N/A | O38: CA DU PAYS SAUMUROIS
F39: 3 000 m steeple | G39: 1 | I39: =IF(H39<>"",VLOOKUP(H39,Licenciés!A:C,2,FALSE),"") | J39: =IF(H39<>"",VLOOKUP(H39,Licenciés!A:C,3,FALSE),"") | K39: =IF((VLOOKUP(C39,Licenciés!A:X,8,FALSE)="COMP"),1,0) -> #N/A | L39: =IF((VLOOKUP(H39,Licenciés!A:X,8,FALSE)="COMP"),1,0) -> #N/A | O39: ENTENTE SEVRE
G40: 2 | I40: =IF(H40<>"",VLOOKUP(H40,Licenciés!A:C,2,FALSE),"") | J40: =IF(H40<>"",VLOOKUP(H40,Licenciés!A:C,3,FALSE),"") | K40: =IF((VLOOKUP(C40,Licenciés!A:X,8,FALSE)="COMP"),1,0) -> #N/A | L40: =IF((VLOOKUP(H40,Licenciés!A:X,8,FALSE)="COMP"),1,0) -> #N/A
A41: Hauteur | B41: 1 | D41: =IF(C41<>"",VLOOKUP(C41,Licenciés!A:C,2,FALSE),"") | E41: =IF(C41<>"",VLOOKUP(C41,Licenciés!A:C,3,FALSE),"") | F41: Hauteur | G41: 1 | I41: =IF(H41<>"",VLOOKUP(H41,Licenciés!A:C,2,FALSE),"") | J41: =IF(H41<>"",VLOOKUP(H41,Licenciés!A:C,3,FALSE),"") | K41: =IF((VLOOKUP(C41,Licenciés!A:X,8,FALSE)="COMP"),1,0) -> #N/A | L41: =IF((VLOOKUP(H41,Licenciés!A:X,8,FALSE)="COMP"),1,0) -> #N/A
B42: 2 | D42: =IF(C42<>"",VLOOKUP(C42,Licenciés!A:C,2,FALSE),"") | E42: =IF(C42<>"",VLOOKUP(C42,Licenciés!A:C,3,FALSE),"") | G42: 2 | I42: =IF(H42<>"",VLOOKUP(H42,Licenciés!A:C,2,FALSE),"") | J42: =IF(H42<>"",VLOOKUP(H42,Licenciés!A:C,3,FALSE),"") | K42: =IF((VLOOKUP(C42,Licenciés!A:X,8,FALSE)="COMP"),1,0) -> #N/A | L42: =IF((VLOOKUP(H42,Licenciés!A:X,8,FALSE)="COMP"),1,0) -> #N/A
...

Sheet Licenciés
A1: 100089 | B1: MACHEREZ | C1: SERGE | E1: MA | F1: M | G1: 45045 | H1: COMP
A2: 100129 | B2: MUNIER | C2: JEAN-PIERRE | E2: MA | F2: M | G2: 44067 | H2: COMP
A3: 100273 | B3: MARCHAND | C3: JEAN-YVES | E3: MA | F3: M | G3: 28013 | H3: LOISR
A4: 100379 | B4: GROSBOIS | C4: BERNARD | E4: MA | F4: M | G4: 49009 | H4: LOISR
A5: 100380 | B5: MAUNAY | C5: JEAN-LUC | E5: MA | F5: M | G5: 49009 | H5: COMP
A6: 100449 | B6: DEVILLERS | C6: MARIE-CLAUDE | E6: MA | F6: F | G6: 85049 | H6: LOISR
A7: 100505 | B7: DURAND | C7: CORALIE | E7: SE | F7: F | G7: 72063 | H7: COMP
A8: 100510 | B8: EPINEAU | C8: JOSEPH | E8: SE | F8: M | G8: 72021 | H8: COMP
A9: 100512 | B9: EVRARD | C9: VINCENT | E9: SE | F9: M | G9: 45005 | H9: COMP
A10: 100514 | B10: SOURIS | C10: CHRISTOPHE | E10: MA | F10: M | G10: 18035 | H10: LOISR
A11: 100558 | B11: DAVY | C11: JOSEPH | E11: MA | F11: M | G11: 49034 | H11: LOISR
A12: 100625 | B12: IGNAS | C12: PIERRE | E12: SE | F12: M | G12: 72028 | H12: COMP
... A25439: 2530131 | B25439: BANGOURA | C25439: MANGAMORY | E25439: CA | F25439: M | G25439: 45011 | H25439: COMP

Sheet Equipes
A1: Licence (10 max) obligatoire si licencié | B1: Nom (20 caractères max) Obligatoire | C1: Prénom (15 caractères max) - obligatoire | D1: Catégorie (2 caractères max) - obligatoire | E1: Sexe (1 caractère) - obligatoire | F1: Code d'appel (3 caractères - obligatoire) | G1: Code d'appel ep. N+1 eprv multiple (3 caractères) | H1: Perf Engagement num. (sans séparateur) | I1: N° d'ordre dans l'équipe (obligatoire pour import équipe Interclub) | J1: N° club athlète (6 caractères) | K1: nom club (30 caractères max) obligatoire si non licencié | L1: Code Famille (obligatoire Re, si relais) | M1: Nom équipe relais (30 caractères max) - obligatoire si relais | N1: Ordre composition relais (1 caractère) | O1: Catégorie épreuve relais (obligatoire si relais) | P1: Sexe épreuve relais (obligatoire si relais) | Q1: Nom épreuve (12 caractères max) | R1: Dossard | S1: Nationalité (3 caractères) - obligatoire si non licencié
A2: nolicence | B2: nom | C2: prenom | D2: categorie | E2: sexe | F2: codeappel | G2: epcombine | H2: perfengagement | I2: noordreequipe | J2: noclub | K2: nomclub | L2: codefamille | M2: nomrelais | N2: noordrerelais | O2: categorieep | P2: sexeep | Q2: nomepreuve | R2: nodossard | S2: nationalite
A3: =IF(Interclubs2023!D21<>"",Interclubs2023!C21,"") | B3: =IF(A3<>"",LEFT(VLOOKUP(A3,Licenciés!A:F,2,FALSE),20),"") | C3: =IF(A3<>"",LEFT(VLOOKUP(A3,Licenciés!A:F,3,FALSE),15),"") | D3: =IF(A3<>"",VLOOKUP(A3,Licenciés!A:F,5,FALSE),"") | E3: =IF(A3<>"",VLOOKUP(A3,Licenciés!A:F,6,FALSE),"") | F3: =IF(A3<>"", 110,"") | I3: =IF(A3<>"",Interclubs2023!B21,"") | J3: =IF(A3<>"",VLOOKUP(A3,Licenciés!A:G,7,FALSE),"")
A4: =IF(Interclubs2023!D22<>"",Interclubs2023!C22,"") | B4: =IF(A4<>"",LEFT(VLOOKUP(A4,Licenciés!A:F,2,FALSE),20),"") | C4: =IF(A4<>"",LEFT(VLOOKUP(A4,Licenciés!A:F,3,FALSE),15),"") | D4: =IF(A4<>"",VLOOKUP(A4,Licenciés!A:F,5,FALSE),"") | E4: =IF(A4<>"",VLOOKUP(A4,Licenciés!A:F,6,FALSE),"") | F4: =IF(A4<>"", 110,"") | I4: =IF(A4<>"",Interclubs2023!B22,"") | J4: =IF(A4<>"",VLOOKUP(A4,Licenciés!A:G,7,FALSE),"")
A5: =IF(Interclubs2023!D23<>"",Interclubs2023!C23,"") | B5: =IF(A5<>"",LEFT(VLOOKUP(A5,Licenciés!A:F,2,FALSE),20),"") | C5: =IF(A5<>"",LEFT(VLOOKUP(A5,Licenciés!A:F,3,FALSE),15),"") | D5: =IF(A5<>"",VLOOKUP(A5,Licenciés!A:F,5,FALSE),"") | E5: =IF(A5<>"",VLOOKUP(A5,Licenciés!A:F,6,FALSE),"") | F5: =IF(A5<>"", 120,"") | I5: =IF(A5<>"",Interclubs2023!B23,"") | J5: =IF(A5<>"",VLOOKUP(A5,Licenciés!A:G,7,FALSE),"")
A6: =IF(Interclubs2023!D24<>"",Interclubs2023!C24,"") | B6: =IF(A6<>"",LEFT(VLOOKUP(A6,Licenciés!A:F,2,FALSE),20),"") | C6: =IF(A6<>"",LEFT(VLOOKUP(A6,Licenciés!A:F,3,FALSE),15),"") | D6: =IF(A6<>"",VLOOKUP(A6,Licenciés!A:F,5,FALSE),"") | E6: =IF(A6<>"",VLOOKUP(A6,Licenciés!A:F,6,FALSE),"") | F6: =IF(A6<>"", 120,"") | I6: =IF(A6<>"",Interclubs2023!B24,"") | J6: =IF(A6<>"",VLOOKUP(A6,Licenciés!A:G,7,FALSE),"")
A7: =IF(Interclubs2023!D25<>"",Interclubs2023!C25,"") | B7: =IF(A7<>"",LEFT(VLOOKUP(A7,Licenciés!A:F,2,FALSE),20),"") | C7: =IF(A7<>"",LEFT(VLOOKUP(A7,Licenciés!A:F,3,FALSE),15),"") | D7: =IF(A7<>"",VLOOKUP(A7,Licenciés!A:F,5,FALSE),"") | E7: =IF(A7<>"",VLOOKUP(A7,Licenciés!A:F,6,FALSE),"") | F7: =IF(A7<>"", 140,"") | I7: =IF(A7<>"",Interclubs2023!B25,"") | J7: =IF(A7<>"",VLOOKUP(A7,Licenciés!A:G,7,FALSE),"")
A8: =IF(Interclubs2023!D26<>"",Interclubs2023!C26,"") | B8: =IF(A8<>"",LEFT(VLOOKUP(A8,Licenciés!A:F,2,FALSE),20),"") | C8: =IF(A8<>"",LEFT(VLOOKUP(A8,Licenciés!A:F,3,FALSE),15),"") | D8: =IF(A8<>"",VLOOKUP(A8,Licenciés!A:F,5,FALSE),"") | E8: =IF(A8<>"",VLOOKUP(A8,Licenciés!A:F,6,FALSE),"") | F8: =IF(A8<>"", 140,"") | I8: =IF(A8<>"",Interclubs2023!B26,"") | J8: =IF(A8<>"",VLOOKUP(A8,Licenciés!A:G,7,FALSE),"")
A9: =IF(Interclubs2023!D27<>"",Interclubs2023!C27,"") | B9: =IF(A9<>"",LEFT(VLOOKUP(A9,Licenciés!A:F,2,FALSE),20),"") | C9: =IF(A9<>"",LEFT(VLOOKUP(A9,Licenciés!A:F,3,FALSE),15),"") | D9: =IF(A9<>"",VLOOKUP(A9,Licenciés!A:F,5,FALSE),"") | E9: =IF(A9<>"",VLOOKUP(A9,Licenciés!A:F,6,FALSE),"") | F9: =IF(A9<>"", 208,"") | I9: =IF(A9<>"",Interclubs2023!B27,"") | J9: =IF(A9<>"",VLOOKUP(A9,Licenciés!A:G,7,FALSE),"")
A10: =IF(Interclubs2023!D28<>"",Interclubs2023!C28,"") | B10: =IF(A10<>"",LEFT(VLOOKUP(A10,Licenciés!A:F,2,FALSE),20),"") | C10: =IF(A10<>"",LEFT(VLOOKUP(A10,Licenciés!A:F,3,FALSE),15),"") | D10: =IF(A10<>"",VLOOKUP(A10,Licenciés!A:F,5,FALSE),"") | E10: =IF(A10<>"",VLOOKUP(A10,Licenciés!A:F,6,FALSE),"") | F10: =IF(A10<>"", 208,"") | I10: =IF(A10<>"",Interclubs2023!B28,"") | J10: =IF(A10<>"",VLOOKUP(A10,Licenciés!A:G,7,FALSE),"")
A11: =IF(Interclubs2023!D29<>"",Interclubs2023!C29,"") | B11: =IF(A11<>"",LEFT(VLOOKUP(A11,Licenciés!A:F,2,FALSE),20),"") | C11: =IF(A11<>"",LEFT(VLOOKUP(A11,Licenciés!A:F,3,FALSE),15),"") | D11: =IF(A11<>"",VLOOKUP(A11,Licenciés!A:F,5,FALSE),"") | E11: =IF(A11<>"",VLOOKUP(A11,Licenciés!A:F,6,FALSE),"") | F11: =IF(A11<>"", 215,"") | I11: =IF(A11<>"",Interclubs2023!B29,"") | J11: =IF(A11<>"",VLOOKUP(A11,Licenciés!A:G,7,FALSE),"")
A12: =IF(Interclubs2023!D30<>"",Interclubs2023!C30,"") | B12: =IF(A12<>"",LEFT(VLOOKUP(A12,Licenciés!A:F,2,FALSE),20),"") | C12: =IF(A12<>"",LEFT(VLOOKUP(A12,Licenciés!A:F,3,FALSE),15),"") | D12: =IF(A12<>"",VLOOKUP(A12,Licenciés!A:F,5,FALSE),"") | E12: =IF(A12<>"",VLOOKUP(A12,Licenciés!A:F,6,FALSE),"") | F12: =IF(A12<>"", 215,"") | I12: =IF(A12<>"",Interclubs2023!B30,"") | J12: =IF(A12<>"",VLOOKUP(A12,Licenciés!A:G,7,FALSE),"")
A13: =IF(Interclubs2023!D31<>"",Interclubs2023!C31,"") | B13: =IF(A13<>"",LEFT(VLOOKUP(A13,Licenciés!A:F,2,FALSE),20),"") | C13: =IF(A13<>"",LEFT(VLOOKUP(A13,Licenciés!A:F,3,FALSE),15),"") | D13: =IF(A13<>"",VLOOKUP(A13,Licenciés!A:F,5,FALSE),"") | E13: =IF(A13<>"",VLOOKUP(A13,Licenciés!A:F,6,FALSE),"") | F13: =IF(A13<>"", 230,"") | I13: =IF(A13<>"",Interclubs2023!B31,"") | J13: =IF(A13<>"",VLOOKUP(A13,Licenciés!A:G,7,FALSE),"")
A14: =IF(Interclubs2023!D32<>"",Interclubs2023!C32,"") | B14: =IF(A14<>"",LEFT(VLOOKUP(A14,Licenciés!A:F,2,FALSE),20),"") | C14: =IF(A14<>"",LEFT(VLOOKUP(A14,Licenciés!A:F,3,FALSE),15),"") | D14: =IF(A14<>"",VLOOKUP(A14,Licenciés!A:F,5,FALSE),"") | E14: =IF(A14<>"",VLOOKUP(A14,Licenciés!A:F,6,FALSE),"") | F14: =IF(A14<>"", 230,"") | I14: =IF(A14<>"",Interclubs2023!B32,"") | J14: =IF(A14<>"",VLOOKUP(A14,Licenciés!A:G,7,FALSE),"")
A15: =IF(Interclubs2023!D33<>"",Interclubs2023!C33,"") | B15: =IF(A15<>"",LEFT(VLOOKUP(A15,Licenciés!A:F,2,FALSE),20),"") | C15: =IF(A15<>"",LEFT(VLOOKUP(A15,Licenciés!A:F,3,FALSE),15),"") | D15: =IF(A15<>"",VLOOKUP(A15,Licenciés!A:F,5,FALSE),"") | E15: =IF(A15<>"",VLOOKUP(A15,Licenciés!A:F,6,FALSE),"") | F15: =IF(A15<>"", 310,"") | I15: =IF(A15<>"",Interclubs2023!B33,"") | J15: =IF(A15<>"",VLOOKUP(A15,Licenciés!A:G,7,FALSE),"")
A16: =IF(Interclubs2023!D34<>"",Interclubs2023!C34,"") | B16: =IF(A16<>"",LEFT(VLOOKUP(A16,Licenciés!A:F,2,FALSE),20),"") | C16: =IF(A16<>"",LEFT(VLOOKUP(A16,Licenciés!A:F,3,FALSE),15),"") | D16: =IF(A16<>"",VLOOKUP(A16,Licenciés!A:F,5,FALSE),"") | E16: =IF(A16<>"",VLOOKUP(A16,Licenciés!A:F,6,FALSE),"") | F16: =IF(A16<>"", 310,"") | I16: =IF(A16<>"",Interclubs2023!B34,"") | J16: =IF(A16<>"",VLOOKUP(A16,Licenciés!A:G,7,FALSE),"")
A17: =IF(Interclubs2023!D35<>"",Interclubs2023!C35,"") | B17: =IF(A17<>"",LEFT(VLOOKUP(A17,Licenciés!A:F,2,FALSE),20),"") | C17: =IF(A17<>"",LEFT(VLOOKUP(A17,Licenciés!A:F,3,FALSE),15),"") | D17: =IF(A17<>"",VLOOKUP(A17,Licenciés!A:F,5,FALSE),"") | E17: =IF(A17<>"",VLOOKUP(A17,Licenciés!A:F,6,FALSE),"") | F17: =IF(A17<>"", 340,"") | I17: =IF(A17<>"",Interclubs2023!B35,"") | J17: =IF(A17<>"",VLOOKUP(A17,Licenciés!A:G,7,FALSE),"")
A18: =IF(Interclubs2023!D36<>"",Interclubs2023!C36,"") | B18: =IF(A18<>"",LEFT(VLOOKUP(A18,Licenciés!A:F,2,FALSE),20),"") | C18: =IF(A18<>"",LEFT(VLOOKUP(A18,Licenciés!A:F,3,FALSE),15),"") | D18: =IF(A18<>"",VLOOKUP(A18,Licenciés!A:F,5,FALSE),"") | E18: =IF(A18<>"",VLOOKUP(A18,Licenciés!A:F,6,FALSE),"") | F18: =IF(A18<>"", 340,"") | I18: =IF(A18<>"",Interclubs2023!B36,"") | J18: =IF(A18<>"",VLOOKUP(A18,Licenciés!A:G,7,FALSE),"")
A19: =IF(Interclubs2023!D37<>"",Interclubs2023!C37,"") | B19: =IF(A19<>"",LEFT(VLOOKUP(A19,Licenciés!A:F,2,FALSE),20),"") | C19: =IF(A19<>"",LEFT(VLOOKUP(A19,Licenciés!A:F,3,FALSE),15),"") | D19: =IF(A19<>"",VLOOKUP(A19,Licenciés!A:F,5,FALSE),"") | E19: =IF(A19<>"",VLOOKUP(A19,Licenciés!A:F,6,FALSE),"") | F19: =IF(A19<>"", 903,"") | I19: =IF(A19<>"",Interclubs2023!B37,"") | J19: =IF(A19<>"",VLOOKUP(A19,Licenciés!A:G,7,FALSE),"")
A20: =IF(Interclubs2023!D38<>"",Interclubs2023!C38,"") | B20: =IF(A20<>"",LEFT(VLOOKUP(A20,Licenciés!A:F,2,FALSE),20),"") | C20: =IF(A20<>"",LEFT(VLOOKUP(A20,Licenciés!A:F,3,FALSE),15),"") | D20: =IF(A20<>"",VLOOKUP(A20,Licenciés!A:F,5,FALSE),"") | E20: =IF(A20<>"",VLOOKUP(A20,Licenciés!A:F,6,FALSE),"") | F20: =IF(A20<>"", 903,"") | I20: =IF(A20<>"",Interclubs2023!B38,"") | J20: =IF(A20<>"",VLOOKUP(A20,Licenciés!A:G,7,FALSE),"")
A21: =IF(Interclubs2023!D41<>"",Interclubs2023!C41,"") | B21: =IF(A21<>"",LEFT(VLOOKUP(A21,Licenciés!A:F,2,FALSE),20),"") | C21: =IF(A21<>"",LEFT(VLOOKUP(A21,Licenciés!A:F,3,FALSE),15),"") | D21: =IF(A21<>"",VLOOKUP(A21,Licenciés!A:F,5,FALSE),"") | E21: =IF(A21<>"",VLOOKUP(A21,Licenciés!A:F,6,FALSE),"") | F21: =IF(A21<>"", 501,"") | I21: =IF(A21<>"",Interclubs2023!B41,"") | J21: =IF(A21<>"",VLOOKUP(A21,Licenciés!A:G,7,FALSE),"")
A22: =IF(Interclubs2023!D42<>"",Interclubs2023!C42,"") | B22: =IF(A22<>"",LEFT(VLOOKUP(A22,Licenciés!A:F,2,FALSE),20),"") | C22: =IF(A22<>"",LEFT(VLOOKUP(A22,Licenciés!A:F,3,FALSE),15),"") | D22: =IF(A22<>"",VLOOKUP(A22,Licenciés!A:F,5,FALSE),"") | E22: =IF(A22<>"",VLOOKUP(A22,Licenciés!A:F,6,FALSE),"") | F22: =IF(A22<>"", 501,"") | I22: =IF(A22<>"",Interclubs2023!B42,"") | J22: =IF(A22<>"",VLOOKUP(A22,Licenciés!A:G,7,FALSE),"")
A23: =IF(Interclubs2023!D43<>"",Interclubs2023!C43,"") | B23: =IF(A23<>"",LEFT(VLOOKUP(A23,Licenciés!A:F,2,FALSE),20),"") | C23: =IF(A23<>"",LEFT(VLOOKUP(A23,Licenciés!A:F,3,FALSE),15),"") | D23: =IF(A23<>"",VLOOKUP(A23,Licenciés!A:F,5,FALSE),"") | E23: =IF(A23<>"",VLOOKUP(A23,Licenciés!A:F,6,FALSE),"") | F23: =IF(A23<>"", 502,"") | I23: =IF(A23<>"",Interclubs2023!B43,"") | J23: =IF(A23<>"",VLOOKUP(A23,Licenciés!A:G,7,FALSE),"")
A24: =IF(Interclubs2023!D44<>"",Interclubs2023!C44,"") | B24: =IF(A24<>"",LEFT(VLOOKUP(A24,Licenciés!A:F,2,FALSE),20),"") | C24: =IF(A24<>"",LEFT(VLOOKUP(A24,Licenciés!A:F,3,FALSE),15),"") | D24: =IF(A24<>"",VLOOKUP(A24,Licenciés!A:F,5,FALSE),"") | E24: =IF(A24<>"",VLOOKUP(A24,Licenciés!A:F,6,FALSE),"") | F24: =IF(A24<>"", 502,"") | I24: =IF(A24<>"",Interclubs2023!B44,"") | J24: =IF(A24<>"",VLOOKUP(A24,Licenciés!A:G,7,FALSE),"")
A25: =IF(Interclubs2023!D45<>"",Interclubs2023!C45,"") | B25: =IF(A25<>"",LEFT(VLOOKUP(A25,Licenciés!A:F,2,FALSE),20),"") | C25: =IF(A25<>"",LEFT(VLOOKUP(A25,Licenciés!A:F,3,FALSE),15),"") | D25: =IF(A25<>"",VLOOKUP(A25,Licenciés!A:F,5,FALSE),"") | E25: =IF(A25<>"",VLOOKUP(A25,Licenciés!A:F,6,FALSE),"") | F25: =IF(A25<>"", 503,"") | I25: =IF(A25<>"",Interclubs2023!B45,"") | J25: =IF(A25<>"",VLOOKUP(A25,Licenciés!A:G,7,FALSE),"")
A26: =IF(Interclubs2023!D46<>"",Interclubs2023!C46,"") | B26: =IF(A26<>"",LEFT(VLOOKUP(A26,Licenciés!A:F,2,FALSE),20),"") | C26: =IF(A26<>"",LEFT(VLOOKUP(A26,Licenciés!A:F,3,FALSE),15),"") | D26: =IF(A26<>"",VLOOKUP(A26,Licenciés!A:F,5,FALSE),"") | E26: =IF(A26<>"",VLOOKUP(A26,Licenciés!A:F,6,FALSE),"") | F26: =IF(A26<>"", 503,"") | I26: =IF(A26<>"",Interclubs2023!B46,"") | J26: =IF(A26<>"",VLOOKUP(A26,Licenciés!A:G,7,FALSE),"")
A27: =IF(Interclubs2023!D47<>"",Interclubs2023!C47,"") | B27: =IF(A27<>"",LEFT(VLOOKUP(A27,Licenciés!A:F,2,FALSE),20),"") | C27: =IF(A27<>"",LEFT(VLOOKUP(A27,Licenciés!A:F,3,FALSE),15),"") | D27: =IF(A27<>"",VLOOKUP(A27,Licenciés!A:F,5,FALSE),"") | E27: =IF(A27<>"",VLOOKUP(A27,Licenciés!A:F,6,FALSE),"") | F27: =IF(A27<>"", 504,"") | I27: =IF(A27<>"",Interclubs2023!B47,"") | J27: =IF(A27<>"",VLOOKUP(A27,Licenciés!A:G,7,FALSE),"")
A28: =IF(Interclubs2023!D48<>"",Interclubs2023!C48,"") | B28: =IF(A28<>"",LEFT(VLOOKUP(A28,Licenciés!A:F,2,FALSE),20),"") | C28: =IF(A28<>"",LEFT(VLOOKUP(A28,Licenciés!A:F,3,FALSE),15),"") | D28: =IF(A28<>"",VLOOKUP(A28,Licenciés!A:F,5,FALSE),"") | E28: =IF(A28<>"",VLOOKUP(A28,Licenciés!A:F,6,FALSE),"") | F28: =IF(A28<>"", 504,"") | I28: =IF(A28<>"",Interclubs2023!B48,"") | J28: =IF(A28<>"",VLOOKUP(A28,Licenciés!A:G,7,FALSE),"")
A29: =IF(Interclubs2023!D49<>"",Interclubs2023!C49,"") | B29: =IF(A29<>"",LEFT(VLOOKUP(A29,Licenciés!A:F,2,FALSE),20),"") | C29: =IF(A29<>"",LEFT(VLOOKUP(A29,Licenciés!A:F,3,FALSE),15),"") | D29: =IF(A29<>"",VLOOKUP(A29,Licenciés!A:F,5,FALSE),"") | E29: =IF(A29<>"",VLOOKUP(A29,Licenciés!A:F,6,FALSE),"") | F29: =IF(A29<>"", 604,"") | I29: =IF(A29<>"",Interclubs2023!B49,"") | J29: =IF(A29<>"",VLOOKUP(A29,Licenciés!A:G,7,FALSE),"")
A30: =IF(Interclubs2023!D50<>"",Interclubs2023!C50,"") | B30: =IF(A30<>"",LEFT(VLOOKUP(A30,Licenciés!A:F,2,FALSE),20),"") | C30: =IF(A30<>"",LEFT(VLOOKUP(A30,Licenciés!A:F,3,FALSE),15),"") | D30: =IF(A30<>"",VLOOKUP(A30,Licenciés!A:F,5,FALSE),"") | E30: =IF(A30<>"",VLOOKUP(A30,Licenciés!A:F,6,FALSE),"") | F30: =IF(A30<>"", 604,"") | I30: =IF(A30<>"",Interclubs2023!B50,"") | J30: =IF(A30<>"",VLOOKUP(A30,Licenciés!A:G,7,FALSE),"")
A31: =IF(Interclubs2023!D51<>"",Interclubs2023!C51,"") | B31: =IF(A31<>"",LEFT(VLOOKUP(A31,Licenciés!A:F,2,FALSE),20),"") | C31: =IF(A31<>"",LEFT(VLOOKUP(A31,Licenciés!A:F,3,FALSE),15),"") | D31: =IF(A31<>"",VLOOKUP(A31,Licenciés!A:F,5,FALSE),"") | E31: =IF(A31<>"",VLOOKUP(A31,Licenciés!A:F,6,FALSE),"") | F31: =IF(A31<>"", 610,"") | I31: =IF(A31<>"",Interclubs2023!B51,"") | J31: =IF(A31<>"",VLOOKUP(A31,Licenciés!A:G,7,FALSE),"")
A32: =IF(Interclubs2023!D52<>"",Interclubs2023!C52,"") | B32: =IF(A32<>"",LEFT(VLOOKUP(A32,Licenciés!A:F,2,FALSE),20),"") | C32: =IF(A32<>"",LEFT(VLOOKUP(A32,Licenciés!A:F,3,FALSE),15),"") | D32: =IF(A32<>"",VLOOKUP(A32,Licenciés!A:F,5,FALSE),"") | E32: =IF(A32<>"",VLOOKUP(A32,Licenciés!A:F,6,FALSE),"") | F32: =IF(A32<>"", 610,"") | I32: =IF(A32<>"",Interclubs2023!B52,"") | J32: =IF(A32<>"",VLOOKUP(A32,Licenciés!A:G,7,FALSE),"")
A33: =IF(Interclubs2023!D53<>"",Interclubs2023!C53,"") | B33: =IF(A33<>"",LEFT(VLOOKUP(A33,Licenciés!A:F,2,FALSE),20),"") | C33: =IF(A33<>"",LEFT(VLOOKUP(A33,Licenciés!A:F,3,FALSE),15),"") | D33: =IF(A33<>"",VLOOKUP(A33,Licenciés!A:F,5,FALSE),"") | E33: =IF(A33<>"",VLOOKUP(A33,Licenciés!A:F,6,FALSE),"") | F33: =IF(A33<>"", 634,"") | I33: =IF(A33<>"",Interclubs2023!B53,"") | J33: =IF(A33<>"",VLOOKUP(A33,Licenciés!A:G,7,FALSE),"")
A34: =IF(Interclubs2023!D54<>"",Interclubs2023!C54,"") | B34: =IF(A34<>"",LEFT(VLOOKUP(A34,Licenciés!A:F,2,FALSE),20),"") | C34: =IF(A34<>"",LEFT(VLOOKUP(A34,Licenciés!A:F,3,FALSE),15),"") | D34: =IF(A34<>"",VLOOKUP(A34,Licenciés!A:F,5,FALSE),"") | E34: =IF(A34<>"",VLOOKUP(A34,Licenciés!A:F,6,FALSE),"") | F34: =IF(A34<>"", 634,"") | I34: =IF(A34<>"",Interclubs2023!B54,"") | J34: =IF(A34<>"",VLOOKUP(A34,Licenciés!A:G,7,FALSE),"")
A35: =IF(Interclubs2023!D55<>"",Interclubs2023!C55,"") | B35: =IF(A35<>"",LEFT(VLOOKUP(A35,Licenciés!A:F,2,FALSE),20),"") | C35: =IF(A35<>"",LEFT(VLOOKUP(A35,Licenciés!A:F,3,FALSE),15),"") | D35: =IF(A35<>"",VLOOKUP(A35,Licenciés!A:F,5,FALSE),"") | E35: =IF(A35<>"",VLOOKUP(A35,Licenciés!A:F,6,FALSE),"") | F35: =IF(A35<>"", 660,"") | I35: =IF(A35<>"",Interclubs2023!B55,"") | J35: =IF(A35<>"",VLOOKUP(A35,Licenciés!A:G,7,FALSE),"")
A36: =IF(Interclubs2023!D56<>"",Interclubs2023!C56,"") | B36: =IF(A36<>"",LEFT(VLOOKUP(A36,Licenciés!A:F,2,FALSE),20),"") | C36: =IF(A36<>"",LEFT(VLOOKUP(A36,Licenciés!A:F,3,FALSE),15),"") | D36: =IF(A36<>"",VLOOKUP(A36,Licenciés!A:F,5,FALSE),"") | E36: =IF(A36<>"",VLOOKUP(A36,Licenciés!A:F,6,FALSE),"") | F36: =IF(A36<>"", 660,"") | I36: =IF(A36<>"",Interclubs2023!B56,"") | J36: =IF(A36<>"",VLOOKUP(A36,Licenciés!A:G,7,FALSE),"")
A37: =IF(Interclubs2023!D57<>"",Interclubs2023!C57,"") | B37: =IF(A37<>"",LEFT(VLOOKUP(A37,Licenciés!A:F,2,FALSE),20),"") | C37: =IF(A37<>"",LEFT(VLOOKUP(A37,Licenciés!A:F,3,FALSE),15),"") | D37: =IF(A37<>"",VLOOKUP(A37,Licenciés!A:F,5,FALSE),"") | E37: =IF(A37<>"",VLOOKUP(A37,Licenciés!A:F,6,FALSE),"") | F37: =IF(A37<>"", 810,"") | J37: =IF(A37<>"",VLOOKUP(A37,Licenciés!A:G,7,FALSE),"") | L37: =IF(A37<>"","Re","") | M37: =IF(A37<>"",CONCATENATE(Interclubs2023!$H$4," ",Interclubs2023!$F$6),"") | N37: =IF(A37<>"",Interclubs2023!B57,"") | O37: =IF(A37<>"","SE","") | P37: =IF(A37<>"","F","")
A38: =IF(Interclubs2023!D58<>"",Interclubs2023!C58,"") | B38: =IF(A38<>"",LEFT(VLOOKUP(A38,Licenciés!A:F,2,FALSE),20),"") | C38: =IF(A38<>"",LEFT(VLOOKUP(A38,Licenciés!A:F,3,FALSE),15),"") | D38: =IF(A38<>"",VLOOKUP(A38,Licenciés!A:F,5,FALSE),"") | E38: =IF(A38<>"",VLOOKUP(A38,Licenciés!A:F,6,FALSE),"") | F38: =IF(A38<>"", 810,"") | J38: =IF(A38<>"",VLOOKUP(A38,Licenciés!A:G,7,FALSE),"") | L38: =IF(A38<>"","Re","") | M38: =IF(A38<>"",CONCATENATE(Interclubs2023!$H$4," ",Interclubs2023!$F$6),"") | N38: =IF(A38<>"",Interclubs2023!B58,"") | O38: =IF(A38<>"","SE","") | P38: =IF(A38<>"","F","")
A39: =IF(Interclubs2023!D59<>"",Interclubs2023!C59,"") | B39: =IF(A39<>"",LEFT(VLOOKUP(A39,Licenciés!A:F,2,FALSE),20),"") | C39: =IF(A39<>"",LEFT(VLOOKUP(A39,Licenciés!A:F,3,FALSE),15),"") | D39: =IF(A39<>"",VLOOKUP(A39,Licenciés!A:F,5,FALSE),"") | E39: =IF(A39<>"",VLOOKUP(A39,Licenciés!A:F,6,FALSE),"") | F39: =IF(A39<>"", 810,"") | J39: =IF(A39<>"",VLOOKUP(A39,Licenciés!A:G,7,FALSE),"") | L39: =IF(A39<>"","Re","") | M39: =IF(A39<>"",CONCATENATE(Interclubs2023!$H$4," ",Interclubs2023!$F$6),"") | N39: =IF(A39<>"",Interclubs2023!B59,"") | O39: =IF(A39<>"","SE","") | P39: =IF(A39<>"","F","")
A40: =IF(Interclubs2023!D60<>"",Interclubs2023!C60,"") | B40: =IF(A40<>"",LEFT(VLOOKUP(A40,Licenciés!A:F,2,FALSE),20),"") | C40: =IF(A40<>"",LEFT(VLOOKUP(A40,Licenciés!A:F,3,FALSE),15),"") | D40: =IF(A40<>"",VLOOKUP(A40,Licenciés!A:F,5,FALSE),"") | E40: =IF(A40<>"",VLOOKUP(A40,Licenciés!A:F,6,FALSE),"") | F40: =IF(A40<>"", 810,"") | J40: =IF(A40<>"",VLOOKUP(A40,Licenciés!A:G,7,FALSE),"") | L40: =IF(A40<>"","Re","") | M40: =IF(A40<>"",CONCATENATE(Interclubs2023!$H$4," ",Interclubs2023!$F$6),"") | N40: =IF(A40<>"",Interclubs2023!B60,"") | O40: =IF(A40<>"","SE","") | P40: =IF(A40<>"","F","")
...

Sheet Jury
A1: Licence | B1: N° club | C1: N° ligue | D1: Nom | E1: Prenom | F1: Fonction | G1: Sous domaine | H1: Qualite | I1: Ordre édition fonction | J1: Ordre édition sous domaine | K1: Date jury
A2: nolicence | B2: noclub | C2: noligue | D2: nom | E2: prenom | F2: fonction | G2: sousdomaine | H2: qualite | I2: ordreeditfonction | J2: ordreeditsousdomaine | K2: datejury
A3: =IF(Interclubs2023!D11="","",Interclubs2023!C11) | B3: =IF(A3<>"",VLOOKUP(A3,Licenciés!A:G,7,FALSE),"") | C3: =IF(A3<>"","CEN","") | D3: =IF(A3<>"",Interclubs2023!D11,"") | E3: =IF(A3<>"",Interclubs2023!E11,"")
A4: =IF(Interclubs2023!D12="","",Interclubs2023!C12) | B4: =IF(A4<>"",VLOOKUP(A4,Licenciés!A:G,7,FALSE),"") | C4: =IF(A4<>"","CEN","") | D4: =IF(A4<>"",Interclubs2023!D12,"") | E4: =IF(A4<>"",Interclubs2023!E12,"")
A5: =IF(Interclubs2023!D13="","",Interclubs2023!C13) | B5: =IF(A5<>"",VLOOKUP(A5,Licenciés!A:G,7,FALSE),"") | C5: =IF(A5<>"","CEN","") | D5: =IF(A5<>"",Interclubs2023!D13,"") | E5: =IF(A5<>"",Interclubs2023!E13,"")
A6: =IF(Interclubs2023!D14="","",Interclubs2023!C14) | B6: =IF(A6<>"",VLOOKUP(A6,Licenciés!A:G,7,FALSE),"") | C6: =IF(A6<>"","CEN","") | D6: =IF(A6<>"",Interclubs2023!D14,"") | E6: =IF(A6<>"",Interclubs2023!E14,"")
A7: =IF(Interclubs2023!D15="","",Interclubs2023!C15) | B7: =IF(A7<>"",VLOOKUP(A7,Licenciés!A:G,7,FALSE),"") | C7: =IF(A7<>"","CEN","") | D7: =IF(A7<>"",Interclubs2023!D15,"") | E7: =IF(A7<>"",Interclubs2023!E15,"")
A8: =IF(Interclubs2023!D16="","",Interclubs2023!C16) | B8: =IF(A8<>"",VLOOKUP(A8,Licenciés!A:G,7,FALSE),"") | C8: =IF(A8<>"","CEN","") | D8: =IF(A8<>"",Interclubs2023!D16,"") | E8: =IF(A8<>"",Interclubs2023!E16,"")
A9: =IF(Interclubs2023!D17="","",Interclubs2023!C17) | B9: =IF(A9<>"",VLOOKUP(A9,Licenciés!A:G,7,FALSE),"") | C9: =IF(A9<>"","CEN","") | D9: =IF(A9<>"",Interclubs2023!D17,"") | E9: =IF(A9<>"",Interclubs2023!E17,"")
