Workbook

Sheet Intercomités2024
A2: Intercomités 2025
A4: Comité : | F4: Lettre : | O4: Comité 18
O5: Comité 28
C6: JURY | M6: Courses | O6: Comité 37
M7: Sauts | O7: Comité 41
C8: N° Licence | D8: NOM | E8: PRENOM | F8: SPECIALITE | G8: NIVEAU | M8: Lancers | O8: Comité 45
M9: Starter
M10: Marche
M11: Chrono
M12: Juge Arbitre
M13: Secrétariat Informatique
A17: U14
A19: Féminines | F19: Masculins
A20: Epreuves | B20: Ordre | C20: N° Licence | D20: NOM | E20: PRENOM | F20: Epreuves | G20: Ordre | H20: N° Licence | I20: NOM | J20: PRENOM | M20: Fédéral
A21: 50 m | B21: 1 | D21: =IF(C21<>"",VLOOKUP(C21,Licenciés!A:C,2,FALSE),"") | E21: =IF(C21<>"",VLOOKUP(C21,Licenciés!A:C,3,FALSE),"") | F21: 50 m | G21: 1 | I21: =IF(H21<>"",VLOOKUP(H21,Licenciés!A:C,2,FALSE),"") | J21: =IF(H21<>"",VLOOKUP(H21,Licenciés!A:C,3,FALSE),"") | M21: Régional
B22: 2 | D22: =IF(C22<>"",VLOOKUP(C22,Licenciés!A:C,2,FALSE),"") | E22: =IF(C22<>"",VLOOKUP(C22,Licenciés!A:C,3,FALSE),"") | G22: 2 | I22: =IF(H22<>"",VLOOKUP(H22,Licenciés!A:C,2,FALSE),"") | J22: =IF(H22<>"",VLOOKUP(H22,Licenciés!A:C,3,FALSE),"") | M22: Autre
A23: 1000 m | B23: 1 | D23: =IF(C23<>"",VLOOKUP(C23,Licenciés!A:C,2,FALSE),"") | E23: =IF(C23<>"",VLOOKUP(C23,Licenciés!A:C,3,FALSE),"") | F23: 1000 m | G23: 1 | I23: =IF(H23<>"",VLOOKUP(H23,Licenciés!A:C,2,FALSE),"") | J23: =IF(H23<>"",VLOOKUP(H23,Licenciés!A:C,3,FALSE),"")
B24: 2 | D24: =IF(C24<>"",VLOOKUP(C24,Licenciés!A:C,2,FALSE),"") | E24: =IF(C24<>"",VLOOKUP(C24,Licenciés!A:C,3,FALSE),"") | G24: 2 | I24: =IF(H24<>"",VLOOKUP(H24,Licenciés!A:C,2,FALSE),"") | J24: =IF(H24<>"",VLOOKUP(H24,Licenciés!A:C,3,FALSE),"")
A25: 50 m haies | B25: 1 | D25: =IF(C25<>"",VLOOKUP(C25,Licenciés!A:C,2,FALSE),"") | E25: =IF(C25<>"",VLOOKUP(C25,Licenciés!A:C,3,FALSE),"") | F25: 50 m haies | G25: 1 | I25: =IF(H25<>"",VLOOKUP(H25,Licenciés!A:C,2,FALSE),"") | J25: =IF(H25<>"",VLOOKUP(H25,Licenciés!A:C,3,FALSE),"")
B26: 2 | D26: =IF(C26<>"",VLOOKUP(C26,Licenciés!A:C,2,FALSE),"") | E26: =IF(C26<>"",VLOOKUP(C26,Licenciés!A:C,3,FALSE),"") | G26: 2 | I26: =IF(H26<>"",VLOOKUP(H26,Licenciés!A:C,2,FALSE),"") | J26: =IF(H26<>"",VLOOKUP(H26,Licenciés!A:C,3,FALSE),"")
A27: Hauteur | B27: 1 | D27: =IF(C27<>"",VLOOKUP(C27,Licenciés!A:C,2,FALSE),"") | E27: =IF(C27<>"",VLOOKUP(C27,Licenciés!A:C,3,FALSE),"") | F27: Hauteur | G27: 1 | I27: =IF(H27<>"",VLOOKUP(H27,Licenciés!A:C,2,FALSE),"") | J27: =IF(H27<>"",VLOOKUP(H27,Licenciés!A:C,3,FALSE),"")
B28: 2 | D28: =IF(C28<>"",VLOOKUP(C28,Licenciés!A:C,2,FALSE),"") | E28: =IF(C28<>"",VLOOKUP(C28,Licenciés!A:C,3,FALSE),"") | G28: 2 | I28: =IF(H28<>"",VLOOKUP(H28,Licenciés!A:C,2,FALSE),"") | J28: =IF(H28<>"",VLOOKUP(H28,Licenciés!A:C,3,FALSE),"")
A29: Perche | B29: 1 | D29: =IF(C29<>"",VLOOKUP(C29,Licenciés!A:C,2,FALSE),"") | E29: =IF(C29<>"",VLOOKUP(C29,Licenciés!A:C,3,FALSE),"") | F29: Perche | G29: 1 | I29: =IF(H29<>"",VLOOKUP(H29,Licenciés!A:C,2,FALSE),"") | J29: =IF(H29<>"",VLOOKUP(H29,Licenciés!A:C,3,FALSE),"")
B30: 2 | D30: =IF(C30<>"",VLOOKUP(C30,Licenciés!A:C,2,FALSE),"") | E30: =IF(C30<>"",VLOOKUP(C30,Licenciés!A:C,3,FALSE),"") | G30: 2 | I30: =IF(H30<>"",VLOOKUP(H30,Licenciés!A:C,2,FALSE),"") | J30: =IF(H30<>"",VLOOKUP(H30,Licenciés!A:C,3,FALSE),"")
A31: Longueur | B31: 1 | D31: =IF(C31<>"",VLOOKUP(C31,Licenciés!A:C,2,FALSE),"") | E31: =IF(C31<>"",VLOOKUP(C31,Licenciés!A:C,3,FALSE),"") | F31: Longueur | G31: 1 | I31: =IF(H31<>"",VLOOKUP(H31,Licenciés!A:C,2,FALSE),"") | J31: =IF(H31<>"",VLOOKUP(H31,Licenciés!A:C,3,FALSE),"")
B32: 2 | D32: =IF(C32<>"",VLOOKUP(C32,Licenciés!A:C,2,FALSE),"") | E32: =IF(C32<>"",VLOOKUP(C32,Licenciés!A:C,3,FALSE),"") | G32: 2 | I32: =IF(H32<>"",VLOOKUP(H32,Licenciés!A:C,2,FALSE),"") | J32: =IF(H32<>"",VLOOKUP(H32,Licenciés!A:C,3,FALSE),"")
A33: Triple-Saut | B33: 1 | D33: =IF(C33<>"",VLOOKUP(C33,Licenciés!A:C,2,FALSE),"") | E33: =IF(C33<>"",VLOOKUP(C33,Licenciés!A:C,3,FALSE),"") | F33: Triple-Saut | G33: 1 | I33: =IF(H33<>"",VLOOKUP(H33,Licenciés!A:C,2,FALSE),"") | J33: =IF(H33<>"",VLOOKUP(H33,Licenciés!A:C,3,FALSE),"")
B34: 2 | D34: =IF(C34<>"",VLOOKUP(C34,Licenciés!A:C,2,FALSE),"") | E34: =IF(C34<>"",VLOOKUP(C34,Licenciés!A:C,3,FALSE),"") | G34: 2 | I34: =IF(H34<>"",VLOOKUP(H34,Licenciés!A:C,2,FALSE),"") | J34: =IF(H34<>"",VLOOKUP(H34,Licenciés!A:C,3,FALSE),"")
A35: Poids | B35: 1 | D35: =IF(C35<>"",VLOOKUP(C35,Licenciés!A:C,2,FALSE),"") | E35: =IF(C35<>"",VLOOKUP(C35,Licenciés!A:C,3,FALSE),"") | F35: Poids | G35: 1 | I35: =IF(H35<>"",VLOOKUP(H35,Licenciés!A:C,2,FALSE),"") | J35: =IF(H35<>"",VLOOKUP(H35,Licenciés!A:C,3,FALSE),"")
B36: 2 | D36: =IF(C36<>"",VLOOKUP(C36,Licenciés!A:C,2,FALSE),"") | E36: =IF(C36<>"",VLOOKUP(C36,Licenciés!A:C,3,FALSE),"") | G36: 2 | I36: =IF(H36<>"",VLOOKUP(H36,Licenciés!A:C,2,FALSE),"") | J36: =IF(H36<>"",VLOOKUP(H36,Licenciés!A:C,3,FALSE),"")
A37: Disque | B37: 1 | D37: =IF(C37<>"",VLOOKUP(C37,Licenciés!A:C,2,FALSE),"") | E37: =IF(C37<>"",VLOOKUP(C37,Licenciés!A:C,3,FALSE),"") | F37: Disque | G37: 1 | I37: =IF(H37<>"",VLOOKUP(H37,Licenciés!A:C,2,FALSE),"") | J37: =IF(H37<>"",VLOOKUP(H37,Licenciés!A:C,3,FALSE),"")
B38: 2 | D38: =IF(C38<>"",VLOOKUP(C38,Licenciés!A:C,2,FALSE),"") | E38: =IF(C38<>"",VLOOKUP(C38,Licenciés!A:C,3,FALSE),"") | G38: 2 | I38: =IF(H38<>"",VLOOKUP(H38,Licenciés!A:C,2,FALSE),"") | J38: =IF(H38<>"",VLOOKUP(H38,Licenciés!A:C,3,FALSE),"")
A39: Marteau | B39: 1 | D39: =IF(C39<>"",VLOOKUP(C39,Licenciés!A:C,2,FALSE),"") | E39: =IF(C39<>"",VLOOKUP(C39,Licenciés!A:C,3,FALSE),"") | F39: Marteau | G39: 1 | I39: =IF(H39<>"",VLOOKUP(H39,Licenciés!A:C,2,FALSE),"") | J39: =IF(H39<>"",VLOOKUP(H39,Licenciés!A:C,3,FALSE),"")
B40: 2 | D40: =IF(C40<>"",VLOOKUP(C40,Licenciés!A:C,2,FALSE),"") | E40: =IF(C40<>"",VLOOKUP(C40,Licenciés!A:C,3,FALSE),"") | G40: 2 | I40: =IF(H40<>"",VLOOKUP(H40,Licenciés!A:C,2,FALSE),"") | J40: =IF(H40<>"",VLOOKUP(H40,Licenciés!A:C,3,FALSE),"")
A41: Javelot | B41: 1 | D41: =IF(C41<>"",VLOOKUP(C41,Licenciés!A:C,2,FALSE),"") | E41: =IF(C41<>"",VLOOKUP(C41,Licenciés!A:C,3,FALSE),"") | F41: Javelot | G41: 1 | I41: =IF(H41<>"",VLOOKUP(H41,Licenciés!A:C,2,FALSE),"") | J41: =IF(H41<>"",VLOOKUP(H41,Licenciés!A:C,3,FALSE),"")
B42: 2 | D42: =IF(C42<>"",VLOOKUP(C42,Licenciés!A:C,2,FALSE),"") | E42: =IF(C42<>"",VLOOKUP(C42,Licenciés!A:C,3,FALSE),"") | G42: 2 | I42: =IF(H42<>"",VLOOKUP(H42,Licenciés!A:C,2,FALSE),"") | J42: =IF(H42<>"",VLOOKUP(H42,Licenciés!A:C,3,FALSE),"")
A43: 2000 m marche | B43: 1 | D43: =IF(C43<>"",VLOOKUP(C43,Licenciés!A:C,2,FALSE),"") | E43: =IF(C43<>"",VLOOKUP(C43,Licenciés!A:C,3,FALSE),"") | F43: 2000 m marche | G43: 1 | I43: =IF(H43<>"",VLOOKUP(H43,Licenciés!A:C,2,FALSE),"") | J43: =IF(H43<>"",VLOOKUP(H43,Licenciés!A:C,3,FALSE),"")
B44: 2 | D44: =IF(C44<>"",VLOOKUP(C44,Licenciés!A:C,2,FALSE),"") | E44: =IF(C44<>"",VLOOKUP(C44,Licenciés!A:C,3,FALSE),"") | G44: 2 | I44: =IF(H44<>"",VLOOKUP(H44,Licenciés!A:C,2,FALSE),"") | J44: =IF(H44<>"",VLOOKUP(H44,Licenciés!A:C,3,FALSE),"")
A45: Relais 4 x 60 m | B45: 1 | D45: =IF(C45<>"",VLOOKUP(C45,Licenciés!A:C,2,FALSE),"") | E45: =IF(C45<>"",VLOOKUP(C45,Licenciés!A:C,3,FALSE),"") | F45: Relais 4 x 60 m | G45: 1 | I45: =IF(H45<>"",VLOOKUP(H45,Licenciés!A:C,2,FALSE),"") | J45: =IF(H45<>"",VLOOKUP(H45,Licenciés!A:C,3,FALSE),"")
B46: 2 | D46: =IF(C46<>"",VLOOKUP(C46,Licenciés!A:C,2,FALSE),"") | E46: =IF(C46<>"",VLOOKUP(C46,Licenciés!A:C,3,FALSE),"") | G46: 2 | I46: =IF(H46<>"",VLOOKUP(H46,Licenciés!A:C,2,FALSE),"") | J46: =IF(H46<>"",VLOOKUP(H46,Licenciés!A:C,3,FALSE),"")
...

Sheet Licenciés
A1: 2191913 | B1: ALBENQUE | C1: LEIA | E1: BE | F1: F | G1: 018003
A2: 2451055 | B2: ALVARO | C2: ABEL | E2: BE | F2: M | G2: 018003
A3: 2345233 | B3: BARA | C3: ANTOINE | E3: BE | F3: M | G3: 018003
A4: 2205609 | B4: BARONNET | C4: GREGOIRE | E4: BE | F4: M | G4: 018003
A5: 2572623 | B5: BERGER | C5: CORALIE | E5: BE | F5: F | G5: 018003
A6: 2345249 | B6: BERTON | C6: ARTHUR | E6: BE | F6: M | G6: 018003
A7: 2612716 | B7: BESSEMOULIN | C7: CAMILLE | E7: BE | F7: M | G7: 018003
A8: 2618306 | B8: CELEGATO | C8: LEONIE | E8: BE | F8: F | G8: 018003
A9: 2346086 | B9: DEREGNAUCOURT | C9: CYRIAC | E9: BE | F9: M | G9: 018003
A10: 2519452 | B10: DESBOIS | C10: ZELIE | E10: BE | F10: F | G10: 018003
A11: 2457316 | B11: DOUCET | C11: CAPUCINE | E11: BE | F11: F | G11: 018003
A12: 2178920 | B12: DUSSAUZE | C12: HADRIEN | E12: BE | F12: M | G12: 018003
... A1734: 2702525 | B1734: DELECLUSE | C1734: MATTHEW | E1734: MI | F1734: M | G1734: 045059

Sheet Equipes
A1: ATH | B1: ATH | C1: ATH | D1: ATH | E1: ATH | F1: ATH | G1: ATH | H1: ATH | I1: EPR | J1: EPR | K1: ENG | L1: EPR | M1: EPR | N1: EPR | O1: EPR | P1: EPR | Q1: EQU | R1: EQU | S1: INT | T1: INT | U1: INT | V1: INT | W1: ENG | X1: EQU | Y1: EQU | Z1: EQU | AA1: EQU | AB1: EQU | AC1: EQU | AD1: EQU | AE1: EQU | AF1: EPR | AG1: EPR | AH1: EPR | AI1: EPR | AJ1: EPR | AK1: EPR | AL1: EPR | AM1: ENG | AN1: ENG | AO1: ENG | AP1: ENG | AQ1: ENG | AR1: ENG | AS1: ENG | AT1: ENG | AU1: ENG | AV1: EPR | AW1: EPR | AX1: ATH | AY1: ATH | AZ1: ATH | BA1: ATH | BB1: RES | BC1: RES | BD1: RES | BE1: RES | BF1: RES | BG1: RES | BH1: RES | BI1: RES | BJ1: RES | BK1: RES | BL1: RES | BM1: RES | BN1: RES | BO1: RES
A2: Num licence. Non obligatoire mais essentiel si licencié | B2: Nom | C2: Prénom | D2: Nationalité (3 caractères) | E2: Catégorie athlète (2 car. SE, BE, .. Ou 3 car M45, F50, .. | F2: Date de Naissance (complète ou année naissance seule) | G2: Sexe athlète (M ou F) | H2: Accepte de voir son identité sur le web (O ou N). Si vide = O (oui) | I2: Code Epreuve FFA | J2: Libellé complémentaire épreuve (ne pas remplir si code appel piste) | K2: Ordre dans le relais | L2: Code FFA sous épreuve (ex epv multiples, combinées, Ekiden (003) | M2: Libellé complémentaire sous épreuve | N2: Ordre d'édition de la sous-épreuve dans l'interface | O2: Distance (en mètres, pas de séparateur), obligatoire si running | P2: Durée (ex 240000 pour 24h, 003000 pour 30'), obligatoire si course en durée | Q2: Nom de l'Equipe | R2: Lettre de l'Equipe (interclub) | S2: Nom InterClub | T2: Sexe InterClub (M, F, X) | U2: Catégorie InterClub (2 caract. maxi) | V2: Ordre athlète pour engagement Interclub | W2: Numéro de dossard | X2: Catégorie de l'équipe | Y2: Sexe de l'équipe | Z2: Code FFA de l'équipe | AA2: Perf engagement de l'équipe | AB2: numéro d'équipe | AC2: Challenge (ex UNSS, ENTR, UFOLEP, et…) | AD2: Exclure l'équipe du classement par équipe (O ou N), si vide N par défaut | AE2: Code critérium (division en interclub) lié à l'équipe | AF2: Catégorie de l'épreuve (si vide TC par défaut) | AG2: Sexe de l'épreuve (si vide X par défaut) | AH2: Ordre d'édition de l'épreuve dans l'interface | AI2: Type cross | AJ2: Commentaire épreuve | AK2: Heure de l'épreuve (chiffre uniquement, ex 9h20 -> 0920 | AL2: Jour de l'Epreuve (1, 2, etc.). Si vide = 1 | AM2: Perf d'Engagement athlète | AN2: Statut (I ou E) individuel ou Equipe | AO2: Code critérium (division en interclub) lié à l'athlète | AP2: Confirmation (O ou N) Si vide -> O par défaut) | AQ2: Hors concours (O ou N) Si vide -> N par défaut) | AR2: Cotisation Payée (O ou N), si vide N par défaut | AS2: Invité(e) O ou N | AT2: Certificat Medical fourni (O ou N), Si vide -> N par défaut) | AU2: info Libre (lié à l'athlète) | AV2: DistanceTour (pour les érpeuves en durée) | AW2: Distance Depart au PremierTour (epv en durée) | AX2: Numéro FFA du club de l'athlète | AY2: libllé du club de l'athlète | AZ2: libllé du club non officiel de l'athlète | BA2: Type de licence (COMP, LOISR, et…) | BB2: Tour (7= Finale, 6=1/2 Finale, 5=1/4 de finale, … 2=Série)), 7 si vide | BC2: Nom du tour (Finale, Concours, Séries, etc..). Si vide libellé e-Logica | BD2: Numéro du tour 1, 2, …), 1 si vide | BE2: Numéro du couloir | BF2: Commentaire | BG2: Type de Chrono (E, M ou vide) | BH2: Vent (si sprint, haies, longueur, Triple) | BI2: Place | BJ2: Perf | BK2: Qualif | BL2: Perf officielle | BM2: Perf réelle | BN2: Perf Parcours cumulée (temps du baton) | BO2: Perf Athlète (Temps de l'athlète Ekiden)
A3: Licence | B3: Nom | C3: Prenom | D3: Nationalite | E3: Categorie | F3: DateNaissance | G3: Sexe | H3: RGPD | I3: CodeAppel | J3: NomEpreuve | K3: OrdreRelaiAthlete | L3: CodeAppelSousEpreuve | M3: NomSousEpreuve | N3: OrdreEditionSousEpreuve | O3: DistanceEpreuve | P3: DureeEpreuve | Q3: NomEquipe | R3: LettreEquipe | S3: NomInterClub | T3: CodeSexeInterClub | U3: CategorieInterClub | V3: OrdreAthleteSerieEpreuveInterClub | W3: NumDossard | X3: CategorieEquipe | Y3: SexeEquipe | Z3: STRCODNUMClubEquipe | AA3: PerfEquipe | AB3: NumEquipe | AC3: ChallengeEquipe | AD3: ExclureClassementEquipe | AE3: DivisionEquipeIC | AF3: CategorieEp | AG3: SexeEpreuve | AH3: OrdreEditionEpreuve | AI3: TypeCross | AJ3: CommentaireEpreuve | AK3: HeureEpreuve | AL3: JourEpreuve | AM3: PerfEngagement | AN3: EquipeIndividuel | AO3: Division | AP3: Confirmation | AQ3: HorsConcours | AR3: CotisationPayee | AS3: Invite | AT3: CertificatMedical | AU3: InformationLibre | AV3: DistanceTourEpreuve | AW3: DistanceDepartPremierTourEpreuve | AX3: STRCODNUMClubAthlete | AY3: NomClub | AZ3: NomClubNonOfficiel | BA3: LibelleCourtTypeLicence | BB3: Tour | BC3: NomTour | BD3: NumSerie | BE3: Couloir | BF3: Commentaire | BG3: Chrono | BH3: Vent | BI3: Place | BJ3: Perf | BK3: Qualif | BL3: PerfOff | BM3: PerfReelle | BN3: PerfCumulee | BO3: PerfAthlete
A4: =IF(Intercomités2024!C21<>"",Intercomités2024!C21,"") | B4: =IF(A4<>"",LEFT(VLOOKUP(A4,Licenciés!A:F,2,FALSE),20),"") | C4: =IF(A4<>"",LEFT(VLOOKUP(A4,Licenciés!A:F,3,FALSE),15),"") | E4: =IF(A4<>"",LEFT(VLOOKUP(A4,Licenciés!A:F,5,FALSE),15),"") | G4: =IF(A4<>"",LEFT(VLOOKUP(A4,Licenciés!A:F,6,FALSE),15),"") | I4: =IF(A4<>"",104,"") | Q4: =IF(A4<>"",Intercomités2024!$C$4,"") | R4: =IF(A4<>"",UPPER(Intercomités2024!$H$4),"") | S4: =IF(A4<>"","U14F","") | T4: =IF(A4<>"","F","") | U4: =IF(A4<>"","BE","") | V4: =IF(A4<>"",1,"") | X4: =IF(A4<>"","BE","") | Y4: =IF(A4<>"","F","") | AF4: =IF(A4<>"","BE","") | AG4: =IF(A4<>"","F","")
A5: =IF(Intercomités2024!C22<>"",Intercomités2024!C22,"") | B5: =IF(A5<>"",LEFT(VLOOKUP(A5,Licenciés!A:F,2,FALSE),20),"") | C5: =IF(A5<>"",LEFT(VLOOKUP(A5,Licenciés!A:F,3,FALSE),15),"") | E5: =IF(A5<>"",LEFT(VLOOKUP(A5,Licenciés!A:F,5,FALSE),15),"") | G5: =IF(A5<>"",LEFT(VLOOKUP(A5,Licenciés!A:F,6,FALSE),15),"") | I5: =IF(A5<>"",104,"") | Q5: =IF(A5<>"",Intercomités2024!$C$4,"") | R5: =IF(A5<>"",UPPER(Intercomités2024!$H$4),"") | S5: =IF(A5<>"","U14F","") | T5: =IF(A5<>"","F","") | U5: =IF(A5<>"","BE","") | V5: =IF(A5<>"",2,"") | X5: =IF(A5<>"","BE","") | Y5: =IF(A5<>"","F","") | AF5: =IF(A5<>"","BE","") | AG5: =IF(A5<>"","F","")
A6: =IF(Intercomités2024!C23<>"",Intercomités2024!C23,"") | B6: =IF(A6<>"",LEFT(VLOOKUP(A6,Licenciés!A:F,2,FALSE),20),"") | C6: =IF(A6<>"",LEFT(VLOOKUP(A6,Licenciés!A:F,3,FALSE),15),"") | E6: =IF(A6<>"",LEFT(VLOOKUP(A6,Licenciés!A:F,5,FALSE),15),"") | G6: =IF(A6<>"",LEFT(VLOOKUP(A6,Licenciés!A:F,6,FALSE),15),"") | I6: =IF(A6<>"",210,"") | Q6: =IF(A6<>"",Intercomités2024!$C$4,"") | R6: =IF(A6<>"",UPPER(Intercomités2024!$H$4),"") | S6: =IF(A6<>"","U14F","") | T6: =IF(A6<>"","F","") | U6: =IF(A6<>"","BE","") | V6: =IF(A6<>"",1,"") | X6: =IF(A6<>"","BE","") | Y6: =IF(A6<>"","F","") | AF6: =IF(A6<>"","BE","") | AG6: =IF(A6<>"","F","")
A7: =IF(Intercomités2024!C24<>"",Intercomités2024!C24,"") | B7: =IF(A7<>"",LEFT(VLOOKUP(A7,Licenciés!A:F,2,FALSE),20),"") | C7: =IF(A7<>"",LEFT(VLOOKUP(A7,Licenciés!A:F,3,FALSE),15),"") | E7: =IF(A7<>"",LEFT(VLOOKUP(A7,Licenciés!A:F,5,FALSE),15),"") | G7: =IF(A7<>"",LEFT(VLOOKUP(A7,Licenciés!A:F,6,FALSE),15),"") | I7: =IF(A7<>"",210,"") | Q7: =IF(A7<>"",Intercomités2024!$C$4,"") | R7: =IF(A7<>"",UPPER(Intercomités2024!$H$4),"") | S7: =IF(A7<>"","U14F","") | T7: =IF(A7<>"","F","") | U7: =IF(A7<>"","BE","") | V7: =IF(A7<>"",2,"") | X7: =IF(A7<>"","BE","") | Y7: =IF(A7<>"","F","") | AF7: =IF(A7<>"","BE","") | AG7: =IF(A7<>"","F","")
A8: =IF(Intercomités2024!C25<>"",Intercomités2024!C25,"") | B8: =IF(A8<>"",LEFT(VLOOKUP(A8,Licenciés!A:F,2,FALSE),20),"") | C8: =IF(A8<>"",LEFT(VLOOKUP(A8,Licenciés!A:F,3,FALSE),15),"") | E8: =IF(A8<>"",LEFT(VLOOKUP(A8,Licenciés!A:F,5,FALSE),15),"") | G8: =IF(A8<>"",LEFT(VLOOKUP(A8,Licenciés!A:F,6,FALSE),15),"") | I8: =IF(A8<>"",321,"") | Q8: =IF(A8<>"",Intercomités2024!$C$4,"") | R8: =IF(A8<>"",UPPER(Intercomités2024!$H$4),"") | S8: =IF(A8<>"","U14F","") | T8: =IF(A8<>"","F","") | U8: =IF(A8<>"","BE","") | V8: =IF(A8<>"",1,"") | X8: =IF(A8<>"","BE","") | Y8: =IF(A8<>"","F","") | AF8: =IF(A8<>"","BE","") | AG8: =IF(A8<>"","F","")
A9: =IF(Intercomités2024!C26<>"",Intercomités2024!C26,"") | B9: =IF(A9<>"",LEFT(VLOOKUP(A9,Licenciés!A:F,2,FALSE),20),"") | C9: =IF(A9<>"",LEFT(VLOOKUP(A9,Licenciés!A:F,3,FALSE),15),"") | E9: =IF(A9<>"",LEFT(VLOOKUP(A9,Licenciés!A:F,5,FALSE),15),"") | G9: =IF(A9<>"",LEFT(VLOOKUP(A9,Licenciés!A:F,6,FALSE),15),"") | I9: =IF(A9<>"",321,"") | Q9: =IF(A9<>"",Intercomités2024!$C$4,"") | R9: =IF(A9<>"",UPPER(Intercomités2024!$H$4),"") | S9: =IF(A9<>"","U14F","") | T9: =IF(A9<>"","F","") | U9: =IF(A9<>"","BE","") | V9: =IF(A9<>"",2,"") | X9: =IF(A9<>"","BE","") | Y9: =IF(A9<>"","F","") | AF9: =IF(A9<>"","BE","") | AG9: =IF(A9<>"","F","")
A10: =IF(Intercomités2024!C27<>"",Intercomités2024!C27,"") | B10: =IF(A10<>"",LEFT(VLOOKUP(A10,Licenciés!A:F,2,FALSE),20),"") | C10: =IF(A10<>"",LEFT(VLOOKUP(A10,Licenciés!A:F,3,FALSE),15),"") | E10: =IF(A10<>"",LEFT(VLOOKUP(A10,Licenciés!A:F,5,FALSE),15),"") | G10: =IF(A10<>"",LEFT(VLOOKUP(A10,Licenciés!A:F,6,FALSE),15),"") | I10: =IF(A10<>"",501,"") | Q10: =IF(A10<>"",Intercomités2024!$C$4,"") | R10: =IF(A10<>"",UPPER(Intercomités2024!$H$4),"") | S10: =IF(A10<>"","U14F","") | T10: =IF(A10<>"","F","") | U10: =IF(A10<>"","BE","") | V10: =IF(A10<>"",1,"") | X10: =IF(A10<>"","BE","") | Y10: =IF(A10<>"","F","") | AF10: =IF(A10<>"","BE","") | AG10: =IF(A10<>"","F","")
A11: =IF(Intercomités2024!C28<>"",Intercomités2024!C28,"") | B11: =IF(A11<>"",LEFT(VLOOKUP(A11,Licenciés!A:F,2,FALSE),20),"") | C11: =IF(A11<>"",LEFT(VLOOKUP(A11,Licenciés!A:F,3,FALSE),15),"") | E11: =IF(A11<>"",LEFT(VLOOKUP(A11,Licenciés!A:F,5,FALSE),15),"") | G11: =IF(A11<>"",LEFT(VLOOKUP(A11,Licenciés!A:F,6,FALSE),15),"") | I11: =IF(A11<>"",501,"") | Q11: =IF(A11<>"",Intercomités2024!$C$4,"") | R11: =IF(A11<>"",UPPER(Intercomités2024!$H$4),"") | S11: =IF(A11<>"","U14F","") | T11: =IF(A11<>"","F","") | U11: =IF(A11<>"","BE","") | V11: =IF(A11<>"",2,"") | X11: =IF(A11<>"","BE","") | Y11: =IF(A11<>"","F","") | AF11: =IF(A11<>"","BE","") | AG11: =IF(A11<>"","F","")
A12: =IF(Intercomités2024!C29<>"",Intercomités2024!C29,"") | B12: =IF(A12<>"",LEFT(VLOOKUP(A12,Licenciés!A:F,2,FALSE),20),"") | C12: =IF(A12<>"",LEFT(VLOOKUP(A12,Licenciés!A:F,3,FALSE),15),"") | E12: =IF(A12<>"",LEFT(VLOOKUP(A12,Licenciés!A:F,5,FALSE),15),"") | G12: =IF(A12<>"",LEFT(VLOOKUP(A12,Licenciés!A:F,6,FALSE),15),"") | I12: =IF(A12<>"",502,"") | Q12: =IF(A12<>"",Intercomités2024!$C$4,"") | R12: =IF(A12<>"",UPPER(Intercomités2024!$H$4),"") | S12: =IF(A12<>"","U14F","") | T12: =IF(A12<>"","F","") | U12: =IF(A12<>"","BE","") | V12: =IF(A12<>"",1,"") | X12: =IF(A12<>"","BE","") | Y12: =IF(A12<>"","F","") | AF12: =IF(A12<>"","BE","") | AG12: =IF(A12<>"","F","")
A13: =IF(Intercomités2024!C30<>"",Intercomités2024!C30,"") | B13: =IF(A13<>"",LEFT(VLOOKUP(A13,Licenciés!A:F,2,FALSE),20),"") | C13: =IF(A13<>"",LEFT(VLOOKUP(A13,Licenciés!A:F,3,FALSE),15),"") | E13: =IF(A13<>"",LEFT(VLOOKUP(A13,Licenciés!A:F,5,FALSE),15),"") | G13: =IF(A13<>"",LEFT(VLOOKUP(A13,Licenciés!A:F,6,FALSE),15),"") | I13: =IF(A13<>"",502,"") | Q13: =IF(A13<>"",Intercomités2024!$C$4,"") | R13: =IF(A13<>"",UPPER(Intercomités2024!$H$4),"") | S13: =IF(A13<>"","U14F","") | T13: =IF(A13<>"","F","") | U13: =IF(A13<>"","BE","") | V13: =IF(A13<>"",2,"") | X13: =IF(A13<>"","BE","") | Y13: =IF(A13<>"","F","") | AF13: =IF(A13<>"","BE","") | AG13: =IF(A13<>"","F","")
A14: =IF(Intercomités2024!C31<>"",Intercomités2024!C31,"") | B14: =IF(A14<>"",LEFT(VLOOKUP(A14,Licenciés!A:F,2,FALSE),20),"") | C14: =IF(A14<>"",LEFT(VLOOKUP(A14,Licenciés!A:F,3,FALSE),15),"") | E14: =IF(A14<>"",LEFT(VLOOKUP(A14,Licenciés!A:F,5,FALSE),15),"") | G14: =IF(A14<>"",LEFT(VLOOKUP(A14,Licenciés!A:F,6,FALSE),15),"") | I14: =IF(A14<>"",503,"") | Q14: =IF(A14<>"",Intercomités2024!$C$4,"") | R14: =IF(A14<>"",UPPER(Intercomités2024!$H$4),"") | S14: =IF(A14<>"","U14F","") | T14: =IF(A14<>"","F","") | U14: =IF(A14<>"","BE","") | V14: =IF(A14<>"",1,"") | X14: =IF(A14<>"","BE","") | Y14: =IF(A14<>"","F","") | AF14: =IF(A14<>"","BE","") | AG14: =IF(A14<>"","F","")
A15: =IF(Intercomités2024!C32<>"",Intercomités2024!C32,"") | B15: =IF(A15<>"",LEFT(VLOOKUP(A15,Licenciés!A:F,2,FALSE),20),"") | C15: =IF(A15<>"",LEFT(VLOOKUP(A15,Licenciés!A:F,3,FALSE),15),"") | E15: =IF(A15<>"",LEFT(VLOOKUP(A15,Licenciés!A:F,5,FALSE),15),"") | G15: =IF(A15<>"",LEFT(VLOOKUP(A15,Licenciés!A:F,6,FALSE),15),"") | I15: =IF(A15<>"",503,"") | Q15: =IF(A15<>"",Intercomités2024!$C$4,"") | R15: =IF(A15<>"",UPPER(Intercomités2024!$H$4),"") | S15: =IF(A15<>"","U14F","") | T15: =IF(A15<>"","F","") | U15: =IF(A15<>"","BE","") | V15: =IF(A15<>"",2,"") | X15: =IF(A15<>"","BE","") | Y15: =IF(A15<>"","F","") | AF15: =IF(A15<>"","BE","") | AG15: =IF(A15<>"","F","")
A16: =IF(Intercomités2024!C33<>"",Intercomités2024!C33,"") | B16: =IF(A16<>"",LEFT(VLOOKUP(A16,Licenciés!A:F,2,FALSE),20),"") | C16: =IF(A16<>"",LEFT(VLOOKUP(A16,Licenciés!A:F,3,FALSE),15),"") | E16: =IF(A16<>"",LEFT(VLOOKUP(A16,Licenciés!A:F,5,FALSE),15),"") | G16: =IF(A16<>"",LEFT(VLOOKUP(A16,Licenciés!A:F,6,FALSE),15),"") | I16: =IF(A16<>"",504,"") | Q16: =IF(A16<>"",Intercomités2024!$C$4,"") | R16: =IF(A16<>"",UPPER(Intercomités2024!$H$4),"") | S16: =IF(A16<>"","U14F","") | T16: =IF(A16<>"","F","") | U16: =IF(A16<>"","BE","") | V16: =IF(A16<>"",1,"") | X16: =IF(A16<>"","BE","") | Y16: =IF(A16<>"","F","") | AF16: =IF(A16<>"","BE","") | AG16: =IF(A16<>"","F","")
A17: =IF(Intercomités2024!C34<>"",Intercomités2024!C34,"") | B17: =IF(A17<>"",LEFT(VLOOKUP(A17,Licenciés!A:F,2,FALSE),20),"") | C17: =IF(A17<>"",LEFT(VLOOKUP(A17,Licenciés!A:F,3,FALSE),15),"") | E17: =IF(A17<>"",LEFT(VLOOKUP(A17,Licenciés!A:F,5,FALSE),15),"") | G17: =IF(A17<>"",LEFT(VLOOKUP(A17,Licenciés!A:F,6,FALSE),15),"") | I17: =IF(A17<>"",504,"") | Q17: =IF(A17<>"",Intercomités2024!$C$4,"") | R17: =IF(A17<>"",UPPER(Intercomités2024!$H$4),"") | S17: =IF(A17<>"","U14F","") | T17: =IF(A17<>"","F","") | U17: =IF(A17<>"","BE","") | V17: =IF(A17<>"",2,"") | X17: =IF(A17<>"","BE","") | Y17: =IF(A17<>"","F","") | AF17: =IF(A17<>"","BE","") | AG17: =IF(A17<>"","F","")
A18: =IF(Intercomités2024!C35<>"",Intercomités2024!C35,"") | B18: =IF(A18<>"",LEFT(VLOOKUP(A18,Licenciés!A:F,2,FALSE),20),"") | C18: =IF(A18<>"",LEFT(VLOOKUP(A18,Licenciés!A:F,3,FALSE),15),"") | E18: =IF(A18<>"",LEFT(VLOOKUP(A18,Licenciés!A:F,5,FALSE),15),"") | G18: =IF(A18<>"",LEFT(VLOOKUP(A18,Licenciés!A:F,6,FALSE),15),"") | I18: =IF(A18<>"",602,"") | Q18: =IF(A18<>"",Intercomités2024!$C$4,"") | R18: =IF(A18<>"",UPPER(Intercomités2024!$H$4),"") | S18: =IF(A18<>"","U14F","") | T18: =IF(A18<>"","F","") | U18: =IF(A18<>"","BE","") | V18: =IF(A18<>"",1,"") | X18: =IF(A18<>"","BE","") | Y18: =IF(A18<>"","F","") | AF18: =IF(A18<>"","BE","") | AG18: =IF(A18<>"","F","")
A19: =IF(Intercomités2024!C36<>"",Intercomités2024!C36,"") | B19: =IF(A19<>"",LEFT(VLOOKUP(A19,Licenciés!A:F,2,FALSE),20),"") | C19: =IF(A19<>"",LEFT(VLOOKUP(A19,Licenciés!A:F,3,FALSE),15),"") | E19: =IF(A19<>"",LEFT(VLOOKUP(A19,Licenciés!A:F,5,FALSE),15),"") | G19: =IF(A19<>"",LEFT(VLOOKUP(A19,Licenciés!A:F,6,FALSE),15),"") | I19: =IF(A19<>"",602,"") | Q19: =IF(A19<>"",Intercomités2024!$C$4,"") | R19: =IF(A19<>"",UPPER(Intercomités2024!$H$4),"") | S19: =IF(A19<>"","U14F","") | T19: =IF(A19<>"","F","") | U19: =IF(A19<>"","BE","") | V19: =IF(A19<>"",2,"") | X19: =IF(A19<>"","BE","") | Y19: =IF(A19<>"","F","") | AF19: =IF(A19<>"","BE","") | AG19: =IF(A19<>"","F","")
A20: =IF(Intercomités2024!C37<>"",Intercomités2024!C37,"") | B20: =IF(A20<>"",LEFT(VLOOKUP(A20,Licenciés!A:F,2,FALSE),20),"") | C20: =IF(A20<>"",LEFT(VLOOKUP(A20,Licenciés!A:F,3,FALSE),15),"") | E20: =IF(A20<>"",LEFT(VLOOKUP(A20,Licenciés!A:F,5,FALSE),15),"") | G20: =IF(A20<>"",LEFT(VLOOKUP(A20,Licenciés!A:F,6,FALSE),15),"") | I20: =IF(A20<>"",616,"") | Q20: =IF(A20<>"",Intercomités2024!$C$4,"") | R20: =IF(A20<>"",UPPER(Intercomités2024!$H$4),"") | S20: =IF(A20<>"","U14F","") | T20: =IF(A20<>"","F","") | U20: =IF(A20<>"","BE","") | V20: =IF(A20<>"",1,"") | X20: =IF(A20<>"","BE","") | Y20: =IF(A20<>"","F","") | AF20: =IF(A20<>"","BE","") | AG20: =IF(A20<>"","F","")
A21: =IF(Intercomités2024!C38<>"",Intercomités2024!C38,"") | B21: =IF(A21<>"",LEFT(VLOOKUP(A21,Licenciés!A:F,2,FALSE),20),"") | C21: =IF(A21<>"",LEFT(VLOOKUP(A21,Licenciés!A:F,3,FALSE),15),"") | E21: =IF(A21<>"",LEFT(VLOOKUP(A21,Licenciés!A:F,5,FALSE),15),"") | G21: =IF(A21<>"",LEFT(VLOOKUP(A21,Licenciés!A:F,6,FALSE),15),"") | I21: =IF(A21<>"",616,"") | Q21: =IF(A21<>"",Intercomités2024!$C$4,"") | R21: =IF(A21<>"",UPPER(Intercomités2024!$H$4),"") | S21: =IF(A21<>"","U14F","") | T21: =IF(A21<>"","F","") | U21: =IF(A21<>"","BE","") | V21: =IF(A21<>"",2,"") | X21: =IF(A21<>"","BE","") | Y21: =IF(A21<>"","F","") | AF21: =IF(A21<>"","BE","") | AG21: =IF(A21<>"","F","")
A22: =IF(Intercomités2024!C39<>"",Intercomités2024!C39,"") | B22: =IF(A22<>"",LEFT(VLOOKUP(A22,Licenciés!A:F,2,FALSE),20),"") | C22: =IF(A22<>"",LEFT(VLOOKUP(A22,Licenciés!A:F,3,FALSE),15),"") | E22: =IF(A22<>"",LEFT(VLOOKUP(A22,Licenciés!A:F,5,FALSE),15),"") | G22: =IF(A22<>"",LEFT(VLOOKUP(A22,Licenciés!A:F,6,FALSE),15),"") | I22: =IF(A22<>"",632,"") | Q22: =IF(A22<>"",Intercomités2024!$C$4,"") | R22: =IF(A22<>"",UPPER(Intercomités2024!$H$4),"") | S22: =IF(A22<>"","U14F","") | T22: =IF(A22<>"","F","") | U22: =IF(A22<>"","BE","") | V22: =IF(A22<>"",1,"") | X22: =IF(A22<>"","BE","") | Y22: =IF(A22<>"","F","") | AF22: =IF(A22<>"","BE","") | AG22: =IF(A22<>"","F","")
A23: =IF(Intercomités2024!C40<>"",Intercomités2024!C40,"") | B23: =IF(A23<>"",LEFT(VLOOKUP(A23,Licenciés!A:F,2,FALSE),20),"") | C23: =IF(A23<>"",LEFT(VLOOKUP(A23,Licenciés!A:F,3,FALSE),15),"") | E23: =IF(A23<>"",LEFT(VLOOKUP(A23,Licenciés!A:F,5,FALSE),15),"") | G23: =IF(A23<>"",LEFT(VLOOKUP(A23,Licenciés!A:F,6,FALSE),15),"") | I23: =IF(A23<>"",632,"") | Q23: =IF(A23<>"",Intercomités2024!$C$4,"") | R23: =IF(A23<>"",UPPER(Intercomités2024!$H$4),"") | S23: =IF(A23<>"","U14F","") | T23: =IF(A23<>"","F","") | U23: =IF(A23<>"","BE","") | V23: =IF(A23<>"",2,"") | X23: =IF(A23<>"","BE","") | Y23: =IF(A23<>"","F","") | AF23: =IF(A23<>"","BE","") | AG23: =IF(A23<>"","F","")
A24: =IF(Intercomités2024!C41<>"",Intercomités2024!C41,"") | B24: =IF(A24<>"",LEFT(VLOOKUP(A24,Licenciés!A:F,2,FALSE),20),"") | C24: =IF(A24<>"",LEFT(VLOOKUP(A24,Licenciés!A:F,3,FALSE),15),"") | E24: =IF(A24<>"",LEFT(VLOOKUP(A24,Licenciés!A:F,5,FALSE),15),"") | G24: =IF(A24<>"",LEFT(VLOOKUP(A24,Licenciés!A:F,6,FALSE),15),"") | I24: =IF(A24<>"",640,"") | Q24: =IF(A24<>"",Intercomités2024!$C$4,"") | R24: =IF(A24<>"",UPPER(Intercomités2024!$H$4),"") | S24: =IF(A24<>"","U14F","") | T24: =IF(A24<>"","F","") | U24: =IF(A24<>"","BE","") | V24: =IF(A24<>"",1,"") | X24: =IF(A24<>"","BE","") | Y24: =IF(A24<>"","F","") | AF24: =IF(A24<>"","BE","") | AG24: =IF(A24<>"","F","")
A25: =IF(Intercomités2024!C42<>"",Intercomités2024!C42,"") | B25: =IF(A25<>"",LEFT(VLOOKUP(A25,Licenciés!A:F,2,FALSE),20),"") | C25: =IF(A25<>"",LEFT(VLOOKUP(A25,Licenciés!A:F,3,FALSE),15),"") | E25: =IF(A25<>"",LEFT(VLOOKUP(A25,Licenciés!A:F,5,FALSE),15),"") | G25: =IF(A25<>"",LEFT(VLOOKUP(A25,Licenciés!A:F,6,FALSE),15),"") | I25: =IF(A25<>"",640,"") | Q25: =IF(A25<>"",Intercomités2024!$C$4,"") | R25: =IF(A25<>"",UPPER(Intercomités2024!$H$4),"") | S25: =IF(A25<>"","U14F","") | T25: =IF(A25<>"","F","") | U25: =IF(A25<>"","BE","") | V25: =IF(A25<>"",2,"") | X25: =IF(A25<>"","BE","") | Y25: =IF(A25<>"","F","") | AF25: =IF(A25<>"","BE","") | AG25: =IF(A25<>"","F","")
A26: =IF(Intercomités2024!C43<>"",Intercomités2024!C43,"") | B26: =IF(A26<>"",LEFT(VLOOKUP(A26,Licenciés!A:F,2,FALSE),20),"") | C26: =IF(A26<>"",LEFT(VLOOKUP(A26,Licenciés!A:F,3,FALSE),15),"") | E26: =IF(A26<>"",LEFT(VLOOKUP(A26,Licenciés!A:F,5,FALSE),15),"") | G26: =IF(A26<>"",LEFT(VLOOKUP(A26,Licenciés!A:F,6,FALSE),15),"") | I26: =IF(A26<>"",902,"") | Q26: =IF(A26<>"",Intercomités2024!$C$4,"") | R26: =IF(A26<>"",UPPER(Intercomités2024!$H$4),"") | S26: =IF(A26<>"","U14F","") | T26: =IF(A26<>"","F","") | U26: =IF(A26<>"","BE","") | V26: =IF(A26<>"",1,"") | X26: =IF(A26<>"","BE","") | Y26: =IF(A26<>"","F","") | AF26: =IF(A26<>"","BE","") | AG26: =IF(A26<>"","F","")
A27: =IF(Intercomités2024!C44<>"",Intercomités2024!C44,"") | B27: =IF(A27<>"",LEFT(VLOOKUP(A27,Licenciés!A:F,2,FALSE),20),"") | C27: =IF(A27<>"",LEFT(VLOOKUP(A27,Licenciés!A:F,3,FALSE),15),"") | E27: =IF(A27<>"",LEFT(VLOOKUP(A27,Licenciés!A:F,5,FALSE),15),"") | G27: =IF(A27<>"",LEFT(VLOOKUP(A27,Licenciés!A:F,6,FALSE),15),"") | I27: =IF(A27<>"",902,"") | Q27: =IF(A27<>"",Intercomités2024!$C$4,"") | R27: =IF(A27<>"",UPPER(Intercomités2024!$H$4),"") | S27: =IF(A27<>"","U14F","") | T27: =IF(A27<>"","F","") | U27: =IF(A27<>"","BE","") | V27: =IF(A27<>"",2,"") | X27: =IF(A27<>"","BE","") | Y27: =IF(A27<>"","F","") | AF27: =IF(A27<>"","BE","") | AG27: =IF(A27<>"","F","")
A28: =IF(Intercomités2024!$H21<>"",Intercomités2024!$H21,"") | B28: =IF(A28<>"",LEFT(VLOOKUP(A28,Licenciés!A:F,2,FALSE),20),"") | C28: =IF(A28<>"",LEFT(VLOOKUP(A28,Licenciés!A:F,3,FALSE),15),"") | E28: =IF(A28<>"",LEFT(VLOOKUP(A28,Licenciés!A:F,5,FALSE),15),"") | G28: =IF(A28<>"",LEFT(VLOOKUP(A28,Licenciés!A:F,6,FALSE),15),"") | I28: =IF(A28<>"",104,"") | Q28: =IF(A28<>"",Intercomités2024!$C$4,"") | R28: =IF(A28<>"",UPPER(Intercomités2024!$H$4),"") | S28: =IF(A28<>"","U14M","") | T28: =IF(A28<>"","M","") | U28: =IF(A28<>"","BE","") | V28: =IF(A28<>"",1,"") | X28: =IF(A28<>"","BE","") | Y28: =IF(A28<>"","M","") | AF28: =IF(A28<>"","BE","") | AG28: =IF(A28<>"","M","")
A29: =IF(Intercomités2024!$H22<>"",Intercomités2024!$H22,"") | B29: =IF(A29<>"",LEFT(VLOOKUP(A29,Licenciés!A:F,2,FALSE),20),"") | C29: =IF(A29<>"",LEFT(VLOOKUP(A29,Licenciés!A:F,3,FALSE),15),"") | E29: =IF(A29<>"",LEFT(VLOOKUP(A29,Licenciés!A:F,5,FALSE),15),"") | G29: =IF(A29<>"",LEFT(VLOOKUP(A29,Licenciés!A:F,6,FALSE),15),"") | I29: =IF(A29<>"",104,"") | Q29: =IF(A29<>"",Intercomités2024!$C$4,"") | R29: =IF(A29<>"",UPPER(Intercomités2024!$H$4),"") | S29: =IF(A29<>"","U14M","") | T29: =IF(A29<>"","M","") | U29: =IF(A29<>"","BE","") | V29: =IF(A29<>"",2,"") | X29: =IF(A29<>"","BE","") | Y29: =IF(A29<>"","M","") | AF29: =IF(A29<>"","BE","") | AG29: =IF(A29<>"","M","")
A30: =IF(Intercomités2024!$H23<>"",Intercomités2024!$H23,"") | B30: =IF(A30<>"",LEFT(VLOOKUP(A30,Licenciés!A:F,2,FALSE),20),"") | C30: =IF(A30<>"",LEFT(VLOOKUP(A30,Licenciés!A:F,3,FALSE),15),"") | E30: =IF(A30<>"",LEFT(VLOOKUP(A30,Licenciés!A:F,5,FALSE),15),"") | G30: =IF(A30<>"",LEFT(VLOOKUP(A30,Licenciés!A:F,6,FALSE),15),"") | I30: =IF(A30<>"",210,"") | Q30: =IF(A30<>"",Intercomités2024!$C$4,"") | R30: =IF(A30<>"",UPPER(Intercomités2024!$H$4),"") | S30: =IF(A30<>"","U14M","") | T30: =IF(A30<>"","M","") | U30: =IF(A30<>"","BE","") | V30: =IF(A30<>"",1,"") | X30: =IF(A30<>"","BE","") | Y30: =IF(A30<>"","M","") | AF30: =IF(A30<>"","BE","") | AG30: =IF(A30<>"","M","")
A31: =IF(Intercomités2024!$H24<>"",Intercomités2024!$H24,"") | B31: =IF(A31<>"",LEFT(VLOOKUP(A31,Licenciés!A:F,2,FALSE),20),"") | C31: =IF(A31<>"",LEFT(VLOOKUP(A31,Licenciés!A:F,3,FALSE),15),"") | E31: =IF(A31<>"",LEFT(VLOOKUP(A31,Licenciés!A:F,5,FALSE),15),"") | G31: =IF(A31<>"",LEFT(VLOOKUP(A31,Licenciés!A:F,6,FALSE),15),"") | I31: =IF(A31<>"",210,"") | Q31: =IF(A31<>"",Intercomités2024!$C$4,"") | R31: =IF(A31<>"",UPPER(Intercomités2024!$H$4),"") | S31: =IF(A31<>"","U14M","") | T31: =IF(A31<>"","M","") | U31: =IF(A31<>"","BE","") | V31: =IF(A31<>"",2,"") | X31: =IF(A31<>"","BE","") | Y31: =IF(A31<>"","M","") | AF31: =IF(A31<>"","BE","") | AG31: =IF(A31<>"","M","")
A32: =IF(Intercomités2024!$H25<>"",Intercomités2024!$H25,"") | B32: =IF(A32<>"",LEFT(VLOOKUP(A32,Licenciés!A:F,2,FALSE),20),"") | C32: =IF(A32<>"",LEFT(VLOOKUP(A32,Licenciés!A:F,3,FALSE),15),"") | E32: =IF(A32<>"",LEFT(VLOOKUP(A32,Licenciés!A:F,5,FALSE),15),"") | G32: =IF(A32<>"",LEFT(VLOOKUP(A32,Licenciés!A:F,6,FALSE),15),"") | I32: =IF(A32<>"",321,"") | Q32: =IF(A32<>"",Intercomités2024!$C$4,"") | R32: =IF(A32<>"",UPPER(Intercomités2024!$H$4),"") | S32: =IF(A32<>"","U14M","") | T32: =IF(A32<>"","M","") | U32: =IF(A32<>"","BE","") | V32: =IF(A32<>"",1,"") | X32: =IF(A32<>"","BE","") | Y32: =IF(A32<>"","M","") | AF32: =IF(A32<>"","BE","") | AG32: =IF(A32<>"","M","")
A33: =IF(Intercomités2024!$H26<>"",Intercomités2024!$H26,"") | B33: =IF(A33<>"",LEFT(VLOOKUP(A33,Licenciés!A:F,2,FALSE),20),"") | C33: =IF(A33<>"",LEFT(VLOOKUP(A33,Licenciés!A:F,3,FALSE),15),"") | E33: =IF(A33<>"",LEFT(VLOOKUP(A33,Licenciés!A:F,5,FALSE),15),"") | G33: =IF(A33<>"",LEFT(VLOOKUP(A33,Licenciés!A:F,6,FALSE),15),"") | I33: =IF(A33<>"",321,"") | Q33: =IF(A33<>"",Intercomités2024!$C$4,"") | R33: =IF(A33<>"",UPPER(Intercomités2024!$H$4),"") | S33: =IF(A33<>"","U14M","") | T33: =IF(A33<>"","M","") | U33: =IF(A33<>"","BE","") | V33: =IF(A33<>"",2,"") | X33: =IF(A33<>"","BE","") | Y33: =IF(A33<>"","M","") | AF33: =IF(A33<>"","BE","") | AG33: =IF(A33<>"","M","")
A34: =IF(Intercomités2024!$H27<>"",Intercomités2024!$H27,"") | B34: =IF(A34<>"",LEFT(VLOOKUP(A34,Licenciés!A:F,2,FALSE),20),"") | C34: =IF(A34<>"",LEFT(VLOOKUP(A34,Licenciés!A:F,3,FALSE),15),"") | E34: =IF(A34<>"",LEFT(VLOOKUP(A34,Licenciés!A:F,5,FALSE),15),"") | G34: =IF(A34<>"",LEFT(VLOOKUP(A34,Licenciés!A:F,6,FALSE),15),"") | I34: =IF(A34<>"",501,"") | Q34: =IF(A34<>"",Intercomités2024!$C$4,"") | R34: =IF(A34<>"",UPPER(Intercomités2024!$H$4),"") | S34: =IF(A34<>"","U14M","") | T34: =IF(A34<>"","M","") | U34: =IF(A34<>"","BE","") | V34: =IF(A34<>"",1,"") | X34: =IF(A34<>"","BE","") | Y34: =IF(A34<>"","M","") | AF34: =IF(A34<>"","BE","") | AG34: =IF(A34<>"","M","")
A35: =IF(Intercomités2024!$H28<>"",Intercomités2024!$H28,"") | B35: =IF(A35<>"",LEFT(VLOOKUP(A35,Licenciés!A:F,2,FALSE),20),"") | C35: =IF(A35<>"",LEFT(VLOOKUP(A35,Licenciés!A:F,3,FALSE),15),"") | E35: =IF(A35<>"",LEFT(VLOOKUP(A35,Licenciés!A:F,5,FALSE),15),"") | G35: =IF(A35<>"",LEFT(VLOOKUP(A35,Licenciés!A:F,6,FALSE),15),"") | I35: =IF(A35<>"",501,"") | Q35: =IF(A35<>"",Intercomités2024!$C$4,"") | R35: =IF(A35<>"",UPPER(Intercomités2024!$H$4),"") | S35: =IF(A35<>"","U14M","") | T35: =IF(A35<>"","M","") | U35: =IF(A35<>"","BE","") | V35: =IF(A35<>"",2,"") | X35: =IF(A35<>"","BE","") | Y35: =IF(A35<>"","M","") | AF35: =IF(A35<>"","BE","") | AG35: =IF(A35<>"","M","")
A36: =IF(Intercomités2024!$H29<>"",Intercomités2024!$H29,"") | B36: =IF(A36<>"",LEFT(VLOOKUP(A36,Licenciés!A:F,2,FALSE),20),"") | C36: =IF(A36<>"",LEFT(VLOOKUP(A36,Licenciés!A:F,3,FALSE),15),"") | E36: =IF(A36<>"",LEFT(VLOOKUP(A36,Licenciés!A:F,5,FALSE),15),"") | G36: =IF(A36<>"",LEFT(VLOOKUP(A36,Licenciés!A:F,6,FALSE),15),"") | I36: =IF(A36<>"",502,"") | Q36: =IF(A36<>"",Intercomités2024!$C$4,"") | R36: =IF(A36<>"",UPPER(Intercomités2024!$H$4),"") | S36: =IF(A36<>"","U14M","") | T36: =IF(A36<>"","M","") | U36: =IF(A36<>"","BE","") | V36: =IF(A36<>"",1,"") | X36: =IF(A36<>"","BE","") | Y36: =IF(A36<>"","M","") | AF36: =IF(A36<>"","BE","") | AG36: =IF(A36<>"","M","")
A37: =IF(Intercomités2024!$H30<>"",Intercomités2024!$H30,"") | B37: =IF(A37<>"",LEFT(VLOOKUP(A37,Licenciés!A:F,2,FALSE),20),"") | C37: =IF(A37<>"",LEFT(VLOOKUP(A37,Licenciés!A:F,3,FALSE),15),"") | E37: =IF(A37<>"",LEFT(VLOOKUP(A37,Licenciés!A:F,5,FALSE),15),"") | G37: =IF(A37<>"",LEFT(VLOOKUP(A37,Licenciés!A:F,6,FALSE),15),"") | I37: =IF(A37<>"",502,"") | Q37: =IF(A37<>"",Intercomités2024!$C$4,"") | R37: =IF(A37<>"",UPPER(Intercomités2024!$H$4),"") | S37: =IF(A37<>"","U14M","") | T37: =IF(A37<>"","M","") | U37: =IF(A37<>"","BE","") | V37: =IF(A37<>"",2,"") | X37: =IF(A37<>"","BE","") | Y37: =IF(A37<>"","M","") | AF37: =IF(A37<>"","BE","") | AG37: =IF(A37<>"","M","")
A38: =IF(Intercomités2024!$H31<>"",Intercomités2024!$H31,"") | B38: =IF(A38<>"",LEFT(VLOOKUP(A38,Licenciés!A:F,2,FALSE),20),"") | C38: =IF(A38<>"",LEFT(VLOOKUP(A38,Licenciés!A:F,3,FALSE),15),"") | E38: =IF(A38<>"",LEFT(VLOOKUP(A38,Licenciés!A:F,5,FALSE),15),"") | G38: =IF(A38<>"",LEFT(VLOOKUP(A38,Licenciés!A:F,6,FALSE),15),"") | I38: =IF(A38<>"",503,"") | Q38: =IF(A38<>"",Intercomités2024!$C$4,"") | R38: =IF(A38<>"",UPPER(Intercomités2024!$H$4),"") | S38: =IF(A38<>"","U14M","") | T38: =IF(A38<>"","M","") | U38: =IF(A38<>"","BE","") | V38: =IF(A38<>"",1,"") | X38: =IF(A38<>"","BE","") | Y38: =IF(A38<>"","M","") | AF38: =IF(A38<>"","BE","") | AG38: =IF(A38<>"","M","")
A39: =IF(Intercomités2024!$H32<>"",Intercomités2024!$H32,"") | B39: =IF(A39<>"",LEFT(VLOOKUP(A39,Licenciés!A:F,2,FALSE),20),"") | C39: =IF(A39<>"",LEFT(VLOOKUP(A39,Licenciés!A:F,3,FALSE),15),"") | E39: =IF(A39<>"",LEFT(VLOOKUP(A39,Licenciés!A:F,5,FALSE),15),"") | G39: =IF(A39<>"",LEFT(VLOOKUP(A39,Licenciés!A:F,6,FALSE),15),"") | I39: =IF(A39<>"",503,"") | Q39: =IF(A39<>"",Intercomités2024!$C$4,"") | R39: =IF(A39<>"",UPPER(Intercomités2024!$H$4),"") | S39: =IF(A39<>"","U14M","") | T39: =IF(A39<>"","M","") | U39: =IF(A39<>"","BE","") | V39: =IF(A39<>"",2,"") | X39: =IF(A39<>"","BE","") | Y39: =IF(A39<>"","M","") | AF39: =IF(A39<>"","BE","") | AG39: =IF(A39<>"","M","")
A40: =IF(Intercomités2024!$H33<>"",Intercomités2024!$H33,"") | B40: =IF(A40<>"",LEFT(VLOOKUP(A40,Licenciés!A:F,2,FALSE),20),"") | C40: =IF(A40<>"",LEFT(VLOOKUP(A40,Licenciés!A:F,3,FALSE),15),"") | E40: =IF(A40<>"",LEFT(VLOOKUP(A40,Licenciés!A:F,5,FALSE),15),"") | G40: =IF(A40<>"",LEFT(VLOOKUP(A40,Licenciés!A:F,6,FALSE),15),"") | I40: =IF(A40<>"",504,"") | Q40: =IF(A40<>"",Intercomités2024!$C$4,"") | R40: =IF(A40<>"",UPPER(Intercomités2024!$H$4),"") | S40: =IF(A40<>"","U14M","") | T40: =IF(A40<>"","M","") | U40: =IF(A40<>"","BE","") | V40: =IF(A40<>"",1,"") | X40: =IF(A40<>"","BE","") | Y40: =IF(A40<>"","M","") | AF40: =IF(A40<>"","BE","") | AG40: =IF(A40<>"","M","")
...

Sheet Jury
A1: Num licence | B1: Nom | C1: Prénom | D1: Date de la participation | E1: Présent (O ou N, si vide N par défaut) | F1: Fonction (parmi la liste, non modifiable ) | G1: Sous fonction complémentaire | H1: Numéro FFA du club | I1: Ligue (code sur 3 lettres) | J1: Fait parti des jeunes juges (O ou N, vide N par défaut | K1: Code de la qualification | L1: Nom de l'Interclub | M1: Lettre de l'Equipe (interclub)
A2: Licence | B2: Nom | C2: Prenom | D2: DateJury | E2: Presence | F2: Fonction | G2: SousDomaine | H2: STRCODNUMClub | I2: STRNOMABRLigue | J2: JeuneJury | K2: Qualite | L2: NomInterClub | M2: LettreEquipe
A3: =IF(Intercomités2024!D9="","",Intercomités2024!C9) | B3: =IF(A3<>"",VLOOKUP(A3,Licenciés!A:G,2,FALSE),"") | C3: =IF(A3<>"",VLOOKUP(A3,Licenciés!A:G,3,FALSE),"") | H3: =IF(A3<>"",VLOOKUP(Intercomités2024!$H$4,Intercomités2024!$O$4:$P$56,2,FALSE),"") | L3: =IF(A3<>"",Intercomités2024!#REF!,"") | M3: =IF(A3<>"",UPPER(Intercomités2024!#REF!),"")
A4: =IF(Intercomités2024!D10="","",Intercomités2024!C10) | B4: =IF(A4<>"",VLOOKUP(A4,Licenciés!A:G,2,FALSE),"") | C4: =IF(A4<>"",VLOOKUP(A4,Licenciés!A:G,3,FALSE),"") | H4: =IF(A4<>"",VLOOKUP(Intercomités2024!$H$4,Intercomités2024!$O$4:$P$56,2,FALSE),"") | L4: =IF(A4<>"",Intercomités2024!#REF!,"") | M4: =IF(A4<>"",UPPER(Intercomités2024!#REF!),"")
A5: =IF(Intercomités2024!D11="","",Intercomités2024!C11) | B5: =IF(A5<>"",VLOOKUP(A5,Licenciés!A:G,2,FALSE),"") | C5: =IF(A5<>"",VLOOKUP(A5,Licenciés!A:G,3,FALSE),"") | H5: =IF(A5<>"",VLOOKUP(Intercomités2024!$H$4,Intercomités2024!$O$4:$P$56,2,FALSE),"") | L5: =IF(A5<>"",Intercomités2024!#REF!,"") | M5: =IF(A5<>"",UPPER(Intercomités2024!#REF!),"")
A6: =IF(Intercomités2024!D12="","",Intercomités2024!C12) | B6: =IF(A6<>"",VLOOKUP(A6,Licenciés!A:G,2,FALSE),"") | C6: =IF(A6<>"",VLOOKUP(A6,Licenciés!A:G,3,FALSE),"") | H6: =IF(A6<>"",VLOOKUP(Intercomités2024!$H$4,Intercomités2024!$O$4:$P$56,2,FALSE),"") | L6: =IF(A6<>"",Intercomités2024!#REF!,"") | M6: =IF(A6<>"",UPPER(Intercomités2024!#REF!),"")
A7: =IF(Intercomités2024!D13="","",Intercomités2024!C13) | B7: =IF(A7<>"",VLOOKUP(A7,Licenciés!A:G,2,FALSE),"") | C7: =IF(A7<>"",VLOOKUP(A7,Licenciés!A:G,3,FALSE),"") | H7: =IF(A7<>"",VLOOKUP(Intercomités2024!$H$4,Intercomités2024!$O$4:$P$56,2,FALSE),"") | L7: =IF(A7<>"",Intercomités2024!#REF!,"") | M7: =IF(A7<>"",UPPER(Intercomités2024!#REF!),"")
A8: =IF(Intercomités2024!D14="","",Intercomités2024!C14) | B8: =IF(A8<>"",VLOOKUP(A8,Licenciés!A:G,2,FALSE),"") | C8: =IF(A8<>"",VLOOKUP(A8,Licenciés!A:G,3,FALSE),"") | H8: =IF(A8<>"",VLOOKUP(Intercomités2024!$H$4,Intercomités2024!$O$4:$P$56,2,FALSE),"") | L8: =IF(A8<>"",Intercomités2024!#REF!,"") | M8: =IF(A8<>"",UPPER(Intercomités2024!#REF!),"")
A9: =IF(Intercomités2024!D15="","",Intercomités2024!C15) | B9: =IF(A9<>"",VLOOKUP(A9,Licenciés!A:G,2,FALSE),"") | C9: =IF(A9<>"",VLOOKUP(A9,Licenciés!A:G,3,FALSE),"") | H9: =IF(A9<>"",VLOOKUP(Intercomités2024!$H$4,Intercomités2024!$O$4:$P$56,2,FALSE),"") | L9: =IF(A9<>"",Intercomités2024!#REF!,"") | M9: =IF(A9<>"",UPPER(Intercomités2024!#REF!),"")
