Workbook

Sheet Intercomités2024
A2: Intercomités 2025
A4: Comité : | F4: Lettre : | O4: Comité 18
O5: Comité 28
C6: JURY | M6: Courses | O6: Comité 37
M7: Sauts | O7: Comité 41
C8: N° Licence | D8: NOM | E8: PRENOM | F8: SPECIALITE | G8: NIVEAU | M8: Lancers | O8: Comité 45
M9: Starter
M10: Marche
M11: Chrono
M12: Juge Arbitre
M13: Secrétariat Informatique
A17: U14
A19: Féminines | F19: Masculins
A20: Epreuves | B20: Ordre | C20: N° Licence | D20: NOM | E20: PRENOM | F20: Epreuves | G20: Ordre | H20: N° Licence | I20: NOM | J20: PRENOM | M20: Fédéral
A21: 50 m | B21: 1 | D21: =IF(C21<>"",VLOOKUP(C21,Licenciés!A:C,2,FALSE),"") | E21: =IF(C21<>"",VLOOKUP(C21,Licenciés!A:C,3,FALSE),"") | F21: 50 m | G21: 1 | I21: =IF(H21<>"",VLOOKUP(H21,Licenciés!A:C,2,FALSE),"") | J21: =IF(H21<>"",VLOOKUP(H21,Licenciés!A:C,3,FALSE),"") | M21: Régional
B22: 2 | D22: =IF(C22<>"",VLOOKUP(C22,Licenciés!A:C,2,FALSE),"") | E22: =IF(C22<>"",VLOOKUP(C22,Licenciés!A:C,3,FALSE),"") | G22: 2 | I22: =IF(H22<>"",VLOOKUP(H22,Licenciés!A:C,2,FALSE),"") | J22: =IF(H22<>"",VLOOKUP(H22,Licenciés!A:C,3,FALSE),"") | M22: Autre
A23: 1000 m | B23: 1 | D23: =IF(C23<>"",VLOOKUP(C23,Licenciés!A:C,2,FALSE),"") | E23: =IF(C23<>"",VLOOKUP(C23,Licenciés!A:C,3,FALSE),"") | F23: 1000 m | G23: 1 | I23: =IF(H23<>"",VLOOKUP(H23,Licenciés!A:C,2,FALSE),"") | J23: =IF(H23<>"",VLOOKUP(H23,Licenciés!A:C,3,FALSE),"")
B24: 2 | D24: =IF(C24<>"",VLOOKUP(C24,Licenciés!A:C,2,FALSE),"") | E24: =IF(C24<>"",VLOOKUP(C24,Licenciés!A:C,3,FALSE),"") | G24: 2 | I24: =IF(H24<>"",VLOOKUP(H24,Licenciés!A:C,2,FALSE),"") | J24: =IF(H24<>"",VLOOKUP(H24,Licenciés!A:C,3,FALSE),"")
A25: 50 m haies | B25: 1 | D25: =IF(C25<>"",VLOOKUP(C25,Licenciés!A:C,2,FALSE),"") | E25: =IF(C25<>"",VLOOKUP(C25,Licenciés!A:C,3,FALSE),"") | F25: 50 m haies | G25: 1 | I25: =IF(H25<>"",VLOOKUP(H25,Licenciés!A:C,2,FALSE),"") | J25: =IF(H25<>"",VLOOKUP(H25,Licenciés!A:C,3,FALSE),"")
B26: 2 | D26: =IF(C26<>"",VLOOKUP(C26,Licenciés!A:C,2,FALSE),"") | E26: =IF(C26<>"",VLOOKUP(C26,Licenciés!A:C,3,FALSE),"") | G26: 2 | I26: =IF(H26<>"",VLOOKUP(H26,Licenciés!A:C,2,FALSE),"") | J26: =IF(H26<>"",VLOOKUP(H26,Licenciés!A:C,3,FALSE),"")
A27: Hauteur | B27: 1 | D27: =IF(C27<>"",VLOOKUP(C27,Licenciés!A:C,2,FALSE),"") | E27: =IF(C27<>"",VLOOKUP(C27,Licenciés!A:C,3,FALSE),"") | F27: Hauteur | G27: 1 | I27: =IF(H27<>"",VLOOKUP(H27,Licenciés!A:C,2,FALSE),"") | J27: =IF(H27<>"",VLOOKUP(H27,Licenciés!A:C,3,FALSE),"")
B28: 2 | D28: =IF(C28<>"",VLOOKUP(C28,Licenciés!A:C,2,FALSE),"") | E28: =IF(C28<>"",VLOOKUP(C28,Licenciés!A:C,3,FALSE),"") | G28: 2 | I28: =IF(H28<>"",VLOOKUP(H28,Licenciés!A:C,2,FALSE),"") | J28: =IF(H28<>"",VLOOKUP(H28,Licenciés!A:C,3,FALSE),"")
A29: Perche | B29: 1 | D29: =IF(C29<>"",VLOOKUP(C29,Licenciés!A:C,2,FALSE),"") | E29: =IF(C29<>"",VLOOKUP(C29,Licenciés!A:C,3,FALSE),"") | F29: Perche | G29: 1 | I29: =IF(H29<>"",VLOOKUP(H29,Licenciés!A:C,2,FALSE),"") | J29: =IF(H29<>"",VLOOKUP(H29,Licenciés!A:C,3,FALSE),"")
B30: 2 | D30: =IF(C30<>"",VLOOKUP(C30,Licenciés!A:C,2,FALSE),"") | E30: =IF(C30<>"",VLOOKUP(C30,Licenciés!A:C,3,FALSE),"") | G30: 2 | I30: =IF(H30<>"",VLOOKUP(H30,Licenciés!A:C,2,FALSE),"") | J30: =IF(H30<>"",VLOOKUP(H30,Licenciés!A:C,3,FALSE),"")
A31: Longueur | B31: 1 | D31: =IF(C31<>"",VLOOKUP(C31,Licenciés!A:C,2,FALSE),"") | E31: =IF(C31<>"",VLOOKUP(C31,Licenciés!A:C,3,FALSE),"") | F31: Longueur | G31: 1 | I31: =IF(H31<>"",VLOOKUP(H31,Licenciés!A:C,2,FALSE),"") | J31: =IF(H31<>"",VLOOKUP(H31,Licenciés!A:C,3,FALSE),"")
B32: 2 | D32: =IF(C32<>"",VLOOKUP(C32,Licenciés!A:C,2,FALSE),"") | E32: =IF(C32<>"",VLOOKUP(C32,Licenciés!A:C,3,FALSE),"") | G32: 2 | I32: =IF(H32<>"",VLOOKUP(H32,Licenciés!A:C,2,FALSE),"") | J32: =IF(H32<>"",VLOOKUP(H32,Licenciés!A:C,3,FALSE),"")
A33: Triple-Saut | B33: 1 | D33: =IF(C33<>"",VLOOKUP(C33,Licenciés!A:C,2,FALSE),"") | E33: =IF(C33<>"",VLOOKUP(C33,Licenciés!A:C,3,FALSE),"") | F33: Triple-Saut | G33: 1 | I33: =IF(H33<>"",VLOOKUP(H33,Licenciés!A:C,2,FALSE),"") | J33: =IF(H33<>"",VLOOKUP(H33,Licenciés!A:C,3,FALSE),"")
B34: 2 | D34: =IF(C34<>"",VLOOKUP(C34,Licenciés!A:C,2,FALSE),"") | E34: =IF(C34<>"",VLOOKUP(C34,Licenciés!A:C,3,FALSE),"") | G34: 2 | I34: =IF(H34<>"",VLOOKUP(H34,Licenciés!A:C,2,FALSE),"") | J34: =IF(H34<>"",VLOOKUP(H34,Licenciés!A:C,3,FALSE),"")
A35: Poids | B35: 1 | D35: =IF(C35<>"",VLOOKUP(C35,Licenciés!A:C,2,FALSE),"") | E35: =IF(C35<>"",VLOOKUP(C35,Licenciés!A:C,3,FALSE),"") | F35: Poids | G35: 1 | I35: =IF(H35<>"",VLOOKUP(H35,Licenciés!A:C,2,FALSE),"") | J35: =IF(H35<>"",VLOOKUP(H35,Licenciés!A:C,3,FALSE),"")
B36: 2 | D36: =IF(C36<>"",VLOOKUP(C36,Licenciés!A:C,2,FALSE),"") | E36: =IF(C36<>"",VLOOKUP(C36,Licenciés!A:C,3,FALSE),"") | G36: 2 | I36: =IF(H36<>"",VLOOKUP(H36,Licenciés!A:C,2,FALSE),"") | J36: =IF(H36<>"",VLOOKUP(H36,Licenciés!A:C,3,FALSE),"")
A37: Disque | B37: 1 | D37: =IF(C37<>"",VLOOKUP(C37,Licenciés!A:C,2,FALSE),"") | E37: =IF(C37<>"",VLOOKUP(C37,Licenciés!A:C,3,FALSE),"") | F37: Disque | G37: 1 | I37: =IF(H37<>"",VLOOKUP(H37,Licenciés!A:C,2,FALSE),"") | J37: =IF(H37<>"",VLOOKUP(H37,Licenciés!A:C,3,FALSE),"")
B38: 2 | D38: =IF(C38<>"",VLOOKUP(C38,Licenciés!A:C,2,FALSE),"") | E38: =IF(C38<>"",VLOOKUP(C38,Licenciés!A:C,3,FALSE),"") | G38: 2 | I38: =IF(H38<>"",VLOOKUP(H38,Licenciés!A:C,2,FALSE),"") | J38: =IF(H38<>"",VLOOKUP(H38,Licenciés!A:C,3,FALSE),"")
A39: Marteau | B39: 1 | D39: =IF(C39<>"",VLOOKUP(C39,Licenciés!A:C,2,FALSE),"") | E39: =IF(C39<>"",VLOOKUP(C39,Licenciés!A:C,3,FALSE),"") | F39: Marteau | G39: 1 | I39: =IF(H39<>"",VLOOKUP(H39,Licenciés!A:C,2,FALSE),"") | J39: =IF(H39<>"",VLOOKUP(H39,Licenciés!A:C,3,FALSE),"")
B40: 2 | D40: =IF(C40<>"",VLOOKUP(C40,Licenciés!A:C,2,FALSE),"") | E40: =IF(C40<>"",VLOOKUP(C40,Licenciés!A:C,3,FALSE),"") | G40: 2 | I40: =IF(H40<>"",VLOOKUP(H40,Licenciés!A:C,2,FALSE),"") | J40: =IF(H40<>"",VLOOKUP(H40,Licenciés!A:C,3,FALSE),"")
A41: Javelot | B41: 1 | D41: =IF(C41<>"",VLOOKUP(C41,Licenciés!A:C,2,FALSE),"") | E41: =IF(C41<>"",VLOOKUP(C41,Licenciés!A:C,3,FALSE),"") | F41: Javelot | G41: 1 | I41: =IF(H41<>"",VLOOKUP(H41,Licenciés!A:C,2,FALSE),"") | J41: =IF(H41<>"",VLOOKUP(H41,Licenciés!A:C,3,FALSE),"")
B42: 2 | D42: =IF(C42<>"",VLOOKUP(C42,Licenciés!A:C,2,FALSE),"") | E42: =IF(C42<>"",VLOOKUP(C42,Licenciés!A:C,3,FALSE),"") | G42: 2 | I42: =IF(H42<>"",VLOOKUP(H42,Licenciés!A:C,2,FALSE),"") | J42: =IF(H42<>"",VLOOKUP(H42,Licenciés!A:C,3,FALSE),"")
A43: 2000 m marche | B43: 1 | D43: =IF(C43<>"",VLOOKUP(C43,Licenciés!A:C,2,FALSE),"") | E43: =IF(C43<>"",VLOOKUP(C43,Licenciés!A:C,3,FALSE),"") | F43: 2000 m marche | G43: 1 | I43: =IF(H43<>"",VLOOKUP(H43,Licenciés!A:C,2,FALSE),"") | J43: =IF(H43<>"",VLOOKUP(H43,Licenciés!A:C,3,FALSE),"")
B44: 2 | D44: =IF(C44<>"",VLOOKUP(C44,Licenciés!A:C,2,FALSE),"") | E44: =IF(C44<>"",VLOOKUP(C44,Licenciés!A:C,3,FALSE),"") | G44: 2 | I44: =IF(H44<>"",VLOOKUP(H44,Licenciés!A:C,2,FALSE),"") | J44: =IF(H44<>"",VLOOKUP(H44,Licenciés!A:C,3,FALSE),"")
A45: Relais 4 x 60 m | B45: 1 | D45: =IF(C45<>"",VLOOKUP(C45,Licenciés!A:C,2,FALSE),"") | E45: =IF(C45<>"",VLOOKUP(C45,Licenciés!A:C,3,FALSE),"") | F45: Relais 4 x 60 m | G45: 1 | I45: =IF(H45<>"",VLOOKUP(H45,Licenciés!A:C,2,FALSE),"") | J45: =IF(H45<>"",VLOOKUP(H45,Licenciés!A:C,3,FALSE),"")
B46: 2 | D46: =IF(C46<>"",VLOOKUP(C46,Licenciés!A:C,2,FALSE),"") | E46: =IF(C46<>"",VLOOKUP(C46,Licenciés!A:C,3,FALSE),"") | G46: 2 | I46: =IF(H46<>"",VLOOKUP(H46,Licenciés!A:C,2,FALSE),"") | J46: =IF(H46<>"",VLOOKUP(H46,Licenciés!A:C,3,FALSE),"")
B47: 3 | D47: =IF(C47<>"",VLOOKUP(C47,Licenciés!A:C,2,FALSE),"") | E47: =IF(C47<>"",VLOOKUP(C47,Licenciés!A:C,3,FALSE),"") | G47: 3 | I47: =IF(H47<>"",VLOOKUP(H47,Licenciés!A:C,2,FALSE),"") | J47: =IF(H47<>"",VLOOKUP(H47,Licenciés!A:C,3,FALSE),"")
B48: 4 | D48: =IF(C48<>"",VLOOKUP(C48,Licenciés!A:C,2,FALSE),"") | E48: =IF(C48<>"",VLOOKUP(C48,Licenciés!A:C,3,FALSE),"") | G48: 4 | I48: =IF(H48<>"",VLOOKUP(H48,Licenciés!A:C,2,FALSE),"") | J48: =IF(H48<>"",VLOOKUP(H48,Licenciés!A:C,3,FALSE),"")
A51: U16
A53: Féminines | F53: Masculins
A54: 80 m | B54: 1 | D54: =IF(C54<>"",VLOOKUP(C54,Licenciés!A:C,2,FALSE),"") | E54: =IF(C54<>"",VLOOKUP(C54,Licenciés!A:C,3,FALSE),"") | F54: 80 m | G54: 1 | I54: =IF(H54<>"",VLOOKUP(H54,Licenciés!A:C,2,FALSE),"") | J54: =IF(H54<>"",VLOOKUP(H54,Licenciés!A:C,3,FALSE),"")
B55: 2 | D55: =IF(C55<>"",VLOOKUP(C55,Licenciés!A:C,2,FALSE),"") | E55: =IF(C55<>"",VLOOKUP(C55,Licenciés!A:C,3,FALSE),"") | G55: 2 | I55: =IF(H55<>"",VLOOKUP(H55,Licenciés!A:C,2,FALSE),"") | J55: =IF(H55<>"",VLOOKUP(H55,Licenciés!A:C,3,FALSE),"")
A56: 120 m | B56: 1 | D56: =IF(C56<>"",VLOOKUP(C56,Licenciés!A:C,2,FALSE),"") | E56: =IF(C56<>"",VLOOKUP(C56,Licenciés!A:C,3,FALSE),"") | F56: 120 m | G56: 1 | I56: =IF(H56<>"",VLOOKUP(H56,Licenciés!A:C,2,FALSE),"") | J56: =IF(H56<>"",VLOOKUP(H56,Licenciés!A:C,3,FALSE),"")
B57: 2 | D57: =IF(C57<>"",VLOOKUP(C57,Licenciés!A:C,2,FALSE),"") | E57: =IF(C57<>"",VLOOKUP(C57,Licenciés!A:C,3,FALSE),"") | G57: 2 | I57: =IF(H57<>"",VLOOKUP(H57,Licenciés!A:C,2,FALSE),"") | J57: =IF(H57<>"",VLOOKUP(H57,Licenciés!A:C,3,FALSE),"")
A58: 1000 m | B58: 1 | D58: =IF(C58<>"",VLOOKUP(C58,Licenciés!A:C,2,FALSE),"") | E58: =IF(C58<>"",VLOOKUP(C58,Licenciés!A:C,3,FALSE),"") | F58: 1000 m | G58: 1 | I58: =IF(H58<>"",VLOOKUP(H58,Licenciés!A:C,2,FALSE),"") | J58: =IF(H58<>"",VLOOKUP(H58,Licenciés!A:C,3,FALSE),"")
B59: 2 | D59: =IF(C59<>"",VLOOKUP(C59,Licenciés!A:C,2,FALSE),"") | E59: =IF(C59<>"",VLOOKUP(C59,Licenciés!A:C,3,FALSE),"") | G59: 2 | I59: =IF(H59<>"",VLOOKUP(H59,Licenciés!A:C,2,FALSE),"") | J59: =IF(H59<>"",VLOOKUP(H59,Licenciés!A:C,3,FALSE),"")
A60: 2000 m | B60: 1 | D60: =IF(C60<>"",VLOOKUP(C60,Licenciés!A:C,2,FALSE),"") | E60: =IF(C60<>"",VLOOKUP(C60,Licenciés!A:C,3,FALSE),"") | F60: 2000 m | G60: 1 | I60: =IF(H60<>"",VLOOKUP(H60,Licenciés!A:C,2,FALSE),"") | J60: =IF(H60<>"",VLOOKUP(H60,Licenciés!A:C,3,FALSE),"")
B61: 2 | D61: =IF(C61<>"",VLOOKUP(C61,Licenciés!A:C,2,FALSE),"") | E61: =IF(C61<>"",VLOOKUP(C61,Licenciés!A:C,3,FALSE),"") | G61: 2 | I61: =IF(H61<>"",VLOOKUP(H61,Licenciés!A:C,2,FALSE),"") | J61: =IF(H61<>"",VLOOKUP(H61,Licenciés!A:C,3,FALSE),"")
A62: 80 m haies | B62: 1 | D62: =IF(C62<>"",VLOOKUP(C62,Licenciés!A:C,2,FALSE),"") | E62: =IF(C62<>"",VLOOKUP(C62,Licenciés!A:C,3,FALSE),"") | F62: 100 m haies | G62: 1 | I62: =IF(H62<>"",VLOOKUP(H62,Licenciés!A:C,2,FALSE),"") | J62: =IF(H62<>"",VLOOKUP(H62,Licenciés!A:C,3,FALSE),"")
B63: 2 | D63: =IF(C63<>"",VLOOKUP(C63,Licenciés!A:C,2,FALSE),"") | E63: =IF(C63<>"",VLOOKUP(C63,Licenciés!A:C,3,FALSE),"") | G63: 2 | I63: =IF(H63<>"",VLOOKUP(H63,Licenciés!A:C,2,FALSE),"") | J63: =IF(H63<>"",VLOOKUP(H63,Licenciés!A:C,3,FALSE),"")
A64: 200 m haies | B64: 1 | D64: =IF(C64<>"",VLOOKUP(C64,Licenciés!A:C,2,FALSE),"") | E64: =IF(C64<>"",VLOOKUP(C64,Licenciés!A:C,3,FALSE),"") | F64: 200 m haies | G64: 1 | I64: =IF(H64<>"",VLOOKUP(H64,Licenciés!A:C,2,FALSE),"") | J64: =IF(H64<>"",VLOOKUP(H64,Licenciés!A:C,3,FALSE),"")
B65: 2 | D65: =IF(C65<>"",VLOOKUP(C65,Licenciés!A:C,2,FALSE),"") | E65: =IF(C65<>"",VLOOKUP(C65,Licenciés!A:C,3,FALSE),"") | G65: 2 | I65: =IF(H65<>"",VLOOKUP(H65,Licenciés!A:C,2,FALSE),"") | J65: =IF(H65<>"",VLOOKUP(H65,Licenciés!A:C,3,FALSE),"")
A66: Hauteur | B66: 1 | D66: =IF(C66<>"",VLOOKUP(C66,Licenciés!A:C,2,FALSE),"") | E66: =IF(C66<>"",VLOOKUP(C66,Licenciés!A:C,3,FALSE),"") | F66: Hauteur | G66: 1 | I66: =IF(H66<>"",VLOOKUP(H66,Licenciés!A:C,2,FALSE),"") | J66: =IF(H66<>"",VLOOKUP(H66,Licenciés!A:C,3,FALSE),"")
B67: 2 | D67: =IF(C67<>"",VLOOKUP(C67,Licenciés!A:C,2,FALSE),"") | E67: =IF(C67<>"",VLOOKUP(C67,Licenciés!A:C,3,FALSE),"") | G67: 2 | I67: =IF(H67<>"",VLOOKUP(H67,Licenciés!A:C,2,FALSE),"") | J67: =IF(H67<>"",VLOOKUP(H67,Licenciés!A:C,3,FALSE),"")
A68: Perche | B68: 1 | D68: =IF(C68<>"",VLOOKUP(C68,Licenciés!A:C,2,FALSE),"") | E68: =IF(C68<>"",VLOOKUP(C68,Licenciés!A:C,3,FALSE),"") | F68: Perche | G68: 1 | I68: =IF(H68<>"",VLOOKUP(H68,Licenciés!A:C,2,FALSE),"") | J68: =IF(H68<>"",VLOOKUP(H68,Licenciés!A:C,3,FALSE),"")
B69: 2 | D69: =IF(C69<>"",VLOOKUP(C69,Licenciés!A:C,2,FALSE),"") | E69: =IF(C69<>"",VLOOKUP(C69,Licenciés!A:C,3,FALSE),"") | G69: 2 | I69: =IF(H69<>"",VLOOKUP(H69,Licenciés!A:C,2,FALSE),"") | J69: =IF(H69<>"",VLOOKUP(H69,Licenciés!A:C,3,FALSE),"")
A70: Longueur | B70: 1 | D70: =IF(C70<>"",VLOOKUP(C70,Licenciés!A:C,2,FALSE),"") | E70: =IF(C70<>"",VLOOKUP(C70,Licenciés!A:C,3,FALSE),"") | F70: Longueur | G70: 1 | I70: =IF(H70<>"",VLOOKUP(H70,Licenciés!A:C,2,FALSE),"") | J70: =IF(H70<>"",VLOOKUP(H70,Licenciés!A:C,3,FALSE),"")
B71: 2 | D71: =IF(C71<>"",VLOOKUP(C71,Licenciés!A:C,2,FALSE),"") | E71: =IF(C71<>"",VLOOKUP(C71,Licenciés!A:C,3,FALSE),"") | G71: 2 | I71: =IF(H71<>"",VLOOKUP(H71,Licenciés!A:C,2,FALSE),"") | J71: =IF(H71<>"",VLOOKUP(H71,Licenciés!A:C,3,FALSE),"")
A72: Triple-Saut | B72: 1 | D72: =IF(C72<>"",VLOOKUP(C72,Licenciés!A:C,2,FALSE),"") | E72: =IF(C72<>"",VLOOKUP(C72,Licenciés!A:C,3,FALSE),"") | F72: Triple-Saut | G72: 1 | I72: =IF(H72<>"",VLOOKUP(H72,Licenciés!A:C,2,FALSE),"") | J72: =IF(H72<>"",VLOOKUP(H72,Licenciés!A:C,3,FALSE),"")
B73: 2 | D73: =IF(C73<>"",VLOOKUP(C73,Licenciés!A:C,2,FALSE),"") | E73: =IF(C73<>"",VLOOKUP(C73,Licenciés!A:C,3,FALSE),"") | G73: 2 | I73: =IF(H73<>"",VLOOKUP(H73,Licenciés!A:C,2,FALSE),"") | J73: =IF(H73<>"",VLOOKUP(H73,Licenciés!A:C,3,FALSE),"")
A74: Poids | B74: 1 | D74: =IF(C74<>"",VLOOKUP(C74,Licenciés!A:C,2,FALSE),"") | E74: =IF(C74<>"",VLOOKUP(C74,Licenciés!A:C,3,FALSE),"") | F74: Poids | G74: 1 | I74: =IF(H74<>"",VLOOKUP(H74,Licenciés!A:C,2,FALSE),"") | J74: =IF(H74<>"",VLOOKUP(H74,Licenciés!A:C,3,FALSE),"")
B75: 2 | D75: =IF(C75<>"",VLOOKUP(C75,Licenciés!A:C,2,FALSE),"") | E75: =IF(C75<>"",VLOOKUP(C75,Licenciés!A:C,3,FALSE),"") | G75: 2 | I75: =IF(H75<>"",VLOOKUP(H75,Licenciés!A:C,2,FALSE),"") | J75: =IF(H75<>"",VLOOKUP(H75,Licenciés!A:C,3,FALSE),"")
A76: Disque | B76: 1 | D76: =IF(C76<>"",VLOOKUP(C76,Licenciés!A:C,2,FALSE),"") | E76: =IF(C76<>"",VLOOKUP(C76,Licenciés!A:C,3,FALSE),"") | F76: Disque | G76: 1 | I76: =IF(H76<>"",VLOOKUP(H76,Licenciés!A:C,2,FALSE),"") | J76: =IF(H76<>"",VLOOKUP(H76,Licenciés!A:C,3,FALSE),"")
B77: 2 | D77: =IF(C77<>"",VLOOKUP(C77,Licenciés!A:C,2,FALSE),"") | E77: =IF(C77<>"",VLOOKUP(C77,Licenciés!A:C,3,FALSE),"") | G77: 2 | I77: =IF(H77<>"",VLOOKUP(H77,Licenciés!A:C,2,FALSE),"") | J77: =IF(H77<>"",VLOOKUP(H77,Licenciés!A:C,3,FALSE),"")
A78: Marteau | B78: 1 | D78: =IF(C78<>"",VLOOKUP(C78,Licenciés!A:C,2,FALSE),"") | E78: =IF(C78<>"",VLOOKUP(C78,Licenciés!A:C,3,FALSE),"") | F78: Marteau | G78: 1 | I78: =IF(H78<>"",VLOOKUP(H78,Licenciés!A:C,2,FALSE),"") | J78: =IF(H78<>"",VLOOKUP(H78,Licenciés!A:C,3,FALSE),"")
B79: 2 | D79: =IF(C79<>"",VLOOKUP(C79,Licenciés!A:C,2,FALSE),"") | E79: =IF(C79<>"",VLOOKUP(C79,Licenciés!A:C,3,FALSE),"") | G79: 2 | I79: =IF(H79<>"",VLOOKUP(H79,Licenciés!A:C,2,FALSE),"") | J79: =IF(H79<>"",VLOOKUP(H79,Licenciés!A:C,3,FALSE),"")
A80: Javelot | B80: 1 | D80: =IF(C80<>"",VLOOKUP(C80,Licenciés!A:C,2,FALSE),"") | E80: =IF(C80<>"",VLOOKUP(C80,Licenciés!A:C,3,FALSE),"") | F80: Javelot | G80: 1 | I80: =IF(H80<>"",VLOOKUP(H80,Licenciés!A:C,2,FALSE),"") | J80: =IF(H80<>"",VLOOKUP(H80,Licenciés!A:C,3,FALSE),"")
B81: 2 | D81: =IF(C81<>"",VLOOKUP(C81,Licenciés!A:C,2,FALSE),"") | E81: =IF(C81<>"",VLOOKUP(C81,Licenciés!A:C,3,FALSE),"") | G81: 2 | I81: =IF(H81<>"",VLOOKUP(H81,Licenciés!A:C,2,FALSE),"") | J81: =IF(H81<>"",VLOOKUP(H81,Licenciés!A:C,3,FALSE),"")
A82: 3000 m Marche | B82: 1 | D82: =IF(C82<>"",VLOOKUP(C82,Licenciés!A:C,2,FALSE),"") | E82: =IF(C82<>"",VLOOKUP(C82,Licenciés!A:C,3,FALSE),"") | F82: 3000 m Marche | G82: 1 | I82: =IF(H82<>"",VLOOKUP(H82,Licenciés!A:C,2,FALSE),"") | J82: =IF(H82<>"",VLOOKUP(H82,Licenciés!A:C,3,FALSE),"")
B83: 2 | D83: =IF(C83<>"",VLOOKUP(C83,Licenciés!A:C,2,FALSE),"") | E83: =IF(C83<>"",VLOOKUP(C83,Licenciés!A:C,3,FALSE),"") | G83: 2 | I83: =IF(H83<>"",VLOOKUP(H83,Licenciés!A:C,2,FALSE),"") | J83: =IF(H83<>"",VLOOKUP(H83,Licenciés!A:C,3,FALSE),"")
A84: Relais 4 x 60 m | B84: 1 | D84: =IF(C84<>"",VLOOKUP(C84,Licenciés!A:C,2,FALSE),"") | E84: =IF(C84<>"",VLOOKUP(C84,Licenciés!A:C,3,FALSE),"") | F84: Relais 4 x 60 m | G84: 1 | I84: =IF(H84<>"",VLOOKUP(H84,Licenciés!A:C,2,FALSE),"") | J84: =IF(H84<>"",VLOOKUP(H84,Licenciés!A:C,3,FALSE),"")
B85: 2 | D85: =IF(C85<>"",VLOOKUP(C85,Licenciés!A:C,2,FALSE),"") | E85: =IF(C85<>"",VLOOKUP(C85,Licenciés!A:C,3,FALSE),"") | G85: 2 | I85: =IF(H85<>"",VLOOKUP(H85,Licenciés!A:C,2,FALSE),"") | J85: =IF(H85<>"",VLOOKUP(H85,Licenciés!A:C,3,FALSE),"")
B86: 3 | D86: =IF(C86<>"",VLOOKUP(C86,Licenciés!A:C,2,FALSE),"") | E86: =IF(C86<>"",VLOOKUP(C86,Licenciés!A:C,3,FALSE),"") | G86: 3 | I86: =IF(H86<>"",VLOOKUP(H86,Licenciés!A:C,2,FALSE),"") | J86: =IF(H86<>"",VLOOKUP(H86,Licenciés!A:C,3,FALSE),"")
B87: 4 | D87: =IF(C87<>"",VLOOKUP(C87,Licenciés!A:C,2,FALSE),"") | E87: =IF(C87<>"",VLOOKUP(C87,Licenciés!A:C,3,FALSE),"") | G87: 4 | H87: gh | I87: =IF(H87<>"",VLOOKUP(H87,Licenciés!A:C,2,FALSE),"") -> #N/A | J87: =IF(H87<>"",VLOOKUP(H87,Licenciés!A:C,3,FALSE),"") -> #N/A

Sheet Licenciés
A1: 2191913 | B1: ALBENQUE | C1: LEIA | E1: BE | F1: F | G1: 018003
A2: 2451055 | B2: ALVARO | C2: ABEL | E2: BE | F2: M | G2: 018003
A3: 2345233 | B3: BARA | C3: ANTOINE | E3: BE | F3: M | G3: 018003
A4: 2205609 | B4: BARONNET | C4: GREGOIRE | E4: BE | F4: M | G4: 018003
A5: 2572623 | B5: BERGER | C5: CORALIE | E5: BE | F5: F | G5: 018003
A6: 2345249 | B6: BERTON | C6: ARTHUR | E6: BE | F6: M | G6: 018003
A7: 2612716 | B7: BESSEMOULIN | C7: CAMILLE | E7: BE | F7: M | G7: 018003
A8: 2618306 | B8: CELEGATO | C8: LEONIE | E8: BE | F8: F | G8: 018003
A9: 2346086 | B9: DEREGNAUCOURT | C9: CYRIAC | E9: BE | F9: M | G9: 018003
A10: 2519452 | B10: DESBOIS | C10: ZELIE | E10: BE | F10: F | G10: 018003
A11: 2457316 | B11: DOUCET | C11: CAPUCINE | E11: BE | F11: F | G11: 018003
A12: 2178920 | B12: DUSSAUZE | C12: HADRIEN | E12: BE | F12: M | G12: 018003
... A1734: 2702525 | B1734: DELECLUSE | C1734: MATTHEW | E1734: MI | F1734: M | G1734: 045059

Sheet Equipes
A1: ATH | B1: ATH | C1: ATH | D1: ATH | E1: ATH | F1: ATH | G1: ATH | H1: ATH | I1: EPR | J1: EPR | K1: ENG | L1: EPR | M1: EPR | N1: EPR | O1: EPR | P1: EPR | Q1: EQU | R1: EQU | S1: INT | T1: INT | U1: INT | V1: INT | W1: ENG | X1: EQU | Y1: EQU | Z1: EQU | AA1: EQU | AB1: EQU | AC1: EQU | AD1: EQU | AE1: EQU | AF1: EPR | AG1: EPR | AH1: EPR | AI1: EPR | AJ1: EPR | AK1: EPR | AL1: EPR | AM1: ENG | AN1: ENG | AO1: ENG | AP1: ENG | AQ1: ENG | AR1: ENG | AS1: ENG | AT1: ENG | AU1: ENG | AV1: EPR | AW1: EPR | AX1: ATH | AY1: ATH | AZ1: ATH | BA1: ATH | BB1: RES | BC1: RES | BD1: RES | BE1: RES | BF1: RES | BG1: RES | BH1: RES | BI1: RES | BJ1: RES | BK1: RES | BL1: RES | BM1: RES | BN1: RES | BO1: RES
A2: Num licence. Non obligatoire mais essentiel si licencié | B2: Nom | C2: Prénom | D2: Nationalité (3 caractères) | E2: Catégorie athlète (2 car. SE, BE, .. Ou 3 car M45, F50, .. | F2: Date de Naissance (complète ou année naissance seule) | G2: Sexe athlète (M ou F) | H2: Accepte de voir son identité sur le web (O ou N). Si vide = O (oui) | I2: Code Epreuve FFA | J2: Libellé complémentaire épreuve (ne pas remplir si code appel piste) | K2: Ordre dans le relais | L2: Code FFA sous épreuve (ex epv multiples, combinées, Ekiden (003) | M2: Libellé complémentaire sous épreuve | N2: Ordre d'édition de la sous-épreuve dans l'interface | O2: Distance (en mètres, pas de séparateur), obligatoire si running | P2: Durée (ex 240000 pour 24h, 003000 pour 30'), obligatoire si course en durée | Q2: Nom de l'Equipe | R2: Lettre de l'Equipe (interclub) | S2: Nom InterClub | T2: Sexe InterClub (M, F, X) | U2: Catégorie InterClub (2 caract. maxi) | V2: Ordre athlète pour engagement Interclub | W2: Numéro de dossard | X2: Catégorie de l'équipe | Y2: Sexe de l'équipe | Z2: Code FFA de l'équipe | AA2: Perf engagement de l'équipe | AB2: numéro d'équipe | AC2: Challenge (ex UNSS, ENTR, UFOLEP, et…) | AD2: Exclure l'équipe du classement par équipe (O ou N), si vide N par défaut | AE2: Code critérium (division en interclub) lié à l'équipe | AF2: Catégorie de l'épreuve (si vide TC par défaut) | AG2: Sexe de l'épreuve (si vide X par défaut) | AH2: Ordre d'édition de l'épreuve dans l'interface | AI2: Type cross | AJ2: Commentaire épreuve | AK2: Heure de l'épreuve (chiffre uniquement, ex 9h20 -> 0920 | AL2: Jour de l'Epreuve (1, 2, etc.). Si vide = 1 | AM2: Perf d'Engagement athlète | AN2: Statut (I ou E) individuel ou Equipe | AO2: Code critérium (division en interclub) lié à l'athlète | AP2: Confirmation (O ou N) Si vide -> O par défaut) | AQ2: Hors concours (O ou N) Si vide -> N par défaut) | AR2: Cotisation Payée (O ou N), si vide N par défaut | AS2: Invité(e) O ou N | AT2: Certificat Medical fourni (O ou N), Si vide -> N par défaut) | AU2: info Libre (lié à l'athlète) | AV2: DistanceTour (pour les érpeuves en durée) | AW2: Distance Depart au PremierTour (epv en durée) | AX2: Numéro FFA du club de l'athlète | AY2: libllé du club de l'athlète | AZ2: libllé du club non officiel de l'athlète | BA2: Type de licence (COMP, LOISR, et…) | BB2: Tour (7= Finale, 6=1/2 Finale, 5=1/4 de finale, … 2=Série)), 7 si vide | BC2: Nom du tour (Finale, Concours, Séries, etc..). Si vide libellé e-Logica | BD2: Numéro du tour 1, 2, …), 1 si vide | BE2: Numéro du couloir | BF2: Commentaire | BG2: Type de Chrono (E, M ou vide) | BH2: Vent (si sprint, haies, longueur, Triple) | BI2: Place | BJ2: Perf | BK2: Qualif | BL2: Perf officielle | BM2: Perf réelle | BN2: Perf Parcours cumulée (temps du baton) | BO2: Perf Athlète (Temps de l'athlète Ekiden)
A3: Licence | B3: Nom | C3: Prenom | D3: Nationalite | E3: Categorie | F3: DateNaissance | G3: Sexe | H3: RGPD | I3: CodeAppel | J3: NomEpreuve | K3: OrdreRelaiAthlete | L3: CodeAppelSousEpreuve | M3: NomSousEpreuve | N3: OrdreEditionSousEpreuve | O3: DistanceEpreuve | P3: DureeEpreuve | Q3: NomEquipe | R3: LettreEquipe | S3: NomInterClub | T3: CodeSexeInterClub | U3: CategorieInterClub | V3: OrdreAthleteSerieEpreuveInterClub | W3: NumDossard | X3: CategorieEquipe | Y3: SexeEquipe | Z3: STRCODNUMClubEquipe | AA3: PerfEquipe | AB3: NumEquipe | AC3: ChallengeEquipe | AD3: ExclureClassementEquipe | AE3: DivisionEquipeIC | AF3: CategorieEp | AG3: SexeEpreuve | AH3: OrdreEditionEpreuve | AI3: TypeCross | AJ3: CommentaireEpreuve | AK3: HeureEpreuve | AL3: JourEpreuve | AM3: PerfEngagement | AN3: EquipeIndividuel | AO3: Division | AP3: Confirmation | AQ3: HorsConcours | AR3: CotisationPayee | AS3: Invite | AT3: CertificatMedical | AU3: InformationLibre | AV3: DistanceTourEpreuve | AW3: DistanceDepartPremierTourEpreuve | AX3: STRCODNUMClubAthlete | AY3: NomClub | AZ3: NomClubNonOfficiel | BA3: LibelleCourtTypeLicence | BB3: Tour | BC3: NomTour | BD3: NumSerie | BE3: Couloir | BF3: Commentaire | BG3: Chrono | BH3: Vent | BI3: Place | BJ3: Perf | BK3: Qualif | BL3: PerfOff | BM3: PerfReelle | BN3: PerfCumulee | BO3: PerfAthlete
A4: =IF(Intercomités2024!C21<>"",Intercomités2024!C21,"") | B4: =IF(A4<>"",LEFT(VLOOKUP(A4,Licenciés!A:F,2,FALSE),20),"") | C4: =IF(A4<>"",LEFT(VLOOKUP(A4,Licenciés!A:F,3,FALSE),15),"") | E4: =IF(A4<>"",LEFT(VLOOKUP(A4,Licenciés!A:F,5,FALSE),15),"") | G4: =IF(A4<>"",LEFT(VLOOKUP(A4,Licenciés!A:F,6,FALSE),15),"") | I4: =IF(A4<>"",104,"") | Q4: =IF(A4<>"",Intercomités2024!$C$4,"") | R4: =IF(A4<>"",UPPER(Intercomités2024!$H$4),"") | S4: =IF(A4<>"","U14F","") | T4: =IF(A4<>"","F","") | U4: =IF(A4<>"","BE","") | V4: =IF(A4<>"",1,"") | X4: =IF(A4<>"","BE","") | Y4: =IF(A4<>"","F","") | AF4: =IF(A4<>"","BE","") | AG4: =IF(A4<>"","F","")
A5: =IF(Intercomités2024!C22<>"",Intercomités2024!C22,"") | B5: =IF(A5<>"",LEFT(VLOOKUP(A5,Licenciés!A:F,2,FALSE),20),"") | C5: =IF(A5<>"",LEFT(VLOOKUP(A5,Licenciés!A:F,3,FALSE),15),"") | E5: =IF(A5<>"",LEFT(VLOOKUP(A5,Licenciés!A:F,5,FALSE),15),"") | G5: =IF(A5<>"",LEFT(VLOOKUP(A5,Licenciés!A:F,6,FALSE),15),"") | I5: =IF(A5<>"",104,"") | Q5: =IF(A5<>"",Intercomités2024!$C$4,"") | R5: =IF(A5<>"",UPPER(Intercomités2024!$H$4),"") | S5: =IF(A5<>"","U14F","") | T5: =IF(A5<>"","F","") | U5: =IF(A5<>"","BE","") | V5: =IF(A5<>"",2,"") | X5: =IF(A5<>"","BE","") | Y5: =IF(A5<>"","F","") | AF5: =IF(A5<>"","BE","") | AG5: =IF(A5<>"","F","")
A6: =IF(Intercomités2024!C23<>"",Intercomités2024!C23,"") | B6: =IF(A6<>"",LEFT(VLOOKUP(A6,Licenciés!A:F,2,FALSE),20),"") | C6: =IF(A6<>"",LEFT(VLOOKUP(A6,Licenciés!A:F,3,FALSE),15),"") | E6: =IF(A6<>"",LEFT(VLOOKUP(A6,Licenciés!A:F,5,FALSE),15),"") | G6: =IF(A6<>"",LEFT(VLOOKUP(A6,Licenciés!A:F,6,FALSE),15),"") | I6: =IF(A6<>"",210,"") | Q6: =IF(A6<>"",Intercomités2024!$C$4,"") | R6: =IF(A6<>"",UPPER(Intercomités2024!$H$4),"") | S6: =IF(A6<>"","U14F","") | T6: =IF(A6<>"","F","") | U6: =IF(A6<>"","BE","") | V6: =IF(A6<>"",1,"") | X6: =IF(A6<>"","BE","") | Y6: =IF(A6<>"","F","") | AF6: =IF(A6<>"","BE","") | AG6: =IF(A6<>"","F","")
A7: =IF(Intercomités2024!C24<>"",Intercomités2024!C24,"") | B7: =IF(A7<>"",LEFT(VLOOKUP(A7,Licenciés!A:F,2,FALSE),20),"") | C7: =IF(A7<>"",LEFT(VLOOKUP(A7,Licenciés!A:F,3,FALSE),15),"") | E7: =IF(A7<>"",LEFT(VLOOKUP(A7,Licenciés!A:F,5,FALSE),15),"") | G7: =IF(A7<>"",LEFT(VLOOKUP(A7,Licenciés!A:F,6,FALSE),15),"") | I7: =IF(A7<>"",210,"") | Q7: =IF(A7<>"",Intercomités2024!$C$4,"") | R7: =IF(A7<>"",UPPER(Intercomités2024!$H$4),"") | S7: =IF(A7<>"","U14F","") | T7: =IF(A7<>"","F","") | U7: =IF(A7<>"","BE","") | V7: =IF(A7<>"",2,"") | X7: =IF(A7<>"","BE","") | Y7: =IF(A7<>"","F","") | AF7: =IF(A7<>"","BE","") | AG7: =IF(A7<>"","F","")
A8: =IF(Intercomités2024!C25<>"",Intercomités2024!C25,"") | B8: =IF(A8<>"",LEFT(VLOOKUP(A8,Licenciés!A:F,2,FALSE),20),"") | C8: =IF(A8<>"",LEFT(VLOOKUP(A8,Licenciés!A:F,3,FALSE),15),"") | E8: =IF(A8<>"",LEFT(VLOOKUP(A8,Licenciés!A:F,5,FALSE),15),"") | G8: =IF(A8<>"",LEFT(VLOOKUP(A8,Licenciés!A:F,6,FALSE),15),"") | I8: =IF(A8<>"",321,"") | Q8: =IF(A8<>"",Intercomités2024!$C$4,"") | R8: =IF(A8<>"",UPPER(Intercomités2024!$H$4),"") | S8: =IF(A8<>"","U14F","") | T8: =IF(A8<>"","F","") | U8: =IF(A8<>"","BE","") | V8: =IF(A8<>"",1,"") | X8: =IF(A8<>"","BE","") | Y8: =IF(A8<>"","F","") | AF8: =IF(A8<>"","BE","") | AG8: =IF(A8<>"","F","")
A9: =IF(Intercomités2024!C26<>"",Intercomités2024!C26,"") | B9: =IF(A9<>"",LEFT(VLOOKUP(A9,Licenciés!A:F,2,FALSE),20),"") | C9: =IF(A9<>"",LEFT(VLOOKUP(A9,Licenciés!A:F,3,FALSE),15),"") | E9: =IF(A9<>"",LEFT(VLOOKUP(A9,Licenciés!A:F,5,FALSE),15),"") | G9: =IF(A9<>"",LEFT(VLOOKUP(A9,Licenciés!A:F,6,FALSE),15),"") | I9: =IF(A9<>"",321,"") | Q9: =IF(A9<>"",Intercomités2024!$C$4,"") | R9: =IF(A9<>"",UPPER(Intercomités2024!$H$4),"") | S9: =IF(A9<>"","U14F","") | T9: =IF(A9<>"","F","") | U9: =IF(A9<>"","BE","") | V9: =IF(A9<>"",2,"") | X9: =IF(A9<>"","BE","") | Y9: =IF(A9<>"","F","") | AF9: =IF(A9<>"","BE","") | AG9: =IF(A9<>"","F","")
A10: =IF(Intercomités2024!C27<>"",Intercomités2024!C27,"") | B10: =IF(A10<>"",LEFT(VLOOKUP(A10,Licenciés!A:F,2,FALSE),20),"") | C10: =IF(A10<>"",LEFT(VLOOKUP(A10,Licenciés!A:F,3,FALSE),15),"") | E10: =IF(A10<>"",LEFT(VLOOKUP(A10,Licenciés!A:F,5,FALSE),15),"") | G10: =IF(A10<>"",LEFT(VLOOKUP(A10,Licenciés!A:F,6,FALSE),15),"") | I10: =IF(A10<>"",501,"") | Q10: =IF(A10<>"",Intercomités2024!$C$4,"") | R10: =IF(A10<>"",UPPER(Intercomités2024!$H$4),"") | S10: =IF(A10<>"","U14F","") | T10: =IF(A10<>"","F","") | U10: =IF(A10<>"","BE","") | V10: =IF(A10<>"",1,"") | X10: =IF(A10<>"","BE","") | Y10: =IF(A10<>"","F","") | AF10: =IF(A10<>"","BE","") | AG10: =IF(A10<>"","F","")
A11: =IF(Intercomités2024!C28<>"",Intercomités2024!C28,"") | B11: =IF(A11<>"",LEFT(VLOOKUP(A11,Licenciés!A:F,2,FALSE),20),"") | C11: =IF(A11<>"",LEFT(VLOOKUP(A11,Licenciés!A:F,3,FALSE),15),"") | E11: =IF(A11<>"",LEFT(VLOOKUP(A11,Licenciés!A:F,5,FALSE),15),"") | G11: =IF(A11<>"",LEFT(VLOOKUP(A11,Licenciés!A:F,6,FALSE),15),"") | I11: =IF(A11<>"",501,"") | Q11: =IF(A11<>"",Intercomités2024!$C$4,"") | R11: =IF(A11<>"",UPPER(Intercomités2024!$H$4),"") | S11: =IF(A11<>"","U14F","") | T11: =IF(A11<>"","F","") | U11: =IF(A11<>"","BE","") | V11: =IF(A11<>"",2,"") | X11: =IF(A11<>"","BE","") | Y11: =IF(A11<>"","F","") | AF11: =IF(A11<>"","BE","") | AG11: =IF(A11<>"","F","")
A12: =IF(Intercomités2024!C29<>"",Intercomités2024!C29,"") | B12: =IF(A12<>"",LEFT(VLOOKUP(A12,Licenciés!A:F,2,FALSE),20),"") | C12: =IF(A12<>"",LEFT(VLOOKUP(A12,Licenciés!A:F,3,FALSE),15),"") | E12: =IF(A12<>"",LEFT(VLOOKUP(A12,Licenciés!A:F,5,FALSE),15),"") | G12: =IF(A12<>"",LEFT(VLOOKUP(A12,Licenciés!A:F,6,FALSE),15),"") | I12: =IF(A12<>"",502,"") | Q12: =IF(A12<>"",Intercomités2024!$C$4,"") | R12: =IF(A12<>"",UPPER(Intercomités2024!$H$4),"") | S12: =IF(A12<>"","U14F","") | T12: =IF(A12<>"","F","") | U12: =IF(A12<>"","BE","") | V12: =IF(A12<>"",1,"") | X12: =IF(A12<>"","BE","") | Y12: =IF(A12<>"","F","") | AF12: =IF(A12<>"","BE","") | AG12: =IF(A12<>"","F","")
A13: =IF(Intercomités2024!C30<>"",Intercomités2024!C30,"") | B13: =IF(A13<>"",LEFT(VLOOKUP(A13,Licenciés!A:F,2,FALSE),20),"") | C13: =IF(A13<>"",LEFT(VLOOKUP(A13,Licenciés!A:F,3,FALSE),15),"") | E13: =IF(A13<>"",LEFT(VLOOKUP(A13,Licenciés!A:F,5,FALSE),15),"") | G13: =IF(A13<>"",LEFT(VLOOKUP(A13,Licenciés!A:F,6,FALSE),15),"") | I13: =IF(A13<>"",502,"") | Q13: =IF(A13<>"",Intercomités2024!$C$4,"") | R13: =IF(A13<>"",UPPER(Intercomités2024!$H$4),"") | S13: =IF(A13<>"","U14F","") | T13: =IF(A13<>"","F","") | U13: =IF(A13<>"","BE","") | V13: =IF(A13<>"",2,"") | X13: =IF(A13<>"","BE","") | Y13: =IF(A13<>"","F","") | AF13: =IF(A13<>"","BE","") | AG13: =IF(A13<>"","F","")
A14: =IF(Intercomités2024!C31<>"",Intercomités2024!C31,"") | B14: =IF(A14<>"",LEFT(VLOOKUP(A14,Licenciés!A:F,2,FALSE),20),"") | C14: =IF(A14<>"",LEFT(VLOOKUP(A14,Licenciés!A:F,3,FALSE),15),"") | E14: =IF(A14<>"",LEFT(VLOOKUP(A14,Licenciés!A:F,5,FALSE),15),"") | G14: =IF(A14<>"",LEFT(VLOOKUP(A14,Licenciés!A:F,6,FALSE),15),"") | I14: =IF(A14<>"",503,"") | Q14: =IF(A14<>"",Intercomités2024!$C$4,"") | R14: =IF(A14<>"",UPPER(Intercomités2024!$H$4),"") | S14: =IF(A14<>"","U14F","") | T14: =IF(A14<>"","F","") | U14: =IF(A14<>"","BE","") | V14: =IF(A14<>"",1,"") | X14: =IF(A14<>"","BE","") | Y14: =IF(A14<>"","F","") | AF14: =IF(A14<>"","BE","") | AG14: =IF(A14<>"","F","")
A15: =IF(Intercomités2024!C32<>"",Intercomités2024!C32,"") | B15: =IF(A15<>"",LEFT(VLOOKUP(A15,Licenciés!A:F,2,FALSE),20),"") | C15: =IF(A15<>"",LEFT(VLOOKUP(A15,Licenciés!A:F,3,FALSE),15),"") | E15: =IF(A15<>"",LEFT(VLOOKUP(A15,Licenciés!A:F,5,FALSE),15),"") | G15: =IF(A15<>"",LEFT(VLOOKUP(A15,Licenciés!A:F,6,FALSE),15),"") | I15: =IF(A15<>"",503,"") | Q15: =IF(A15<>"",Intercomités2024!$C$4,"") | R15: =IF(A15<>"",UPPER(Intercomités2024!$H$4),"") | S15: =IF(A15<>"","U14F","") | T15: =IF(A15<>"","F","") | U15: =IF(A15<>"","BE","") | V15: =IF(A15<>"",2,"") | X15: =IF(A15<>"","BE","") | Y15: =IF(A15<>"","F","") | AF15: =IF(A15<>"","BE","") | AG15: =IF(A15<>"","F","")
A16: =IF(Intercomités2024!C33<>"",Intercomités2024!C33,"") | B16: =IF(A16<>"",LEFT(VLOOKUP(A16,Licenciés!A:F,2,FALSE),20),"") | C16: =IF(A16<>"",LEFT(VLOOKUP(A16,Licenciés!A:F,3,FALSE),15),"") | E16: =IF(A16<>"",LEFT(VLOOKUP(A16,Licenciés!A:F,5,FALSE),15),"") | G16: =IF(A16<>"",LEFT(VLOOKUP(A16,Licenciés!A:F,6,FALSE),15),"") | I16: =IF(A16<>"",504,"") | Q16: =IF(A16<>"",Intercomités2024!$C$4,"") | R16: =IF(A16<>"",UPPER(Intercomités2024!$H$4),"") | S16: =IF(A16<>"","U14F","") | T16: =IF(A16<>"","F","") | U16: =IF(A16<>"","BE","") | V16: =IF(A16<>"",1,"") | X16: =IF(A16<>"","BE","") | Y16: =IF(A16<>"","F","") | AF16: =IF(A16<>"","BE","") | AG16: =IF(A16<>"","F","")
A17: =IF(Intercomités2024!C34<>"",Intercomités2024!C34,"") | B17: =IF(A17<>"",LEFT(VLOOKUP(A17,Licenciés!A:F,2,FALSE),20),"") | C17: =IF(A17<>"",LEFT(VLOOKUP(A17,Licenciés!A:F,3,FALSE),15),"") | E17: =IF(A17<>"",LEFT(VLOOKUP(A17,Licenciés!A:F,5,FALSE),15),"") | G17: =IF(A17<>"",LEFT(VLOOKUP(A17,Licenciés!A:F,6,FALSE),15),"") | I17: =IF(A17<>"",504,"") | Q17: =IF(A17<>"",Intercomités2024!$C$4,"") | R17: =IF(A17<>"",UPPER(Intercomités2024!$H$4),"") | S17: =IF(A17<>"","U14F","") | T17: =IF(A17<>"","F","") | U17: =IF(A17<>"","BE","") | V17: =IF(A17<>"",2,"") | X17: =IF(A17<>"","BE","") | Y17: =IF(A17<>"","F","") | AF17: =IF(A17<>"","BE","") | AG17: =IF(A17<>"","F","")
A18: =IF(Intercomités2024!C35<>"",Intercomités2024!C35,"") | B18: =IF(A18<>"",LEFT(VLOOKUP(A18,Licenciés!A:F,2,FALSE),20),"") | C18: =IF(A18<>"",LEFT(VLOOKUP(A18,Licenciés!A:F,3,FALSE),15),"") | E18: =IF(A18<>"",LEFT(VLOOKUP(A18,Licenciés!A:F,5,FALSE),15),"") | G18: =IF(A18<>"",LEFT(VLOOKUP(A18,Licenciés!A:F,6,FALSE),15),"") | I18: =IF(A18<>"",602,"") | Q18: =IF(A18<>"",Intercomités2024!$C$4,"") | R18: =IF(A18<>"",UPPER(Intercomités2024!$H$4),"") | S18: =IF(A18<>"","U14F","") | T18: =IF(A18<>"","F","") | U18: =IF(A18<>"","BE","") | V18: =IF(A18<>"",1,"") | X18: =IF(A18<>"","BE","") | Y18: =IF(A18<>"","F","") | AF18: =IF(A18<>"","BE","") | AG18: =IF(A18<>"","F","")
A19: =IF(Intercomités2024!C36<>"",Intercomités2024!C36,"") | B19: =IF(A19<>"",LEFT(VLOOKUP(A19,Licenciés!A:F,2,FALSE),20),"") | C19: =IF(A19<>"",LEFT(VLOOKUP(A19,Licenciés!A:F,3,FALSE),15),"") | E19: =IF(A19<>"",LEFT(VLOOKUP(A19,Licenciés!A:F,5,FALSE),15),"") | G19: =IF(A19<>"",LEFT(VLOOKUP(A19,Licenciés!A:F,6,FALSE),15),"") | I19: =IF(A19<>"",602,"") | Q19: =IF(A19<>"",Intercomités2024!$C$4,"") | R19: =IF(A19<>"",UPPER(Intercomités2024!$H$4),"") | S19: =IF(A19<>"","U14F","") | T19: =IF(A19<>"","F","") | U19: =IF(A19<>"","BE","") | V19: =IF(A19<>"",2,"") | X19: =IF(A19<>"","BE","") | Y19: =IF(A19<>"","F","") | AF19: =IF(A19<>"","BE","") | AG19: =IF(A19<>"","F","")
A20: =IF(Intercomités2024!C37<>"",Intercomités2024!C37,"") | B20: =IF(A20<>"",LEFT(VLOOKUP(A20,Licenciés!A:F,2,FALSE),20),"") | C20: =IF(A20<>"",LEFT(VLOOKUP(A20,Licenciés!A:F,3,FALSE),15),"") | E20: =IF(A20<>"",LEFT(VLOOKUP(A20,Licenciés!A:F,5,FALSE),15),"") | G20: =IF(A20<>"",LEFT(VLOOKUP(A20,Licenciés!A:F,6,FALSE),15),"") | I20: =IF(A20<>"",616,"") | Q20: =IF(A20<>"",Intercomités2024!$C$4,"") | R20: =IF(A20<>"",UPPER(Intercomités2024!$H$4),"") | S20: =IF(A20<>"","U14F","") | T20: =IF(A20<>"","F","") | U20: =IF(A20<>"","BE","") | V20: =IF(A20<>"",1,"") | X20: =IF(A20<>"","BE","") | Y20: =IF(A20<>"","F","") | AF20: =IF(A20<>"","BE","") | AG20: =IF(A20<>"","F","")
A21: =IF(Intercomités2024!C38<>"",Intercomités2024!C38,"") | B21: =IF(A21<>"",LEFT(VLOOKUP(A21,Licenciés!A:F,2,FALSE),20),"") | C21: =IF(A21<>"",LEFT(VLOOKUP(A21,Licenciés!A:F,3,FALSE),15),"") | E21: =IF(A21<>"",LEFT(VLOOKUP(A21,Licenciés!A:F,5,FALSE),15),"") | G21: =IF(A21<>"",LEFT(VLOOKUP(A21,Licenciés!A:F,6,FALSE),15),"") | I21: =IF(A21<>"",616,"") | Q21: =IF(A21<>"",Intercomités2024!$C$4,"") | R21: =IF(A21<>"",UPPER(Intercomités2024!$H$4),"") | S21: =IF(A21<>"","U14F","") | T21: =IF(A21<>"","F","") | U21: =IF(A21<>"","BE","") | V21: =IF(A21<>"",2,"") | X21: =IF(A21<>"","BE","") | Y21: =IF(A21<>"","F","") | AF21: =IF(A21<>"","BE","") | AG21: =IF(A21<>"","F","")
A22: =IF(Intercomités2024!C39<>"",Intercomités2024!C39,"") | B22: =IF(A22<>"",LEFT(VLOOKUP(A22,Licenciés!A:F,2,FALSE),20),"") | C22: =IF(A22<>"",LEFT(VLOOKUP(A22,Licenciés!A:F,3,FALSE),15),"") | E22: =IF(A22<>"",LEFT(VLOOKUP(A22,Licenciés!A:F,5,FALSE),15),"") | G22: =IF(A22<>"",LEFT(VLOOKUP(A22,Licenciés!A:F,6,FALSE),15),"") | I22: =IF(A22<>"",632,"") | Q22: =IF(A22<>"",Intercomités2024!$C$4,"") | R22: =IF(A22<>"",UPPER(Intercomités2024!$H$4),"") | S22: =IF(A22<>"","U14F","") | T22: =IF(A22<>"","F","") | U22: =IF(A22<>"","BE","") | V22: =IF(A22<>"",1,"") | X22: =IF(A22<>"","BE","") | Y22: =IF(A22<>"","F","") | AF22: =IF(A22<>"","BE","") | AG22: =IF(A22<>"","F","")
A23: =IF(Intercomités2024!C40<>"",Intercomités2024!C40,"") | B23: =IF(A23<>"",LEFT(VLOOKUP(A23,Licenciés!A:F,2,FALSE),20),"") | C23: =IF(A23<>"",LEFT(VLOOKUP(A23,Licenciés!A:F,3,FALSE),15),"") | E23: =IF(A23<>"",LEFT(VLOOKUP(A23,Licenciés!A:F,5,FALSE),15),"") | G23: =IF(A23<>"",LEFT(VLOOKUP(A23,Licenciés!A:F,6,FALSE),15),"") | I23: =IF(A23<>"",632,"") | Q23: =IF(A23<>"",Intercomités2024!$C$4,"") | R23: =IF(A23<>"",UPPER(Intercomités2024!$H$4),"") | S23: =IF(A23<>"","U14F","") | T23: =IF(A23<>"","F","") | U23: =IF(A23<>"","BE","") | V23: =IF(A23<>"",2,"") | X23: =IF(A23<>"","BE","") | Y23: =IF(A23<>"","F","") | AF23: =IF(A23<>"","BE","") | AG23: =IF(A23<>"","F","")
A24: =IF(Intercomités2024!C41<>"",Intercomités2024!C41,"") | B24: =IF(A24<>"",LEFT(VLOOKUP(A24,Licenciés!A:F,2,FALSE),20),"") | C24: =IF(A24<>"",LEFT(VLOOKUP(A24,Licenciés!A:F,3,FALSE),15),"") | E24: =IF(A24<>"",LEFT(VLOOKUP(A24,Licenciés!A:F,5,FALSE),15),"") | G24: =IF(A24<>"",LEFT(VLOOKUP(A24,Licenciés!A:F,6,FALSE),15),"") | I24: =IF(A24<>"",640,"") | Q24: =IF(A24<>"",Intercomités2024!$C$4,"") | R24: =IF(A24<>"",UPPER(Intercomités2024!$H$4),"") | S24: =IF(A24<>"","U14F","") | T24: =IF(A24<>"","F","") | U24: =IF(A24<>"","BE","") | V24: =IF(A24<>"",1,"") | X24: =IF(A24<>"","BE","") | Y24: =IF(A24<>"","F","") | AF24: =IF(A24<>"","BE","") | AG24: =IF(A24<>"","F","")
A25: =IF(Intercomités2024!C42<>"",Intercomités2024!C42,"") | B25: =IF(A25<>"",LEFT(VLOOKUP(A25,Licenciés!A:F,2,FALSE),20),"") | C25: =IF(A25<>"",LEFT(VLOOKUP(A25,Licenciés!A:F,3,FALSE),15),"") | E25: =IF(A25<>"",LEFT(VLOOKUP(A25,Licenciés!A:F,5,FALSE),15),"") | G25: =IF(A25<>"",LEFT(VLOOKUP(A25,Licenciés!A:F,6,FALSE),15),"") | I25: =IF(A25<>"",640,"") | Q25: =IF(A25<>"",Intercomités2024!$C$4,"") | R25: =IF(A25<>"",UPPER(Intercomités2024!$H$4),"") | S25: =IF(A25<>"","U14F","") | T25: =IF(A25<>"","F","") | U25: =IF(A25<>"","BE","") | V25: =IF(A25<>"",2,"") | X25: =IF(A25<>"","BE","") | Y25: =IF(A25<>"","F","") | AF25: =IF(A25<>"","BE","") | AG25: =IF(A25<>"","F","")
A26: =IF(Intercomités2024!C43<>"",Intercomités2024!C43,"") | B26: =IF(A26<>"",LEFT(VLOOKUP(A26,Licenciés!A:F,2,FALSE),20),"") | C26: =IF(A26<>"",LEFT(VLOOKUP(A26,Licenciés!A:F,3,FALSE),15),"") | E26: =IF(A26<>"",LEFT(VLOOKUP(A26,Licenciés!A:F,5,FALSE),15),"") | G26: =IF(A26<>"",LEFT(VLOOKUP(A26,Licenciés!A:F,6,FALSE),15),"") | I26: =IF(A26<>"",902,"") | Q26: =IF(A26<>"",Intercomités2024!$C$4,"") | R26: =IF(A26<>"",UPPER(Intercomités2024!$H$4),"") | S26: =IF(A26<>"","U14F","") | T26: =IF(A26<>"","F","") | U26: =IF(A26<>"","BE","") | V26: =IF(A26<>"",1,"") | X26: =IF(A26<>"","BE","") | Y26: =IF(A26<>"","F","") | AF26: =IF(A26<>"","BE","") | AG26: =IF(A26<>"","F","")
A27: =IF(Intercomités2024!C44<>"",Intercomités2024!C44,"") | B27: =IF(A27<>"",LEFT(VLOOKUP(A27,Licenciés!A:F,2,FALSE),20),"") | C27: =IF(A27<>"",LEFT(VLOOKUP(A27,Licenciés!A:F,3,FALSE),15),"") | E27: =IF(A27<>"",LEFT(VLOOKUP(A27,Licenciés!A:F,5,FALSE),15),"") | G27: =IF(A27<>"",LEFT(VLOOKUP(A27,Licenciés!A:F,6,FALSE),15),"") | I27: =IF(A27<>"",902,"") | Q27: =IF(A27<>"",Intercomités2024!$C$4,"") | R27: =IF(A27<>"",UPPER(Intercomités2024!$H$4),"") | S27: =IF(A27<>"","U14F","") | T27: =IF(A27<>"","F","") | U27: =IF(A27<>"","BE","") | V27: =IF(A27<>"",2,"") | X27: =IF(A27<>"","BE","") | Y27: =IF(A27<>"","F","") | AF27: =IF(A27<>"","BE","") | AG27: =IF(A27<>"","F","")
A28: =IF(Intercomités2024!$H21<>"",Intercomités2024!$H21,"") | B28: =IF(A28<>"",LEFT(VLOOKUP(A28,Licenciés!A:F,2,FALSE),20),"") | C28: =IF(A28<>"",LEFT(VLOOKUP(A28,Licenciés!A:F,3,FALSE),15),"") | E28: =IF(A28<>"",LEFT(VLOOKUP(A28,Licenciés!A:F,5,FALSE),15),"") | G28: =IF(A28<>"",LEFT(VLOOKUP(A28,Licenciés!A:F,6,FALSE),15),"") | I28: =IF(A28<>"",104,"") | Q28: =IF(A28<>"",Intercomités2024!$C$4,"") | R28: =IF(A28<>"",UPPER(Intercomités2024!$H$4),"") | S28: =IF(A28<>"","U14M","") | T28: =IF(A28<>"","M","") | U28: =IF(A28<>"","BE","") | V28: =IF(A28<>"",1,"") | X28: =IF(A28<>"","BE","") | Y28: =IF(A28<>"","M","") | AF28: =IF(A28<>"","BE","") | AG28: =IF(A28<>"","M","")
A29: =IF(Intercomités2024!$H22<>"",Intercomités2024!$H22,"") | B29: =IF(A29<>"",LEFT(VLOOKUP(A29,Licenciés!A:F,2,FALSE),20),"") | C29: =IF(A29<>"",LEFT(VLOOKUP(A29,Licenciés!A:F,3,FALSE),15),"") | E29: =IF(A29<>"",LEFT(VLOOKUP(A29,Licenciés!A:F,5,FALSE),15),"") | G29: =IF(A29<>"",LEFT(VLOOKUP(A29,Licenciés!A:F,6,FALSE),15),"") | I29: =IF(A29<>"",104,"") | Q29: =IF(A29<>"",Intercomités2024!$C$4,"") | R29: =IF(A29<>"",UPPER(Intercomités2024!$H$4),"") | S29: =IF(A29<>"","U14M","") | T29: =IF(A29<>"","M","") | U29: =IF(A29<>"","BE","") | V29: =IF(A29<>"",2,"") | X29: =IF(A29<>"","BE","") | Y29: =IF(A29<>"","M","") | AF29: =IF(A29<>"","BE","") | AG29: =IF(A29<>"","M","")
A30: =IF(Intercomités2024!$H23<>"",Intercomités2024!$H23,"") | B30: =IF(A30<>"",LEFT(VLOOKUP(A30,Licenciés!A:F,2,FALSE),20),"") | C30: =IF(A30<>"",LEFT(VLOOKUP(A30,Licenciés!A:F,3,FALSE),15),"") | E30: =IF(A30<>"",LEFT(VLOOKUP(A30,Licenciés!A:F,5,FALSE),15),"") | G30: =IF(A30<>"",LEFT(VLOOKUP(A30,Licenciés!A:F,6,FALSE),15),"") | I30: =IF(A30<>"",210,"") | Q30: =IF(A30<>"",Intercomités2024!$C$4,"") | R30: =IF(A30<>"",UPPER(Intercomités2024!$H$4),"") | S30: =IF(A30<>"","U14M","") | T30: =IF(A30<>"","M","") | U30: =IF(A30<>"","BE","") | V30: =IF(A30<>"",1,"") | X30: =IF(A30<>"","BE","") | Y30: =IF(A30<>"","M","") | AF30: =IF(A30<>"","BE","") | AG30: =IF(A30<>"","M","")
A31: =IF(Intercomités2024!$H24<>"",Intercomités2024!$H24,"") | B31: =IF(A31<>"",LEFT(VLOOKUP(A31,Licenciés!A:F,2,FALSE),20),"") | C31: =IF(A31<>"",LEFT(VLOOKUP(A31,Licenciés!A:F,3,FALSE),15),"") | E31: =IF(A31<>"",LEFT(VLOOKUP(A31,Licenciés!A:F,5,FALSE),15),"") | G31: =IF(A31<>"",LEFT(VLOOKUP(A31,Licenciés!A:F,6,FALSE),15),"") | I31: =IF(A31<>"",210,"") | Q31: =IF(A31<>"",Intercomités2024!$C$4,"") | R31: =IF(A31<>"",UPPER(Intercomités2024!$H$4),"") | S31: =IF(A31<>"","U14M","") | T31: =IF(A31<>"","M","") | U31: =IF(A31<>"","BE","") | V31: =IF(A31<>"",2,"") | X31: =IF(A31<>"","BE","") | Y31: =IF(A31<>"","M","") | AF31: =IF(A31<>"","BE","") | AG31: =IF(A31<>"","M","")
A32: =IF(Intercomités2024!$H25<>"",Intercomités2024!$H25,"") | B32: =IF(A32<>"",LEFT(VLOOKUP(A32,Licenciés!A:F,2,FALSE),20),"") | C32: =IF(A32<>"",LEFT(VLOOKUP(A32,Licenciés!A:F,3,FALSE),15),"") | E32: =IF(A32<>"",LEFT(VLOOKUP(A32,Licenciés!A:F,5,FALSE),15),"") | G32: =IF(A32<>"",LEFT(VLOOKUP(A32,Licenciés!A:F,6,FALSE),15),"") | I32: =IF(A32<>"",321,"") | Q32: =IF(A32<>"",Intercomités2024!$C$4,"") | R32: =IF(A32<>"",UPPER(Intercomités2024!$H$4),"") | S32: =IF(A32<>"","U14M","") | T32: =IF(A32<>"","M","") | U32: =IF(A32<>"","BE","") | V32: =IF(A32<>"",1,"") | X32: =IF(A32<>"","BE","") | Y32: =IF(A32<>"","M","") | AF32: =IF(A32<>"","BE","") | AG32: =IF(A32<>"","M","")
A33: =IF(Intercomités2024!$H26<>"",Intercomités2024!$H26,"") | B33: =IF(A33<>"",LEFT(VLOOKUP(A33,Licenciés!A:F,2,FALSE),20),"") | C33: =IF(A33<>"",LEFT(VLOOKUP(A33,Licenciés!A:F,3,FALSE),15),"") | E33: =IF(A33<>"",LEFT(VLOOKUP(A33,Licenciés!A:F,5,FALSE),15),"") | G33: =IF(A33<>"",LEFT(VLOOKUP(A33,Licenciés!A:F,6,FALSE),15),"") | I33: =IF(A33<>"",321,"") | Q33: =IF(A33<>"",Intercomités2024!$C$4,"") | R33: =IF(A33<>"",UPPER(Intercomités2024!$H$4),"") | S33: =IF(A33<>"","U14M","") | T33: =IF(A33<>"","M","") | U33: =IF(A33<>"","BE","") | V33: =IF(A33<>"",2,"") | X33: =IF(A33<>"","BE","") | Y33: =IF(A33<>"","M","") | AF33: =IF(A33<>"","BE","") | AG33: =IF(A33<>"","M","")
A34: =IF(Intercomités2024!$H27<>"",Intercomités2024!$H27,"") | B34: =IF(A34<>"",LEFT(VLOOKUP(A34,Licenciés!A:F,2,FALSE),20),"") | C34: =IF(A34<>"",LEFT(VLOOKUP(A34,Licenciés!A:F,3,FALSE),15),"") | E34: =IF(A34<>"",LEFT(VLOOKUP(A34,Licenciés!A:F,5,FALSE),15),"") | G34: =IF(A34<>"",LEFT(VLOOKUP(A34,Licenciés!A:F,6,FALSE),15),"") | I34: =IF(A34<>"",501,"") | Q34: =IF(A34<>"",Intercomités2024!$C$4,"") | R34: =IF(A34<>"",UPPER(Intercomités2024!$H$4),"") | S34: =IF(A34<>"","U14M","") | T34: =IF(A34<>"","M","") | U34: =IF(A34<>"","BE","") | V34: =IF(A34<>"",1,"") | X34: =IF(A34<>"","BE","") | Y34: =IF(A34<>"","M","") | AF34: =IF(A34<>"","BE","") | AG34: =IF(A34<>"","M","")
A35: =IF(Intercomités2024!$H28<>"",Intercomités2024!$H28,"") | B35: =IF(A35<>"",LEFT(VLOOKUP(A35,Licenciés!A:F,2,FALSE),20),"") | C35: =IF(A35<>"",LEFT(VLOOKUP(A35,Licenciés!A:F,3,FALSE),15),"") | E35: =IF(A35<>"",LEFT(VLOOKUP(A35,Licenciés!A:F,5,FALSE),15),"") | G35: =IF(A35<>"",LEFT(VLOOKUP(A35,Licenciés!A:F,6,FALSE),15),"") | I35: =IF(A35<>"",501,"") | Q35: =IF(A35<>"",Intercomités2024!$C$4,"") | R35: =IF(A35<>"",UPPER(Intercomités2024!$H$4),"") | S35: =IF(A35<>"","U14M","") | T35: =IF(A35<>"","M","") | U35: =IF(A35<>"","BE","") | V35: =IF(A35<>"",2,"") | X35: =IF(A35<>"","BE","") | Y35: =IF(A35<>"","M","") | AF35: =IF(A35<>"","BE","") | AG35: =IF(A35<>"","M","")
A36: =IF(Intercomités2024!$H29<>"",Intercomités2024!$H29,"") | B36: =IF(A36<>"",LEFT(VLOOKUP(A36,Licenciés!A:F,2,FALSE),20),"") | C36: =IF(A36<>"",LEFT(VLOOKUP(A36,Licenciés!A:F,3,FALSE),15),"") | E36: =IF(A36<>"",LEFT(VLOOKUP(A36,Licenciés!A:F,5,FALSE),15),"") | G36: =IF(A36<>"",LEFT(VLOOKUP(A36,Licenciés!A:F,6,FALSE),15),"") | I36: =IF(A36<>"",502,"") | Q36: =IF(A36<>"",Intercomités2024!$C$4,"") | R36: =IF(A36<>"",UPPER(Intercomités2024!$H$4),"") | S36: =IF(A36<>"","U14M","") | T36: =IF(A36<>"","M","") | U36: =IF(A36<>"","BE","") | V36: =IF(A36<>"",1,"") | X36: =IF(A36<>"","BE","") | Y36: =IF(A36<>"","M","") | AF36: =IF(A36<>"","BE","") | AG36: =IF(A36<>"","M","")
A37: =IF(Intercomités2024!$H30<>"",Intercomités2024!$H30,"") | B37: =IF(A37<>"",LEFT(VLOOKUP(A37,Licenciés!A:F,2,FALSE),20),"") | C37: =IF(A37<>"",LEFT(VLOOKUP(A37,Licenciés!A:F,3,FALSE),15),"") | E37: =IF(A37<>"",LEFT(VLOOKUP(A37,Licenciés!A:F,5,FALSE),15),"") | G37: =IF(A37<>"",LEFT(VLOOKUP(A37,Licenciés!A:F,6,FALSE),15),"") | I37: =IF(A37<>"",502,"") | Q37: =IF(A37<>"",Intercomités2024!$C$4,"") | R37: =IF(A37<>"",UPPER(Intercomités2024!$H$4),"") | S37: =IF(A37<>"","U14M","") | T37: =IF(A37<>"","M","") | U37: =IF(A37<>"","BE","") | V37: =IF(A37<>"",2,"") | X37: =IF(A37<>"","BE","") | Y37: =IF(A37<>"","M","") | AF37: =IF(A37<>"","BE","") | AG37: =IF(A37<>"","M","")
A38: =IF(Intercomités2024!$H31<>"",Intercomités2024!$H31,"") | B38: =IF(A38<>"",LEFT(VLOOKUP(A38,Licenciés!A:F,2,FALSE),20),"") | C38: =IF(A38<>"",LEFT(VLOOKUP(A38,Licenciés!A:F,3,FALSE),15),"") | E38: =IF(A38<>"",LEFT(VLOOKUP(A38,Licenciés!A:F,5,FALSE),15),"") | G38: =IF(A38<>"",LEFT(VLOOKUP(A38,Licenciés!A:F,6,FALSE),15),"") | I38: =IF(A38<>"",503,"") | Q38: =IF(A38<>"",Intercomités2024!$C$4,"") | R38: =IF(A38<>"",UPPER(Intercomités2024!$H$4),"") | S38: =IF(A38<>"","U14M","") | T38: =IF(A38<>"","M","") | U38: =IF(A38<>"","BE","") | V38: =IF(A38<>"",1,"") | X38: =IF(A38<>"","BE","") | Y38: =IF(A38<>"","M","") | AF38: =IF(A38<>"","BE","") | AG38: =IF(A38<>"","M","")
A39: =IF(Intercomités2024!$H32<>"",Intercomités2024!$H32,"") | B39: =IF(A39<>"",LEFT(VLOOKUP(A39,Licenciés!A:F,2,FALSE),20),"") | C39: =IF(A39<>"",LEFT(VLOOKUP(A39,Licenciés!A:F,3,FALSE),15),"") | E39: =IF(A39<>"",LEFT(VLOOKUP(A39,Licenciés!A:F,5,FALSE),15),"") | G39: =IF(A39<>"",LEFT(VLOOKUP(A39,Licenciés!A:F,6,FALSE),15),"") | I39: =IF(A39<>"",503,"") | Q39: =IF(A39<>"",Intercomités2024!$C$4,"") | R39: =IF(A39<>"",UPPER(Intercomités2024!$H$4),"") | S39: =IF(A39<>"","U14M","") | T39: =IF(A39<>"","M","") | U39: =IF(A39<>"","BE","") | V39: =IF(A39<>"",2,"") | X39: =IF(A39<>"","BE","") | Y39: =IF(A39<>"","M","") | AF39: =IF(A39<>"","BE","") | AG39: =IF(A39<>"","M","")
A40: =IF(Intercomités2024!$H33<>"",Intercomités2024!$H33,"") | B40: =IF(A40<>"",LEFT(VLOOKUP(A40,Licenciés!A:F,2,FALSE),20),"") | C40: =IF(A40<>"",LEFT(VLOOKUP(A40,Licenciés!A:F,3,FALSE),15),"") | E40: =IF(A40<>"",LEFT(VLOOKUP(A40,Licenciés!A:F,5,FALSE),15),"") | G40: =IF(A40<>"",LEFT(VLOOKUP(A40,Licenciés!A:F,6,FALSE),15),"") | I40: =IF(A40<>"",504,"") | Q40: =IF(A40<>"",Intercomités2024!$C$4,"") | R40: =IF(A40<>"",UPPER(Intercomités2024!$H$4),"") | S40: =IF(A40<>"","U14M","") | T40: =IF(A40<>"","M","") | U40: =IF(A40<>"","BE","") | V40: =IF(A40<>"",1,"") | X40: =IF(A40<>"","BE","") | Y40: =IF(A40<>"","M","") | AF40: =IF(A40<>"","BE","") | AG40: =IF(A40<>"","M","")
A41: =IF(Intercomités2024!$H34<>"",Intercomités2024!$H34,"") | B41: =IF(A41<>"",LEFT(VLOOKUP(A41,Licenciés!A:F,2,FALSE),20),"") | C41: =IF(A41<>"",LEFT(VLOOKUP(A41,Licenciés!A:F,3,FALSE),15),"") | E41: =IF(A41<>"",LEFT(VLOOKUP(A41,Licenciés!A:F,5,FALSE),15),"") | G41: =IF(A41<>"",LEFT(VLOOKUP(A41,Licenciés!A:F,6,FALSE),15),"") | I41: =IF(A41<>"",504,"") | Q41: =IF(A41<>"",Intercomités2024!$C$4,"") | R41: =IF(A41<>"",UPPER(Intercomités2024!$H$4),"") | S41: =IF(A41<>"","U14M","") | T41: =IF(A41<>"","M","") | U41: =IF(A41<>"","BE","") | V41: =IF(A41<>"",2,"") | X41: =IF(A41<>"","BE","") | Y41: =IF(A41<>"","M","") | AF41: =IF(A41<>"","BE","") | AG41: =IF(A41<>"","M","")
A42: =IF(Intercomités2024!$H35<>"",Intercomités2024!$H35,"") | B42: =IF(A42<>"",LEFT(VLOOKUP(A42,Licenciés!A:F,2,FALSE),20),"") | C42: =IF(A42<>"",LEFT(VLOOKUP(A42,Licenciés!A:F,3,FALSE),15),"") | E42: =IF(A42<>"",LEFT(VLOOKUP(A42,Licenciés!A:F,5,FALSE),15),"") | G42: =IF(A42<>"",LEFT(VLOOKUP(A42,Licenciés!A:F,6,FALSE),15),"") | I42: =IF(A42<>"",603,"") | Q42: =IF(A42<>"",Intercomités2024!$C$4,"") | R42: =IF(A42<>"",UPPER(Intercomités2024!$H$4),"") | S42: =IF(A42<>"","U14M","") | T42: =IF(A42<>"","M","") | U42: =IF(A42<>"","BE","") | V42: =IF(A42<>"",1,"") | X42: =IF(A42<>"","BE","") | Y42: =IF(A42<>"","M","") | AF42: =IF(A42<>"","BE","") | AG42: =IF(A42<>"","M","")
A43: =IF(Intercomités2024!$H36<>"",Intercomités2024!$H36,"") | B43: =IF(A43<>"",LEFT(VLOOKUP(A43,Licenciés!A:F,2,FALSE),20),"") | C43: =IF(A43<>"",LEFT(VLOOKUP(A43,Licenciés!A:F,3,FALSE),15),"") | E43: =IF(A43<>"",LEFT(VLOOKUP(A43,Licenciés!A:F,5,FALSE),15),"") | G43: =IF(A43<>"",LEFT(VLOOKUP(A43,Licenciés!A:F,6,FALSE),15),"") | I43: =IF(A43<>"",603,"") | Q43: =IF(A43<>"",Intercomités2024!$C$4,"") | R43: =IF(A43<>"",UPPER(Intercomités2024!$H$4),"") | S43: =IF(A43<>"","U14M","") | T43: =IF(A43<>"","M","") | U43: =IF(A43<>"","BE","") | V43: =IF(A43<>"",2,"") | X43: =IF(A43<>"","BE","") | Y43: =IF(A43<>"","M","") | AF43: =IF(A43<>"","BE","") | AG43: =IF(A43<>"","M","")
A44: =IF(Intercomités2024!$H37<>"",Intercomités2024!$H37,"") | B44: =IF(A44<>"",LEFT(VLOOKUP(A44,Licenciés!A:F,2,FALSE),20),"") | C44: =IF(A44<>"",LEFT(VLOOKUP(A44,Licenciés!A:F,3,FALSE),15),"") | E44: =IF(A44<>"",LEFT(VLOOKUP(A44,Licenciés!A:F,5,FALSE),15),"") | G44: =IF(A44<>"",LEFT(VLOOKUP(A44,Licenciés!A:F,6,FALSE),15),"") | I44: =IF(A44<>"",610,"") | Q44: =IF(A44<>"",Intercomités2024!$C$4,"") | R44: =IF(A44<>"",UPPER(Intercomités2024!$H$4),"") | S44: =IF(A44<>"","U14M","") | T44: =IF(A44<>"","M","") | U44: =IF(A44<>"","BE","") | V44: =IF(A44<>"",1,"") | X44: =IF(A44<>"","BE","") | Y44: =IF(A44<>"","M","") | AF44: =IF(A44<>"","BE","") | AG44: =IF(A44<>"","M","")
A45: =IF(Intercomités2024!$H38<>"",Intercomités2024!$H38,"") | B45: =IF(A45<>"",LEFT(VLOOKUP(A45,Licenciés!A:F,2,FALSE),20),"") | C45: =IF(A45<>"",LEFT(VLOOKUP(A45,Licenciés!A:F,3,FALSE),15),"") | E45: =IF(A45<>"",LEFT(VLOOKUP(A45,Licenciés!A:F,5,FALSE),15),"") | G45: =IF(A45<>"",LEFT(VLOOKUP(A45,Licenciés!A:F,6,FALSE),15),"") | I45: =IF(A45<>"",610,"") | Q45: =IF(A45<>"",Intercomités2024!$C$4,"") | R45: =IF(A45<>"",UPPER(Intercomités2024!$H$4),"") | S45: =IF(A45<>"","U14M","") | T45: =IF(A45<>"","M","") | U45: =IF(A45<>"","BE","") | V45: =IF(A45<>"",2,"") | X45: =IF(A45<>"","BE","") | Y45: =IF(A45<>"","M","") | AF45: =IF(A45<>"","BE","") | AG45: =IF(A45<>"","M","")
A46: =IF(Intercomités2024!$H39<>"",Intercomités2024!$H39,"") | B46: =IF(A46<>"",LEFT(VLOOKUP(A46,Licenciés!A:F,2,FALSE),20),"") | C46: =IF(A46<>"",LEFT(VLOOKUP(A46,Licenciés!A:F,3,FALSE),15),"") | E46: =IF(A46<>"",LEFT(VLOOKUP(A46,Licenciés!A:F,5,FALSE),15),"") | G46: =IF(A46<>"",LEFT(VLOOKUP(A46,Licenciés!A:F,6,FALSE),15),"") | I46: =IF(A46<>"",633,"") | Q46: =IF(A46<>"",Intercomités2024!$C$4,"") | R46: =IF(A46<>"",UPPER(Intercomités2024!$H$4),"") | S46: =IF(A46<>"","U14M","") | T46: =IF(A46<>"","M","") | U46: =IF(A46<>"","BE","") | V46: =IF(A46<>"",1,"") | X46: =IF(A46<>"","BE","") | Y46: =IF(A46<>"","M","") | AF46: =IF(A46<>"","BE","") | AG46: =IF(A46<>"","M","")
A47: =IF(Intercomités2024!$H40<>"",Intercomités2024!$H40,"") | B47: =IF(A47<>"",LEFT(VLOOKUP(A47,Licenciés!A:F,2,FALSE),20),"") | C47: =IF(A47<>"",LEFT(VLOOKUP(A47,Licenciés!A:F,3,FALSE),15),"") | E47: =IF(A47<>"",LEFT(VLOOKUP(A47,Licenciés!A:F,5,FALSE),15),"") | G47: =IF(A47<>"",LEFT(VLOOKUP(A47,Licenciés!A:F,6,FALSE),15),"") | I47: =IF(A47<>"",633,"") | Q47: =IF(A47<>"",Intercomités2024!$C$4,"") | R47: =IF(A47<>"",UPPER(Intercomités2024!$H$4),"") | S47: =IF(A47<>"","U14M","") | T47: =IF(A47<>"","M","") | U47: =IF(A47<>"","BE","") | V47: =IF(A47<>"",2,"") | X47: =IF(A47<>"","BE","") | Y47: =IF(A47<>"","M","") | AF47: =IF(A47<>"","BE","") | AG47: =IF(A47<>"","M","")
A48: =IF(Intercomités2024!$H41<>"",Intercomités2024!$H41,"") | B48: =IF(A48<>"",LEFT(VLOOKUP(A48,Licenciés!A:F,2,FALSE),20),"") | C48: =IF(A48<>"",LEFT(VLOOKUP(A48,Licenciés!A:F,3,FALSE),15),"") | E48: =IF(A48<>"",LEFT(VLOOKUP(A48,Licenciés!A:F,5,FALSE),15),"") | G48: =IF(A48<>"",LEFT(VLOOKUP(A48,Licenciés!A:F,6,FALSE),15),"") | I48: =IF(A48<>"",650,"") | Q48: =IF(A48<>"",Intercomités2024!$C$4,"") | R48: =IF(A48<>"",UPPER(Intercomités2024!$H$4),"") | S48: =IF(A48<>"","U14M","") | T48: =IF(A48<>"","M","") | U48: =IF(A48<>"","BE","") | V48: =IF(A48<>"",1,"") | X48: =IF(A48<>"","BE","") | Y48: =IF(A48<>"","M","") | AF48: =IF(A48<>"","BE","") | AG48: =IF(A48<>"","M","")
A49: =IF(Intercomités2024!$H42<>"",Intercomités2024!$H42,"") | B49: =IF(A49<>"",LEFT(VLOOKUP(A49,Licenciés!A:F,2,FALSE),20),"") | C49: =IF(A49<>"",LEFT(VLOOKUP(A49,Licenciés!A:F,3,FALSE),15),"") | E49: =IF(A49<>"",LEFT(VLOOKUP(A49,Licenciés!A:F,5,FALSE),15),"") | G49: =IF(A49<>"",LEFT(VLOOKUP(A49,Licenciés!A:F,6,FALSE),15),"") | I49: =IF(A49<>"",650,"") | Q49: =IF(A49<>"",Intercomités2024!$C$4,"") | R49: =IF(A49<>"",UPPER(Intercomités2024!$H$4),"") | S49: =IF(A49<>"","U14M","") | T49: =IF(A49<>"","M","") | U49: =IF(A49<>"","BE","") | V49: =IF(A49<>"",2,"") | X49: =IF(A49<>"","BE","") | Y49: =IF(A49<>"","M","") | AF49: =IF(A49<>"","BE","") | AG49: =IF(A49<>"","M","")
A50: =IF(Intercomités2024!$H43<>"",Intercomités2024!$H43,"") | B50: =IF(A50<>"",LEFT(VLOOKUP(A50,Licenciés!A:F,2,FALSE),20),"") | C50: =IF(A50<>"",LEFT(VLOOKUP(A50,Licenciés!A:F,3,FALSE),15),"") | E50: =IF(A50<>"",LEFT(VLOOKUP(A50,Licenciés!A:F,5,FALSE),15),"") | G50: =IF(A50<>"",LEFT(VLOOKUP(A50,Licenciés!A:F,6,FALSE),15),"") | I50: =IF(A50<>"",902,"") | Q50: =IF(A50<>"",Intercomités2024!$C$4,"") | R50: =IF(A50<>"",UPPER(Intercomités2024!$H$4),"") | S50: =IF(A50<>"","U14M","") | T50: =IF(A50<>"","M","") | U50: =IF(A50<>"","BE","") | V50: =IF(A50<>"",1,"") | X50: =IF(A50<>"","BE","") | Y50: =IF(A50<>"","M","") | AF50: =IF(A50<>"","BE","") | AG50: =IF(A50<>"","M","")
A51: =IF(Intercomités2024!$H44<>"",Intercomités2024!$H44,"") | B51: =IF(A51<>"",LEFT(VLOOKUP(A51,Licenciés!A:F,2,FALSE),20),"") | C51: =IF(A51<>"",LEFT(VLOOKUP(A51,Licenciés!A:F,3,FALSE),15),"") | E51: =IF(A51<>"",LEFT(VLOOKUP(A51,Licenciés!A:F,5,FALSE),15),"") | G51: =IF(A51<>"",LEFT(VLOOKUP(A51,Licenciés!A:F,6,FALSE),15),"") | I51: =IF(A51<>"",902,"") | Q51: =IF(A51<>"",Intercomités2024!$C$4,"") | R51: =IF(A51<>"",UPPER(Intercomités2024!$H$4),"") | S51: =IF(A51<>"","U14M","") | T51: =IF(A51<>"","M","") | U51: =IF(A51<>"","BE","") | V51: =IF(A51<>"",2,"") | X51: =IF(A51<>"","BE","") | Y51: =IF(A51<>"","M","") | AF51: =IF(A51<>"","BE","") | AG51: =IF(A51<>"","M","")
A52: =IF(Intercomités2024!C54<>"",Intercomités2024!C54,"") | B52: =IF(A52<>"",LEFT(VLOOKUP(A52,Licenciés!A:F,2,FALSE),20),"") | C52: =IF(A52<>"",LEFT(VLOOKUP(A52,Licenciés!A:F,3,FALSE),15),"") | E52: =IF(A52<>"",LEFT(VLOOKUP(A52,Licenciés!A:F,5,FALSE),15),"") | G52: =IF(A52<>"",LEFT(VLOOKUP(A52,Licenciés!A:F,6,FALSE),15),"") | I52: =IF(A52<>"",108,"") | Q52: =IF(A52<>"",Intercomités2024!$C$4,"") | R52: =IF(A52<>"",UPPER(Intercomités2024!$H$4),"") | S52: =IF(A52<>"","U16F","") | T52: =IF(A52<>"","F","") | U52: =IF(A52<>"","MI","") | V52: =IF(A52<>"",1,"") | X52: =IF(A52<>"","MI","") | Y52: =IF(A52<>"","F","") | AF52: =IF(A52<>"","MI","") | AG52: =IF(A52<>"","F","")
A53: =IF(Intercomités2024!C55<>"",Intercomités2024!C55,"") | B53: =IF(A53<>"",LEFT(VLOOKUP(A53,Licenciés!A:F,2,FALSE),20),"") | C53: =IF(A53<>"",LEFT(VLOOKUP(A53,Licenciés!A:F,3,FALSE),15),"") | E53: =IF(A53<>"",LEFT(VLOOKUP(A53,Licenciés!A:F,5,FALSE),15),"") | G53: =IF(A53<>"",LEFT(VLOOKUP(A53,Licenciés!A:F,6,FALSE),15),"") | I53: =IF(A53<>"",108,"") | Q53: =IF(A53<>"",Intercomités2024!$C$4,"") | R53: =IF(A53<>"",UPPER(Intercomités2024!$H$4),"") | S53: =IF(A53<>"","U16F","") | T53: =IF(A53<>"","F","") | U53: =IF(A53<>"","MI","") | V53: =IF(A53<>"",2,"") | X53: =IF(A53<>"","MI","") | Y53: =IF(A53<>"","F","") | AF53: =IF(A53<>"","MI","") | AG53: =IF(A53<>"","F","")
A54: =IF(Intercomités2024!C56<>"",Intercomités2024!C56,"") | B54: =IF(A54<>"",LEFT(VLOOKUP(A54,Licenciés!A:F,2,FALSE),20),"") | C54: =IF(A54<>"",LEFT(VLOOKUP(A54,Licenciés!A:F,3,FALSE),15),"") | E54: =IF(A54<>"",LEFT(VLOOKUP(A54,Licenciés!A:F,5,FALSE),15),"") | G54: =IF(A54<>"",LEFT(VLOOKUP(A54,Licenciés!A:F,6,FALSE),15),"") | I54: =IF(A54<>"",112,"") | Q54: =IF(A54<>"",Intercomités2024!$C$4,"") | R54: =IF(A54<>"",UPPER(Intercomités2024!$H$4),"") | S54: =IF(A54<>"","U16F","") | T54: =IF(A54<>"","F","") | U54: =IF(A54<>"","MI","") | V54: =IF(A54<>"",1,"") | X54: =IF(A54<>"","MI","") | Y54: =IF(A54<>"","F","") | AF54: =IF(A54<>"","MI","") | AG54: =IF(A54<>"","F","")
A55: =IF(Intercomités2024!C57<>"",Intercomités2024!C57,"") | B55: =IF(A55<>"",LEFT(VLOOKUP(A55,Licenciés!A:F,2,FALSE),20),"") | C55: =IF(A55<>"",LEFT(VLOOKUP(A55,Licenciés!A:F,3,FALSE),15),"") | E55: =IF(A55<>"",LEFT(VLOOKUP(A55,Licenciés!A:F,5,FALSE),15),"") | G55: =IF(A55<>"",LEFT(VLOOKUP(A55,Licenciés!A:F,6,FALSE),15),"") | I55: =IF(A55<>"",112,"") | Q55: =IF(A55<>"",Intercomités2024!$C$4,"") | R55: =IF(A55<>"",UPPER(Intercomités2024!$H$4),"") | S55: =IF(A55<>"","U16F","") | T55: =IF(A55<>"","F","") | U55: =IF(A55<>"","MI","") | V55: =IF(A55<>"",2,"") | X55: =IF(A55<>"","MI","") | Y55: =IF(A55<>"","F","") | AF55: =IF(A55<>"","MI","") | AG55: =IF(A55<>"","F","")
A56: =IF(Intercomités2024!C58<>"",Intercomités2024!C58,"") | B56: =IF(A56<>"",LEFT(VLOOKUP(A56,Licenciés!A:F,2,FALSE),20),"") | C56: =IF(A56<>"",LEFT(VLOOKUP(A56,Licenciés!A:F,3,FALSE),15),"") | E56: =IF(A56<>"",LEFT(VLOOKUP(A56,Licenciés!A:F,5,FALSE),15),"") | G56: =IF(A56<>"",LEFT(VLOOKUP(A56,Licenciés!A:F,6,FALSE),15),"") | I56: =IF(A56<>"",210,"") | Q56: =IF(A56<>"",Intercomités2024!$C$4,"") | R56: =IF(A56<>"",UPPER(Intercomités2024!$H$4),"") | S56: =IF(A56<>"","U16F","") | T56: =IF(A56<>"","F","") | U56: =IF(A56<>"","MI","") | V56: =IF(A56<>"",1,"") | X56: =IF(A56<>"","MI","") | Y56: =IF(A56<>"","F","") | AF56: =IF(A56<>"","MI","") | AG56: =IF(A56<>"","F","")
A57: =IF(Intercomités2024!C59<>"",Intercomités2024!C59,"") | B57: =IF(A57<>"",LEFT(VLOOKUP(A57,Licenciés!A:F,2,FALSE),20),"") | C57: =IF(A57<>"",LEFT(VLOOKUP(A57,Licenciés!A:F,3,FALSE),15),"") | E57: =IF(A57<>"",LEFT(VLOOKUP(A57,Licenciés!A:F,5,FALSE),15),"") | G57: =IF(A57<>"",LEFT(VLOOKUP(A57,Licenciés!A:F,6,FALSE),15),"") | I57: =IF(A57<>"",210,"") | Q57: =IF(A57<>"",Intercomités2024!$C$4,"") | R57: =IF(A57<>"",UPPER(Intercomités2024!$H$4),"") | S57: =IF(A57<>"","U16F","") | T57: =IF(A57<>"","F","") | U57: =IF(A57<>"","MI","") | V57: =IF(A57<>"",2,"") | X57: =IF(A57<>"","MI","") | Y57: =IF(A57<>"","F","") | AF57: =IF(A57<>"","MI","") | AG57: =IF(A57<>"","F","")
A58: =IF(Intercomités2024!C60<>"",Intercomités2024!C60,"") | B58: =IF(A58<>"",LEFT(VLOOKUP(A58,Licenciés!A:F,2,FALSE),20),"") | C58: =IF(A58<>"",LEFT(VLOOKUP(A58,Licenciés!A:F,3,FALSE),15),"") | E58: =IF(A58<>"",LEFT(VLOOKUP(A58,Licenciés!A:F,5,FALSE),15),"") | G58: =IF(A58<>"",LEFT(VLOOKUP(A58,Licenciés!A:F,6,FALSE),15),"") | I58: =IF(A58<>"",220,"") | Q58: =IF(A58<>"",Intercomités2024!$C$4,"") | R58: =IF(A58<>"",UPPER(Intercomités2024!$H$4),"") | S58: =IF(A58<>"","U16F","") | T58: =IF(A58<>"","F","") | U58: =IF(A58<>"","MI","") | V58: =IF(A58<>"",1,"") | X58: =IF(A58<>"","MI","") | Y58: =IF(A58<>"","F","") | AF58: =IF(A58<>"","MI","") | AG58: =IF(A58<>"","F","")
A59: =IF(Intercomités2024!C61<>"",Intercomités2024!C61,"") | B59: =IF(A59<>"",LEFT(VLOOKUP(A59,Licenciés!A:F,2,FALSE),20),"") | C59: =IF(A59<>"",LEFT(VLOOKUP(A59,Licenciés!A:F,3,FALSE),15),"") | E59: =IF(A59<>"",LEFT(VLOOKUP(A59,Licenciés!A:F,5,FALSE),15),"") | G59: =IF(A59<>"",LEFT(VLOOKUP(A59,Licenciés!A:F,6,FALSE),15),"") | I59: =IF(A59<>"",220,"") | Q59: =IF(A59<>"",Intercomités2024!$C$4,"") | R59: =IF(A59<>"",UPPER(Intercomités2024!$H$4),"") | S59: =IF(A59<>"","U16F","") | T59: =IF(A59<>"","F","") | U59: =IF(A59<>"","MI","") | V59: =IF(A59<>"",2,"") | X59: =IF(A59<>"","MI","") | Y59: =IF(A59<>"","F","") | AF59: =IF(A59<>"","MI","") | AG59: =IF(A59<>"","F","")
A60: =IF(Intercomités2024!C62<>"",Intercomités2024!C62,"") | B60: =IF(A60<>"",LEFT(VLOOKUP(A60,Licenciés!A:F,2,FALSE),20),"") | C60: =IF(A60<>"",LEFT(VLOOKUP(A60,Licenciés!A:F,3,FALSE),15),"") | E60: =IF(A60<>"",LEFT(VLOOKUP(A60,Licenciés!A:F,5,FALSE),15),"") | G60: =IF(A60<>"",LEFT(VLOOKUP(A60,Licenciés!A:F,6,FALSE),15),"") | I60: =IF(A60<>"",308,"") | Q60: =IF(A60<>"",Intercomités2024!$C$4,"") | R60: =IF(A60<>"",UPPER(Intercomités2024!$H$4),"") | S60: =IF(A60<>"","U16F","") | T60: =IF(A60<>"","F","") | U60: =IF(A60<>"","MI","") | V60: =IF(A60<>"",1,"") | X60: =IF(A60<>"","MI","") | Y60: =IF(A60<>"","F","") | AF60: =IF(A60<>"","MI","") | AG60: =IF(A60<>"","F","")
A61: =IF(Intercomités2024!C63<>"",Intercomités2024!C63,"") | B61: =IF(A61<>"",LEFT(VLOOKUP(A61,Licenciés!A:F,2,FALSE),20),"") | C61: =IF(A61<>"",LEFT(VLOOKUP(A61,Licenciés!A:F,3,FALSE),15),"") | E61: =IF(A61<>"",LEFT(VLOOKUP(A61,Licenciés!A:F,5,FALSE),15),"") | G61: =IF(A61<>"",LEFT(VLOOKUP(A61,Licenciés!A:F,6,FALSE),15),"") | I61: =IF(A61<>"",308,"") | Q61: =IF(A61<>"",Intercomités2024!$C$4,"") | R61: =IF(A61<>"",UPPER(Intercomités2024!$H$4),"") | S61: =IF(A61<>"","U16F","") | T61: =IF(A61<>"","F","") | U61: =IF(A61<>"","MI","") | V61: =IF(A61<>"",2,"") | X61: =IF(A61<>"","MI","") | Y61: =IF(A61<>"","F","") | AF61: =IF(A61<>"","MI","") | AG61: =IF(A61<>"","F","")
A62: =IF(Intercomités2024!C64<>"",Intercomités2024!C64,"") | B62: =IF(A62<>"",LEFT(VLOOKUP(A62,Licenciés!A:F,2,FALSE),20),"") | C62: =IF(A62<>"",LEFT(VLOOKUP(A62,Licenciés!A:F,3,FALSE),15),"") | E62: =IF(A62<>"",LEFT(VLOOKUP(A62,Licenciés!A:F,5,FALSE),15),"") | G62: =IF(A62<>"",LEFT(VLOOKUP(A62,Licenciés!A:F,6,FALSE),15),"") | I62: =IF(A62<>"",326,"") | Q62: =IF(A62<>"",Intercomités2024!$C$4,"") | R62: =IF(A62<>"",UPPER(Intercomités2024!$H$4),"") | S62: =IF(A62<>"","U16F","") | T62: =IF(A62<>"","F","") | U62: =IF(A62<>"","MI","") | V62: =IF(A62<>"",1,"") | X62: =IF(A62<>"","MI","") | Y62: =IF(A62<>"","F","") | AF62: =IF(A62<>"","MI","") | AG62: =IF(A62<>"","F","")
A63: =IF(Intercomités2024!C65<>"",Intercomités2024!C65,"") | B63: =IF(A63<>"",LEFT(VLOOKUP(A63,Licenciés!A:F,2,FALSE),20),"") | C63: =IF(A63<>"",LEFT(VLOOKUP(A63,Licenciés!A:F,3,FALSE),15),"") | E63: =IF(A63<>"",LEFT(VLOOKUP(A63,Licenciés!A:F,5,FALSE),15),"") | G63: =IF(A63<>"",LEFT(VLOOKUP(A63,Licenciés!A:F,6,FALSE),15),"") | I63: =IF(A63<>"",326,"") | Q63: =IF(A63<>"",Intercomités2024!$C$4,"") | R63: =IF(A63<>"",UPPER(Intercomités2024!$H$4),"") | S63: =IF(A63<>"","U16F","") | T63: =IF(A63<>"","F","") | U63: =IF(A63<>"","MI","") | V63: =IF(A63<>"",2,"") | X63: =IF(A63<>"","MI","") | Y63: =IF(A63<>"","F","") | AF63: =IF(A63<>"","MI","") | AG63: =IF(A63<>"","F","")
A64: =IF(Intercomités2024!C66<>"",Intercomités2024!C66,"") | B64: =IF(A64<>"",LEFT(VLOOKUP(A64,Licenciés!A:F,2,FALSE),20),"") | C64: =IF(A64<>"",LEFT(VLOOKUP(A64,Licenciés!A:F,3,FALSE),15),"") | E64: =IF(A64<>"",LEFT(VLOOKUP(A64,Licenciés!A:F,5,FALSE),15),"") | G64: =IF(A64<>"",LEFT(VLOOKUP(A64,Licenciés!A:F,6,FALSE),15),"") | I64: =IF(A64<>"",501,"") | Q64: =IF(A64<>"",Intercomités2024!$C$4,"") | R64: =IF(A64<>"",UPPER(Intercomités2024!$H$4),"") | S64: =IF(A64<>"","U16F","") | T64: =IF(A64<>"","F","") | U64: =IF(A64<>"","MI","") | V64: =IF(A64<>"",1,"") | X64: =IF(A64<>"","MI","") | Y64: =IF(A64<>"","F","") | AF64: =IF(A64<>"","MI","") | AG64: =IF(A64<>"","F","")
A65: =IF(Intercomités2024!C67<>"",Intercomités2024!C67,"") | B65: =IF(A65<>"",LEFT(VLOOKUP(A65,Licenciés!A:F,2,FALSE),20),"") | C65: =IF(A65<>"",LEFT(VLOOKUP(A65,Licenciés!A:F,3,FALSE),15),"") | E65: =IF(A65<>"",LEFT(VLOOKUP(A65,Licenciés!A:F,5,FALSE),15),"") | G65: =IF(A65<>"",LEFT(VLOOKUP(A65,Licenciés!A:F,6,FALSE),15),"") | I65: =IF(A65<>"",501,"") | Q65: =IF(A65<>"",Intercomités2024!$C$4,"") | R65: =IF(A65<>"",UPPER(Intercomités2024!$H$4),"") | S65: =IF(A65<>"","U16F","") | T65: =IF(A65<>"","F","") | U65: =IF(A65<>"","MI","") | V65: =IF(A65<>"",2,"") | X65: =IF(A65<>"","MI","") | Y65: =IF(A65<>"","F","") | AF65: =IF(A65<>"","MI","") | AG65: =IF(A65<>"","F","")
A66: =IF(Intercomités2024!C68<>"",Intercomités2024!C68,"") | B66: =IF(A66<>"",LEFT(VLOOKUP(A66,Licenciés!A:F,2,FALSE),20),"") | C66: =IF(A66<>"",LEFT(VLOOKUP(A66,Licenciés!A:F,3,FALSE),15),"") | E66: =IF(A66<>"",LEFT(VLOOKUP(A66,Licenciés!A:F,5,FALSE),15),"") | G66: =IF(A66<>"",LEFT(VLOOKUP(A66,Licenciés!A:F,6,FALSE),15),"") | I66: =IF(A66<>"",502,"") | Q66: =IF(A66<>"",Intercomités2024!$C$4,"") | R66: =IF(A66<>"",UPPER(Intercomités2024!$H$4),"") | S66: =IF(A66<>"","U16F","") | T66: =IF(A66<>"","F","") | U66: =IF(A66<>"","MI","") | V66: =IF(A66<>"",1,"") | X66: =IF(A66<>"","MI","") | Y66: =IF(A66<>"","F","") | AF66: =IF(A66<>"","MI","") | AG66: =IF(A66<>"","F","")
A67: =IF(Intercomités2024!C69<>"",Intercomités2024!C69,"") | B67: =IF(A67<>"",LEFT(VLOOKUP(A67,Licenciés!A:F,2,FALSE),20),"") | C67: =IF(A67<>"",LEFT(VLOOKUP(A67,Licenciés!A:F,3,FALSE),15),"") | E67: =IF(A67<>"",LEFT(VLOOKUP(A67,Licenciés!A:F,5,FALSE),15),"") | G67: =IF(A67<>"",LEFT(VLOOKUP(A67,Licenciés!A:F,6,FALSE),15),"") | I67: =IF(A67<>"",502,"") | Q67: =IF(A67<>"",Intercomités2024!$C$4,"") | R67: =IF(A67<>"",UPPER(Intercomités2024!$H$4),"") | S67: =IF(A67<>"","U16F","") | T67: =IF(A67<>"","F","") | U67: =IF(A67<>"","MI","") | V67: =IF(A67<>"",2,"") | X67: =IF(A67<>"","MI","") | Y67: =IF(A67<>"","F","") | AF67: =IF(A67<>"","MI","") | AG67: =IF(A67<>"","F","")
A68: =IF(Intercomités2024!C70<>"",Intercomités2024!C70,"") | B68: =IF(A68<>"",LEFT(VLOOKUP(A68,Licenciés!A:F,2,FALSE),20),"") | C68: =IF(A68<>"",LEFT(VLOOKUP(A68,Licenciés!A:F,3,FALSE),15),"") | E68: =IF(A68<>"",LEFT(VLOOKUP(A68,Licenciés!A:F,5,FALSE),15),"") | G68: =IF(A68<>"",LEFT(VLOOKUP(A68,Licenciés!A:F,6,FALSE),15),"") | I68: =IF(A68<>"",503,"") | Q68: =IF(A68<>"",Intercomités2024!$C$4,"") | R68: =IF(A68<>"",UPPER(Intercomités2024!$H$4),"") | S68: =IF(A68<>"","U16F","") | T68: =IF(A68<>"","F","") | U68: =IF(A68<>"","MI","") | V68: =IF(A68<>"",1,"") | X68: =IF(A68<>"","MI","") | Y68: =IF(A68<>"","F","") | AF68: =IF(A68<>"","MI","") | AG68: =IF(A68<>"","F","")
A69: =IF(Intercomités2024!C71<>"",Intercomités2024!C71,"") | B69: =IF(A69<>"",LEFT(VLOOKUP(A69,Licenciés!A:F,2,FALSE),20),"") | C69: =IF(A69<>"",LEFT(VLOOKUP(A69,Licenciés!A:F,3,FALSE),15),"") | E69: =IF(A69<>"",LEFT(VLOOKUP(A69,Licenciés!A:F,5,FALSE),15),"") | G69: =IF(A69<>"",LEFT(VLOOKUP(A69,Licenciés!A:F,6,FALSE),15),"") | I69: =IF(A69<>"",503,"") | Q69: =IF(A69<>"",Intercomités2024!$C$4,"") | R69: =IF(A69<>"",UPPER(Intercomités2024!$H$4),"") | S69: =IF(A69<>"","U16F","") | T69: =IF(A69<>"","F","") | U69: =IF(A69<>"","MI","") | V69: =IF(A69<>"",2,"") | X69: =IF(A69<>"","MI","") | Y69: =IF(A69<>"","F","") | AF69: =IF(A69<>"","MI","") | AG69: =IF(A69<>"","F","")
A70: =IF(Intercomités2024!C72<>"",Intercomités2024!C72,"") | B70: =IF(A70<>"",LEFT(VLOOKUP(A70,Licenciés!A:F,2,FALSE),20),"") | C70: =IF(A70<>"",LEFT(VLOOKUP(A70,Licenciés!A:F,3,FALSE),15),"") | E70: =IF(A70<>"",LEFT(VLOOKUP(A70,Licenciés!A:F,5,FALSE),15),"") | G70: =IF(A70<>"",LEFT(VLOOKUP(A70,Licenciés!A:F,6,FALSE),15),"") | I70: =IF(A70<>"",504,"") | Q70: =IF(A70<>"",Intercomités2024!$C$4,"") | R70: =IF(A70<>"",UPPER(Intercomités2024!$H$4),"") | S70: =IF(A70<>"","U16F","") | T70: =IF(A70<>"","F","") | U70: =IF(A70<>"","MI","") | V70: =IF(A70<>"",1,"") | X70: =IF(A70<>"","MI","") | Y70: =IF(A70<>"","F","") | AF70: =IF(A70<>"","MI","") | AG70: =IF(A70<>"","F","")
A71: =IF(Intercomités2024!C73<>"",Intercomités2024!C73,"") | B71: =IF(A71<>"",LEFT(VLOOKUP(A71,Licenciés!A:F,2,FALSE),20),"") | C71: =IF(A71<>"",LEFT(VLOOKUP(A71,Licenciés!A:F,3,FALSE),15),"") | E71: =IF(A71<>"",LEFT(VLOOKUP(A71,Licenciés!A:F,5,FALSE),15),"") | G71: =IF(A71<>"",LEFT(VLOOKUP(A71,Licenciés!A:F,6,FALSE),15),"") | I71: =IF(A71<>"",504,"") | Q71: =IF(A71<>"",Intercomités2024!$C$4,"") | R71: =IF(A71<>"",UPPER(Intercomités2024!$H$4),"") | S71: =IF(A71<>"","U16F","") | T71: =IF(A71<>"","F","") | U71: =IF(A71<>"","MI","") | V71: =IF(A71<>"",2,"") | X71: =IF(A71<>"","MI","") | Y71: =IF(A71<>"","F","") | AF71: =IF(A71<>"","MI","") | AG71: =IF(A71<>"","F","")
A72: =IF(Intercomités2024!C74<>"",Intercomités2024!C74,"") | B72: =IF(A72<>"",LEFT(VLOOKUP(A72,Licenciés!A:F,2,FALSE),20),"") | C72: =IF(A72<>"",LEFT(VLOOKUP(A72,Licenciés!A:F,3,FALSE),15),"") | E72: =IF(A72<>"",LEFT(VLOOKUP(A72,Licenciés!A:F,5,FALSE),15),"") | G72: =IF(A72<>"",LEFT(VLOOKUP(A72,Licenciés!A:F,6,FALSE),15),"") | I72: =IF(A72<>"",603,"") | Q72: =IF(A72<>"",Intercomités2024!$C$4,"") | R72: =IF(A72<>"",UPPER(Intercomités2024!$H$4),"") | S72: =IF(A72<>"","U16F","") | T72: =IF(A72<>"","F","") | U72: =IF(A72<>"","MI","") | V72: =IF(A72<>"",1,"") | X72: =IF(A72<>"","MI","") | Y72: =IF(A72<>"","F","") | AF72: =IF(A72<>"","MI","") | AG72: =IF(A72<>"","F","")
A73: =IF(Intercomités2024!C75<>"",Intercomités2024!C75,"") | B73: =IF(A73<>"",LEFT(VLOOKUP(A73,Licenciés!A:F,2,FALSE),20),"") | C73: =IF(A73<>"",LEFT(VLOOKUP(A73,Licenciés!A:F,3,FALSE),15),"") | E73: =IF(A73<>"",LEFT(VLOOKUP(A73,Licenciés!A:F,5,FALSE),15),"") | G73: =IF(A73<>"",LEFT(VLOOKUP(A73,Licenciés!A:F,6,FALSE),15),"") | I73: =IF(A73<>"",603,"") | Q73: =IF(A73<>"",Intercomités2024!$C$4,"") | R73: =IF(A73<>"",UPPER(Intercomités2024!$H$4),"") | S73: =IF(A73<>"","U16F","") | T73: =IF(A73<>"","F","") | U73: =IF(A73<>"","MI","") | V73: =IF(A73<>"",2,"") | X73: =IF(A73<>"","MI","") | Y73: =IF(A73<>"","F","") | AF73: =IF(A73<>"","MI","") | AG73: =IF(A73<>"","F","")
A74: =IF(Intercomités2024!C76<>"",Intercomités2024!C76,"") | B74: =IF(A74<>"",LEFT(VLOOKUP(A74,Licenciés!A:F,2,FALSE),20),"") | C74: =IF(A74<>"",LEFT(VLOOKUP(A74,Licenciés!A:F,3,FALSE),15),"") | E74: =IF(A74<>"",LEFT(VLOOKUP(A74,Licenciés!A:F,5,FALSE),15),"") | G74: =IF(A74<>"",LEFT(VLOOKUP(A74,Licenciés!A:F,6,FALSE),15),"") | I74: =IF(A74<>"",608,"") | Q74: =IF(A74<>"",Intercomités2024!$C$4,"") | R74: =IF(A74<>"",UPPER(Intercomités2024!$H$4),"") | S74: =IF(A74<>"","U16F","") | T74: =IF(A74<>"","F","") | U74: =IF(A74<>"","MI","") | V74: =IF(A74<>"",1,"") | X74: =IF(A74<>"","MI","") | Y74: =IF(A74<>"","F","") | AF74: =IF(A74<>"","MI","") | AG74: =IF(A74<>"","F","")
A75: =IF(Intercomités2024!C77<>"",Intercomités2024!C77,"") | B75: =IF(A75<>"",LEFT(VLOOKUP(A75,Licenciés!A:F,2,FALSE),20),"") | C75: =IF(A75<>"",LEFT(VLOOKUP(A75,Licenciés!A:F,3,FALSE),15),"") | E75: =IF(A75<>"",LEFT(VLOOKUP(A75,Licenciés!A:F,5,FALSE),15),"") | G75: =IF(A75<>"",LEFT(VLOOKUP(A75,Licenciés!A:F,6,FALSE),15),"") | I75: =IF(A75<>"",608,"") | Q75: =IF(A75<>"",Intercomités2024!$C$4,"") | R75: =IF(A75<>"",UPPER(Intercomités2024!$H$4),"") | S75: =IF(A75<>"","U16F","") | T75: =IF(A75<>"","F","") | U75: =IF(A75<>"","MI","") | V75: =IF(A75<>"",2,"") | X75: =IF(A75<>"","MI","") | Y75: =IF(A75<>"","F","") | AF75: =IF(A75<>"","MI","") | AG75: =IF(A75<>"","F","")
A76: =IF(Intercomités2024!C78<>"",Intercomités2024!C78,"") | B76: =IF(A76<>"",LEFT(VLOOKUP(A76,Licenciés!A:F,2,FALSE),20),"") | C76: =IF(A76<>"",LEFT(VLOOKUP(A76,Licenciés!A:F,3,FALSE),15),"") | E76: =IF(A76<>"",LEFT(VLOOKUP(A76,Licenciés!A:F,5,FALSE),15),"") | G76: =IF(A76<>"",LEFT(VLOOKUP(A76,Licenciés!A:F,6,FALSE),15),"") | I76: =IF(A76<>"",633,"") | Q76: =IF(A76<>"",Intercomités2024!$C$4,"") | R76: =IF(A76<>"",UPPER(Intercomités2024!$H$4),"") | S76: =IF(A76<>"","U16F","") | T76: =IF(A76<>"","F","") | U76: =IF(A76<>"","MI","") | V76: =IF(A76<>"",1,"") | X76: =IF(A76<>"","MI","") | Y76: =IF(A76<>"","F","") | AF76: =IF(A76<>"","MI","") | AG76: =IF(A76<>"","F","")
A77: =IF(Intercomités2024!C79<>"",Intercomités2024!C79,"") | B77: =IF(A77<>"",LEFT(VLOOKUP(A77,Licenciés!A:F,2,FALSE),20),"") | C77: =IF(A77<>"",LEFT(VLOOKUP(A77,Licenciés!A:F,3,FALSE),15),"") | E77: =IF(A77<>"",LEFT(VLOOKUP(A77,Licenciés!A:F,5,FALSE),15),"") | G77: =IF(A77<>"",LEFT(VLOOKUP(A77,Licenciés!A:F,6,FALSE),15),"") | I77: =IF(A77<>"",633,"") | Q77: =IF(A77<>"",Intercomités2024!$C$4,"") | R77: =IF(A77<>"",UPPER(Intercomités2024!$H$4),"") | S77: =IF(A77<>"","U16F","") | T77: =IF(A77<>"","F","") | U77: =IF(A77<>"","MI","") | V77: =IF(A77<>"",2,"") | X77: =IF(A77<>"","MI","") | Y77: =IF(A77<>"","F","") | AF77: =IF(A77<>"","MI","") | AG77: =IF(A77<>"","F","")
A78: =IF(Intercomités2024!C80<>"",Intercomités2024!C80,"") | B78: =IF(A78<>"",LEFT(VLOOKUP(A78,Licenciés!A:F,2,FALSE),20),"") | C78: =IF(A78<>"",LEFT(VLOOKUP(A78,Licenciés!A:F,3,FALSE),15),"") | E78: =IF(A78<>"",LEFT(VLOOKUP(A78,Licenciés!A:F,5,FALSE),15),"") | G78: =IF(A78<>"",LEFT(VLOOKUP(A78,Licenciés!A:F,6,FALSE),15),"") | I78: =IF(A78<>"",650,"") | Q78: =IF(A78<>"",Intercomités2024!$C$4,"") | R78: =IF(A78<>"",UPPER(Intercomités2024!$H$4),"") | S78: =IF(A78<>"","U16F","") | T78: =IF(A78<>"","F","") | U78: =IF(A78<>"","MI","") | V78: =IF(A78<>"",1,"") | X78: =IF(A78<>"","MI","") | Y78: =IF(A78<>"","F","") | AF78: =IF(A78<>"","MI","") | AG78: =IF(A78<>"","F","")
A79: =IF(Intercomités2024!C81<>"",Intercomités2024!C81,"") | B79: =IF(A79<>"",LEFT(VLOOKUP(A79,Licenciés!A:F,2,FALSE),20),"") | C79: =IF(A79<>"",LEFT(VLOOKUP(A79,Licenciés!A:F,3,FALSE),15),"") | E79: =IF(A79<>"",LEFT(VLOOKUP(A79,Licenciés!A:F,5,FALSE),15),"") | G79: =IF(A79<>"",LEFT(VLOOKUP(A79,Licenciés!A:F,6,FALSE),15),"") | I79: =IF(A79<>"",650,"") | Q79: =IF(A79<>"",Intercomités2024!$C$4,"") | R79: =IF(A79<>"",UPPER(Intercomités2024!$H$4),"") | S79: =IF(A79<>"","U16F","") | T79: =IF(A79<>"","F","") | U79: =IF(A79<>"","MI","") | V79: =IF(A79<>"",2,"") | X79: =IF(A79<>"","MI","") | Y79: =IF(A79<>"","F","") | AF79: =IF(A79<>"","MI","") | AG79: =IF(A79<>"","F","")
A80: =IF(Intercomités2024!C82<>"",Intercomités2024!C82,"") | B80: =IF(A80<>"",LEFT(VLOOKUP(A80,Licenciés!A:F,2,FALSE),20),"") | C80: =IF(A80<>"",LEFT(VLOOKUP(A80,Licenciés!A:F,3,FALSE),15),"") | E80: =IF(A80<>"",LEFT(VLOOKUP(A80,Licenciés!A:F,5,FALSE),15),"") | G80: =IF(A80<>"",LEFT(VLOOKUP(A80,Licenciés!A:F,6,FALSE),15),"") | I80: =IF(A80<>"",903,"") | Q80: =IF(A80<>"",Intercomités2024!$C$4,"") | R80: =IF(A80<>"",UPPER(Intercomités2024!$H$4),"") | S80: =IF(A80<>"","U16F","") | T80: =IF(A80<>"","F","") | U80: =IF(A80<>"","MI","") | V80: =IF(A80<>"",1,"") | X80: =IF(A80<>"","MI","") | Y80: =IF(A80<>"","F","") | AF80: =IF(A80<>"","MI","") | AG80: =IF(A80<>"","F","")
A81: =IF(Intercomités2024!C83<>"",Intercomités2024!C83,"") | B81: =IF(A81<>"",LEFT(VLOOKUP(A81,Licenciés!A:F,2,FALSE),20),"") | C81: =IF(A81<>"",LEFT(VLOOKUP(A81,Licenciés!A:F,3,FALSE),15),"") | E81: =IF(A81<>"",LEFT(VLOOKUP(A81,Licenciés!A:F,5,FALSE),15),"") | G81: =IF(A81<>"",LEFT(VLOOKUP(A81,Licenciés!A:F,6,FALSE),15),"") | I81: =IF(A81<>"",903,"") | Q81: =IF(A81<>"",Intercomités2024!$C$4,"") | R81: =IF(A81<>"",UPPER(Intercomités2024!$H$4),"") | S81: =IF(A81<>"","U16F","") | T81: =IF(A81<>"","F","") | U81: =IF(A81<>"","MI","") | V81: =IF(A81<>"",2,"") | X81: =IF(A81<>"","MI","") | Y81: =IF(A81<>"","F","") | AF81: =IF(A81<>"","MI","") | AG81: =IF(A81<>"","F","")
A82: =IF(Intercomités2024!H54<>"",Intercomités2024!H54,"") | B82: =IF(A82<>"",LEFT(VLOOKUP(A82,Licenciés!A:F,2,FALSE),20),"") | C82: =IF(A82<>"",LEFT(VLOOKUP(A82,Licenciés!A:F,3,FALSE),15),"") | E82: =IF(A82<>"",LEFT(VLOOKUP(A82,Licenciés!A:F,5,FALSE),15),"") | G82: =IF(A82<>"",LEFT(VLOOKUP(A82,Licenciés!A:F,6,FALSE),15),"") | I82: =IF(A82<>"",108,"") | Q82: =IF(A82<>"",Intercomités2024!$C$4,"") | R82: =IF(A82<>"",UPPER(Intercomités2024!$H$4),"") | S82: =IF(A82<>"","U16M","") | T82: =IF(A82<>"","M","") | U82: =IF(A82<>"","MI","") | V82: =IF(A82<>"",1,"") | X82: =IF(A82<>"","MI","") | Y82: =IF(A82<>"","M","") | AF82: =IF(A82<>"","MI","") | AG82: =IF(A82<>"","M","")
A83: =IF(Intercomités2024!H55<>"",Intercomités2024!H55,"") | B83: =IF(A83<>"",LEFT(VLOOKUP(A83,Licenciés!A:F,2,FALSE),20),"") | C83: =IF(A83<>"",LEFT(VLOOKUP(A83,Licenciés!A:F,3,FALSE),15),"") | E83: =IF(A83<>"",LEFT(VLOOKUP(A83,Licenciés!A:F,5,FALSE),15),"") | G83: =IF(A83<>"",LEFT(VLOOKUP(A83,Licenciés!A:F,6,FALSE),15),"") | I83: =IF(A83<>"",108,"") | Q83: =IF(A83<>"",Intercomités2024!$C$4,"") | R83: =IF(A83<>"",UPPER(Intercomités2024!$H$4),"") | S83: =IF(A83<>"","U16M","") | T83: =IF(A83<>"","M","") | U83: =IF(A83<>"","MI","") | V83: =IF(A83<>"",2,"") | X83: =IF(A83<>"","MI","") | Y83: =IF(A83<>"","M","") | AF83: =IF(A83<>"","MI","") | AG83: =IF(A83<>"","M","")
A84: =IF(Intercomités2024!H56<>"",Intercomités2024!H56,"") | B84: =IF(A84<>"",LEFT(VLOOKUP(A84,Licenciés!A:F,2,FALSE),20),"") | C84: =IF(A84<>"",LEFT(VLOOKUP(A84,Licenciés!A:F,3,FALSE),15),"") | E84: =IF(A84<>"",LEFT(VLOOKUP(A84,Licenciés!A:F,5,FALSE),15),"") | G84: =IF(A84<>"",LEFT(VLOOKUP(A84,Licenciés!A:F,6,FALSE),15),"") | I84: =IF(A84<>"",112,"") | Q84: =IF(A84<>"",Intercomités2024!$C$4,"") | R84: =IF(A84<>"",UPPER(Intercomités2024!$H$4),"") | S84: =IF(A84<>"","U16M","") | T84: =IF(A84<>"","M","") | U84: =IF(A84<>"","MI","") | V84: =IF(A84<>"",1,"") | X84: =IF(A84<>"","MI","") | Y84: =IF(A84<>"","M","") | AF84: =IF(A84<>"","MI","") | AG84: =IF(A84<>"","M","")
A85: =IF(Intercomités2024!H57<>"",Intercomités2024!H57,"") | B85: =IF(A85<>"",LEFT(VLOOKUP(A85,Licenciés!A:F,2,FALSE),20),"") | C85: =IF(A85<>"",LEFT(VLOOKUP(A85,Licenciés!A:F,3,FALSE),15),"") | E85: =IF(A85<>"",LEFT(VLOOKUP(A85,Licenciés!A:F,5,FALSE),15),"") | G85: =IF(A85<>"",LEFT(VLOOKUP(A85,Licenciés!A:F,6,FALSE),15),"") | I85: =IF(A85<>"",112,"") | Q85: =IF(A85<>"",Intercomités2024!$C$4,"") | R85: =IF(A85<>"",UPPER(Intercomités2024!$H$4),"") | S85: =IF(A85<>"","U16M","") | T85: =IF(A85<>"","M","") | U85: =IF(A85<>"","MI","") | V85: =IF(A85<>"",2,"") | X85: =IF(A85<>"","MI","") | Y85: =IF(A85<>"","M","") | AF85: =IF(A85<>"","MI","") | AG85: =IF(A85<>"","M","")
A86: =IF(Intercomités2024!H58<>"",Intercomités2024!H58,"") | B86: =IF(A86<>"",LEFT(VLOOKUP(A86,Licenciés!A:F,2,FALSE),20),"") | C86: =IF(A86<>"",LEFT(VLOOKUP(A86,Licenciés!A:F,3,FALSE),15),"") | E86: =IF(A86<>"",LEFT(VLOOKUP(A86,Licenciés!A:F,5,FALSE),15),"") | G86: =IF(A86<>"",LEFT(VLOOKUP(A86,Licenciés!A:F,6,FALSE),15),"") | I86: =IF(A86<>"",210,"") | Q86: =IF(A86<>"",Intercomités2024!$C$4,"") | R86: =IF(A86<>"",UPPER(Intercomités2024!$H$4),"") | S86: =IF(A86<>"","U16M","") | T86: =IF(A86<>"","M","") | U86: =IF(A86<>"","MI","") | V86: =IF(A86<>"",1,"") | X86: =IF(A86<>"","MI","") | Y86: =IF(A86<>"","M","") | AF86: =IF(A86<>"","MI","") | AG86: =IF(A86<>"","M","")
A87: =IF(Intercomités2024!H59<>"",Intercomités2024!H59,"") | B87: =IF(A87<>"",LEFT(VLOOKUP(A87,Licenciés!A:F,2,FALSE),20),"") | C87: =IF(A87<>"",LEFT(VLOOKUP(A87,Licenciés!A:F,3,FALSE),15),"") | E87: =IF(A87<>"",LEFT(VLOOKUP(A87,Licenciés!A:F,5,FALSE),15),"") | G87: =IF(A87<>"",LEFT(VLOOKUP(A87,Licenciés!A:F,6,FALSE),15),"") | I87: =IF(A87<>"",210,"") | Q87: =IF(A87<>"",Intercomités2024!$C$4,"") | R87: =IF(A87<>"",UPPER(Intercomités2024!$H$4),"") | S87: =IF(A87<>"","U16M","") | T87: =IF(A87<>"","M","") | U87: =IF(A87<>"","MI","") | V87: =IF(A87<>"",2,"") | X87: =IF(A87<>"","MI","") | Y87: =IF(A87<>"","M","") | AF87: =IF(A87<>"","MI","") | AG87: =IF(A87<>"","M","")
A88: =IF(Intercomités2024!H60<>"",Intercomités2024!H60,"") | B88: =IF(A88<>"",LEFT(VLOOKUP(A88,Licenciés!A:F,2,FALSE),20),"") | C88: =IF(A88<>"",LEFT(VLOOKUP(A88,Licenciés!A:F,3,FALSE),15),"") | E88: =IF(A88<>"",LEFT(VLOOKUP(A88,Licenciés!A:F,5,FALSE),15),"") | G88: =IF(A88<>"",LEFT(VLOOKUP(A88,Licenciés!A:F,6,FALSE),15),"") | I88: =IF(A88<>"",220,"") | Q88: =IF(A88<>"",Intercomités2024!$C$4,"") | R88: =IF(A88<>"",UPPER(Intercomités2024!$H$4),"") | S88: =IF(A88<>"","U16M","") | T88: =IF(A88<>"","M","") | U88: =IF(A88<>"","MI","") | V88: =IF(A88<>"",1,"") | X88: =IF(A88<>"","MI","") | Y88: =IF(A88<>"","M","") | AF88: =IF(A88<>"","MI","") | AG88: =IF(A88<>"","M","")
A89: =IF(Intercomités2024!H61<>"",Intercomités2024!H61,"") | B89: =IF(A89<>"",LEFT(VLOOKUP(A89,Licenciés!A:F,2,FALSE),20),"") | C89: =IF(A89<>"",LEFT(VLOOKUP(A89,Licenciés!A:F,3,FALSE),15),"") | E89: =IF(A89<>"",LEFT(VLOOKUP(A89,Licenciés!A:F,5,FALSE),15),"") | G89: =IF(A89<>"",LEFT(VLOOKUP(A89,Licenciés!A:F,6,FALSE),15),"") | I89: =IF(A89<>"",220,"") | Q89: =IF(A89<>"",Intercomités2024!$C$4,"") | R89: =IF(A89<>"",UPPER(Intercomités2024!$H$4),"") | S89: =IF(A89<>"","U16M","") | T89: =IF(A89<>"","M","") | U89: =IF(A89<>"","MI","") | V89: =IF(A89<>"",2,"") | X89: =IF(A89<>"","MI","") | Y89: =IF(A89<>"","M","") | AF89: =IF(A89<>"","MI","") | AG89: =IF(A89<>"","M","")
A90: =IF(Intercomités2024!H62<>"",Intercomités2024!H62,"") | B90: =IF(A90<>"",LEFT(VLOOKUP(A90,Licenciés!A:F,2,FALSE),20),"") | C90: =IF(A90<>"",LEFT(VLOOKUP(A90,Licenciés!A:F,3,FALSE),15),"") | E90: =IF(A90<>"",LEFT(VLOOKUP(A90,Licenciés!A:F,5,FALSE),15),"") | G90: =IF(A90<>"",LEFT(VLOOKUP(A90,Licenciés!A:F,6,FALSE),15),"") | I90: =IF(A90<>"",310,"") | Q90: =IF(A90<>"",Intercomités2024!$C$4,"") | R90: =IF(A90<>"",UPPER(Intercomités2024!$H$4),"") | S90: =IF(A90<>"","U16M","") | T90: =IF(A90<>"","M","") | U90: =IF(A90<>"","MI","") | V90: =IF(A90<>"",1,"") | X90: =IF(A90<>"","MI","") | Y90: =IF(A90<>"","M","") | AF90: =IF(A90<>"","MI","") | AG90: =IF(A90<>"","M","")
A91: =IF(Intercomités2024!H63<>"",Intercomités2024!H63,"") | B91: =IF(A91<>"",LEFT(VLOOKUP(A91,Licenciés!A:F,2,FALSE),20),"") | C91: =IF(A91<>"",LEFT(VLOOKUP(A91,Licenciés!A:F,3,FALSE),15),"") | E91: =IF(A91<>"",LEFT(VLOOKUP(A91,Licenciés!A:F,5,FALSE),15),"") | G91: =IF(A91<>"",LEFT(VLOOKUP(A91,Licenciés!A:F,6,FALSE),15),"") | I91: =IF(A91<>"",310,"") | Q91: =IF(A91<>"",Intercomités2024!$C$4,"") | R91: =IF(A91<>"",UPPER(Intercomités2024!$H$4),"") | S91: =IF(A91<>"","U16M","") | T91: =IF(A91<>"","M","") | U91: =IF(A91<>"","MI","") | V91: =IF(A91<>"",2,"") | X91: =IF(A91<>"","MI","") | Y91: =IF(A91<>"","M","") | AF91: =IF(A91<>"","MI","") | AG91: =IF(A91<>"","M","")
A92: =IF(Intercomités2024!H64<>"",Intercomités2024!H64,"") | B92: =IF(A92<>"",LEFT(VLOOKUP(A92,Licenciés!A:F,2,FALSE),20),"") | C92: =IF(A92<>"",LEFT(VLOOKUP(A92,Licenciés!A:F,3,FALSE),15),"") | E92: =IF(A92<>"",LEFT(VLOOKUP(A92,Licenciés!A:F,5,FALSE),15),"") | G92: =IF(A92<>"",LEFT(VLOOKUP(A92,Licenciés!A:F,6,FALSE),15),"") | I92: =IF(A92<>"",326,"") | Q92: =IF(A92<>"",Intercomités2024!$C$4,"") | R92: =IF(A92<>"",UPPER(Intercomités2024!$H$4),"") | S92: =IF(A92<>"","U16M","") | T92: =IF(A92<>"","M","") | U92: =IF(A92<>"","MI","") | V92: =IF(A92<>"",1,"") | X92: =IF(A92<>"","MI","") | Y92: =IF(A92<>"","M","") | AF92: =IF(A92<>"","MI","") | AG92: =IF(A92<>"","M","")
A93: =IF(Intercomités2024!H65<>"",Intercomités2024!H65,"") | B93: =IF(A93<>"",LEFT(VLOOKUP(A93,Licenciés!A:F,2,FALSE),20),"") | C93: =IF(A93<>"",LEFT(VLOOKUP(A93,Licenciés!A:F,3,FALSE),15),"") | E93: =IF(A93<>"",LEFT(VLOOKUP(A93,Licenciés!A:F,5,FALSE),15),"") | G93: =IF(A93<>"",LEFT(VLOOKUP(A93,Licenciés!A:F,6,FALSE),15),"") | I93: =IF(A93<>"",326,"") | Q93: =IF(A93<>"",Intercomités2024!$C$4,"") | R93: =IF(A93<>"",UPPER(Intercomités2024!$H$4),"") | S93: =IF(A93<>"","U16M","") | T93: =IF(A93<>"","M","") | U93: =IF(A93<>"","MI","") | V93: =IF(A93<>"",2,"") | X93: =IF(A93<>"","MI","") | Y93: =IF(A93<>"","M","") | AF93: =IF(A93<>"","MI","") | AG93: =IF(A93<>"","M","")
A94: =IF(Intercomités2024!H66<>"",Intercomités2024!H66,"") | B94: =IF(A94<>"",LEFT(VLOOKUP(A94,Licenciés!A:F,2,FALSE),20),"") | C94: =IF(A94<>"",LEFT(VLOOKUP(A94,Licenciés!A:F,3,FALSE),15),"") | E94: =IF(A94<>"",LEFT(VLOOKUP(A94,Licenciés!A:F,5,FALSE),15),"") | G94: =IF(A94<>"",LEFT(VLOOKUP(A94,Licenciés!A:F,6,FALSE),15),"") | I94: =IF(A94<>"",501,"") | Q94: =IF(A94<>"",Intercomités2024!$C$4,"") | R94: =IF(A94<>"",UPPER(Intercomités2024!$H$4),"") | S94: =IF(A94<>"","U16M","") | T94: =IF(A94<>"","M","") | U94: =IF(A94<>"","MI","") | V94: =IF(A94<>"",1,"") | X94: =IF(A94<>"","MI","") | Y94: =IF(A94<>"","M","") | AF94: =IF(A94<>"","MI","") | AG94: =IF(A94<>"","M","")
A95: =IF(Intercomités2024!H67<>"",Intercomités2024!H67,"") | B95: =IF(A95<>"",LEFT(VLOOKUP(A95,Licenciés!A:F,2,FALSE),20),"") | C95: =IF(A95<>"",LEFT(VLOOKUP(A95,Licenciés!A:F,3,FALSE),15),"") | E95: =IF(A95<>"",LEFT(VLOOKUP(A95,Licenciés!A:F,5,FALSE),15),"") | G95: =IF(A95<>"",LEFT(VLOOKUP(A95,Licenciés!A:F,6,FALSE),15),"") | I95: =IF(A95<>"",501,"") | Q95: =IF(A95<>"",Intercomités2024!$C$4,"") | R95: =IF(A95<>"",UPPER(Intercomités2024!$H$4),"") | S95: =IF(A95<>"","U16M","") | T95: =IF(A95<>"","M","") | U95: =IF(A95<>"","MI","") | V95: =IF(A95<>"",2,"") | X95: =IF(A95<>"","MI","") | Y95: =IF(A95<>"","M","") | AF95: =IF(A95<>"","MI","") | AG95: =IF(A95<>"","M","")
A96: =IF(Intercomités2024!H68<>"",Intercomités2024!H68,"") | B96: =IF(A96<>"",LEFT(VLOOKUP(A96,Licenciés!A:F,2,FALSE),20),"") | C96: =IF(A96<>"",LEFT(VLOOKUP(A96,Licenciés!A:F,3,FALSE),15),"") | E96: =IF(A96<>"",LEFT(VLOOKUP(A96,Licenciés!A:F,5,FALSE),15),"") | G96: =IF(A96<>"",LEFT(VLOOKUP(A96,Licenciés!A:F,6,FALSE),15),"") | I96: =IF(A96<>"",502,"") | Q96: =IF(A96<>"",Intercomités2024!$C$4,"") | R96: =IF(A96<>"",UPPER(Intercomités2024!$H$4),"") | S96: =IF(A96<>"","U16M","") | T96: =IF(A96<>"","M","") | U96: =IF(A96<>"","MI","") | V96: =IF(A96<>"",1,"") | X96: =IF(A96<>"","MI","") | Y96: =IF(A96<>"","M","") | AF96: =IF(A96<>"","MI","") | AG96: =IF(A96<>"","M","")
A97: =IF(Intercomités2024!H69<>"",Intercomités2024!H69,"") | B97: =IF(A97<>"",LEFT(VLOOKUP(A97,Licenciés!A:F,2,FALSE),20),"") | C97: =IF(A97<>"",LEFT(VLOOKUP(A97,Licenciés!A:F,3,FALSE),15),"") | E97: =IF(A97<>"",LEFT(VLOOKUP(A97,Licenciés!A:F,5,FALSE),15),"") | G97: =IF(A97<>"",LEFT(VLOOKUP(A97,Licenciés!A:F,6,FALSE),15),"") | I97: =IF(A97<>"",502,"") | Q97: =IF(A97<>"",Intercomités2024!$C$4,"") | R97: =IF(A97<>"",UPPER(Intercomités2024!$H$4),"") | S97: =IF(A97<>"","U16M","") | T97: =IF(A97<>"","M","") | U97: =IF(A97<>"","MI","") | V97: =IF(A97<>"",2,"") | X97: =IF(A97<>"","MI","") | Y97: =IF(A97<>"","M","") | AF97: =IF(A97<>"","MI","") | AG97: =IF(A97<>"","M","")
A98: =IF(Intercomités2024!H70<>"",Intercomités2024!H70,"") | B98: =IF(A98<>"",LEFT(VLOOKUP(A98,Licenciés!A:F,2,FALSE),20),"") | C98: =IF(A98<>"",LEFT(VLOOKUP(A98,Licenciés!A:F,3,FALSE),15),"") | E98: =IF(A98<>"",LEFT(VLOOKUP(A98,Licenciés!A:F,5,FALSE),15),"") | G98: =IF(A98<>"",LEFT(VLOOKUP(A98,Licenciés!A:F,6,FALSE),15),"") | I98: =IF(A98<>"",503,"") | Q98: =IF(A98<>"",Intercomités2024!$C$4,"") | R98: =IF(A98<>"",UPPER(Intercomités2024!$H$4),"") | S98: =IF(A98<>"","U16M","") | T98: =IF(A98<>"","M","") | U98: =IF(A98<>"","MI","") | V98: =IF(A98<>"",1,"") | X98: =IF(A98<>"","MI","") | Y98: =IF(A98<>"","M","") | AF98: =IF(A98<>"","MI","") | AG98: =IF(A98<>"","M","")
A99: =IF(Intercomités2024!H71<>"",Intercomités2024!H71,"") | B99: =IF(A99<>"",LEFT(VLOOKUP(A99,Licenciés!A:F,2,FALSE),20),"") | C99: =IF(A99<>"",LEFT(VLOOKUP(A99,Licenciés!A:F,3,FALSE),15),"") | E99: =IF(A99<>"",LEFT(VLOOKUP(A99,Licenciés!A:F,5,FALSE),15),"") | G99: =IF(A99<>"",LEFT(VLOOKUP(A99,Licenciés!A:F,6,FALSE),15),"") | I99: =IF(A99<>"",503,"") | Q99: =IF(A99<>"",Intercomités2024!$C$4,"") | R99: =IF(A99<>"",UPPER(Intercomités2024!$H$4),"") | S99: =IF(A99<>"","U16M","") | T99: =IF(A99<>"","M","") | U99: =IF(A99<>"","MI","") | V99: =IF(A99<>"",2,"") | X99: =IF(A99<>"","MI","") | Y99: =IF(A99<>"","M","") | AF99: =IF(A99<>"","MI","") | AG99: =IF(A99<>"","M","")
A100: =IF(Intercomités2024!H72<>"",Intercomités2024!H72,"") | B100: =IF(A100<>"",LEFT(VLOOKUP(A100,Licenciés!A:F,2,FALSE),20),"") | C100: =IF(A100<>"",LEFT(VLOOKUP(A100,Licenciés!A:F,3,FALSE),15),"") | E100: =IF(A100<>"",LEFT(VLOOKUP(A100,Licenciés!A:F,5,FALSE),15),"") | G100: =IF(A100<>"",LEFT(VLOOKUP(A100,Licenciés!A:F,6,FALSE),15),"") | I100: =IF(A100<>"",504,"") | Q100: =IF(A100<>"",Intercomités2024!$C$4,"") | R100: =IF(A100<>"",UPPER(Intercomités2024!$H$4),"") | S100: =IF(A100<>"","U16M","") | T100: =IF(A100<>"","M","") | U100: =IF(A100<>"","MI","") | V100: =IF(A100<>"",1,"") | X100: =IF(A100<>"","MI","") | Y100: =IF(A100<>"","M","") | AF100: =IF(A100<>"","MI","") | AG100: =IF(A100<>"","M","")
...

Sheet Jury
A1: Num licence | B1: Nom | C1: Prénom | D1: Date de la participation | E1: Présent (O ou N, si vide N par défaut) | F1: Fonction (parmi la liste, non modifiable ) | G1: Sous fonction complémentaire | H1: Numéro FFA du club | I1: Ligue (code sur 3 lettres) | J1: Fait parti des jeunes juges (O ou N, vide N par défaut | K1: Code de la qualification | L1: Nom de l'Interclub | M1: Lettre de l'Equipe (interclub)
A2: Licence | B2: Nom | C2: Prenom | D2: DateJury | E2: Presence | F2: Fonction | G2: SousDomaine | H2: STRCODNUMClub | I2: STRNOMABRLigue | J2: JeuneJury | K2: Qualite | L2: NomInterClub | M2: LettreEquipe
A3: =IF(Intercomités2024!D9="","",Intercomités2024!C9) | B3: =IF(A3<>"",VLOOKUP(A3,Licenciés!A:G,2,FALSE),"") | C3: =IF(A3<>"",VLOOKUP(A3,Licenciés!A:G,3,FALSE),"") | H3: =IF(A3<>"",VLOOKUP(Intercomités2024!$H$4,Intercomités2024!$O$4:$P$56,2,FALSE),"") | L3: =IF(A3<>"",Intercomités2024!#REF!,"") | M3: =IF(A3<>"",UPPER(Intercomités2024!#REF!),"")
A4: =IF(Intercomités2024!D10="","",Intercomités2024!C10) | B4: =IF(A4<>"",VLOOKUP(A4,Licenciés!A:G,2,FALSE),"") | C4: =IF(A4<>"",VLOOKUP(A4,Licenciés!A:G,3,FALSE),"") | H4: =IF(A4<>"",VLOOKUP(Intercomités2024!$H$4,Intercomités2024!$O$4:$P$56,2,FALSE),"") | L4: =IF(A4<>"",Intercomités2024!#REF!,"") | M4: =IF(A4<>"",UPPER(Intercomités2024!#REF!),"")
A5: =IF(Intercomités2024!D11="","",Intercomités2024!C11) | B5: =IF(A5<>"",VLOOKUP(A5,Licenciés!A:G,2,FALSE),"") | C5: =IF(A5<>"",VLOOKUP(A5,Licenciés!A:G,3,FALSE),"") | H5: =IF(A5<>"",VLOOKUP(Intercomités2024!$H$4,Intercomités2024!$O$4:$P$56,2,FALSE),"") | L5: =IF(A5<>"",Intercomités2024!#REF!,"") | M5: =IF(A5<>"",UPPER(Intercomités2024!#REF!),"")
A6: =IF(Intercomités2024!D12="","",Intercomités2024!C12) | B6: =IF(A6<>"",VLOOKUP(A6,Licenciés!A:G,2,FALSE),"") | C6: =IF(A6<>"",VLOOKUP(A6,Licenciés!A:G,3,FALSE),"") | H6: =IF(A6<>"",VLOOKUP(Intercomités2024!$H$4,Intercomités2024!$O$4:$P$56,2,FALSE),"") | L6: =IF(A6<>"",Intercomités2024!#REF!,"") | M6: =IF(A6<>"",UPPER(Intercomités2024!#REF!),"")
A7: =IF(Intercomités2024!D13="","",Intercomités2024!C13) | B7: =IF(A7<>"",VLOOKUP(A7,Licenciés!A:G,2,FALSE),"") | C7: =IF(A7<>"",VLOOKUP(A7,Licenciés!A:G,3,FALSE),"") | H7: =IF(A7<>"",VLOOKUP(Intercomités2024!$H$4,Intercomités2024!$O$4:$P$56,2,FALSE),"") | L7: =IF(A7<>"",Intercomités2024!#REF!,"") | M7: =IF(A7<>"",UPPER(Intercomités2024!#REF!),"")
A8: =IF(Intercomités2024!D14="","",Intercomités2024!C14) | B8: =IF(A8<>"",VLOOKUP(A8,Licenciés!A:G,2,FALSE),"") | C8: =IF(A8<>"",VLOOKUP(A8,Licenciés!A:G,3,FALSE),"") | H8: =IF(A8<>"",VLOOKUP(Intercomités2024!$H$4,Intercomités2024!$O$4:$P$56,2,FALSE),"") | L8: =IF(A8<>"",Intercomités2024!#REF!,"") | M8: =IF(A8<>"",UPPER(Intercomités2024!#REF!),"")
A9: =IF(Intercomités2024!D15="","",Intercomités2024!C15) | B9: =IF(A9<>"",VLOOKUP(A9,Licenciés!A:G,2,FALSE),"") | C9: =IF(A9<>"",VLOOKUP(A9,Licenciés!A:G,3,FALSE),"") | H9: =IF(A9<>"",VLOOKUP(Intercomités2024!$H$4,Intercomités2024!$O$4:$P$56,2,FALSE),"") | L9: =IF(A9<>"",Intercomités2024!#REF!,"") | M9: =IF(A9<>"",UPPER(Intercomités2024!#REF!),"")
