Workbook

Sheet Poule 1
B1: MANCHE DE CLASSEMENT : POULE 1 | G1: Équipe | H1: Points par équipe avant poursuite
B2: Équipe | C2: Prénom NOM | D2: Performance | E2: Place | F2: Points
A3: 50m (garçons) | B3: 1 | F3: =IF(E3="","",IF(E3=1,7,IF(E3=2,5,IF(E3=3,4,IF(E3=4,3,IF(E3=5,2,IF(E3=6,1))))))) | G3: 1 | H3: =SUM(F3,F11,F19,F27) -> 0
B4: 2 | F4: =IF(E4="","",IF(E4=1,7,IF(E4=2,5,IF(E4=3,4,IF(E4=4,3,IF(E4=5,2,IF(E4=6,1)))))))
B5: 3 | F5: =IF(E5="","",IF(E5=1,7,IF(E5=2,5,IF(E5=3,4,IF(E5=4,3,IF(E5=5,2,IF(E5=6,1))))))) | G5: 2 | H5: =SUM(F4,F12,F20,F28) -> 0
B6: 4 | F6: =IF(E6="","",IF(E6=1,7,IF(E6=2,5,IF(E6=3,4,IF(E6=4,3,IF(E6=5,2,IF(E6=6,1)))))))
B7: 5 | F7: =IF(E7="","",IF(E7=1,7,IF(E7=2,5,IF(E7=3,4,IF(E7=4,3,IF(E7=5,2,IF(E7=6,1))))))) | G7: 3 | H7: =SUM(F5,F13,F21,F29) -> 0
B8: 6 | F8: =IF(E8="","",IF(E8=1,7,IF(E8=2,5,IF(E8=3,4,IF(E8=4,3,IF(E8=5,2,IF(E8=6,1)))))))
B9: 7 | F9: =IF(E9="","",IF(E9=1,7,IF(E9=2,5,IF(E9=3,4,IF(E9=4,3,IF(E9=5,2,IF(E9=6,1))))))) | G9: 4 | H9: =SUM(F6,F14,F22,F30) -> 0
B10: 8 | F10: =IF(E10="","",IF(E10=1,7,IF(E10=2,5,IF(E10=3,4,IF(E10=4,3,IF(E10=5,2,IF(E10=6,1)))))))
A11: 50m haies (filles) | B11: 1 | F11: =IF(E11="","",IF(E11=1,7,IF(E11=2,5,IF(E11=3,4,IF(E11=4,3,IF(E11=5,2,IF(E11=6,1))))))) | G11: 5 | H11: =SUM(F7,F15,F23,F31) -> 0
B12: 2 | F12: =IF(E12="","",IF(E12=1,7,IF(E12=2,5,IF(E12=3,4,IF(E12=4,3,IF(E12=5,2,IF(E12=6,1)))))))
B13: 3 | F13: =IF(E13="","",IF(E13=1,7,IF(E13=2,5,IF(E13=3,4,IF(E13=4,3,IF(E13=5,2,IF(E13=6,1))))))) | G13: 6 | H13: =SUM(F8,F16,F24,F32) -> 0
B14: 4 | F14: =IF(E14="","",IF(E14=1,7,IF(E14=2,5,IF(E14=3,4,IF(E14=4,3,IF(E14=5,2,IF(E14=6,1)))))))
B15: 5 | F15: =IF(E15="","",IF(E15=1,7,IF(E15=2,5,IF(E15=3,4,IF(E15=4,3,IF(E15=5,2,IF(E15=6,1))))))) | G15: 7 | H15: =SUM(F9,F17,F25,F33) -> 0
B16: 6 | F16: =IF(E16="","",IF(E16=1,7,IF(E16=2,5,IF(E16=3,4,IF(E16=4,3,IF(E16=5,2,IF(E16=6,1)))))))
B17: 7 | F17: =IF(E17="","",IF(E17=1,7,IF(E17=2,5,IF(E17=3,4,IF(E17=4,3,IF(E17=5,2,IF(E17=6,1))))))) | G17: 8 | H17: =SUM(F10,F18,F26,F34) -> 0
B18: 8 | F18: =IF(E18="","",IF(E18=1,7,IF(E18=2,5,IF(E18=3,4,IF(E18=4,3,IF(E18=5,2,IF(E18=6,1)))))))
A19: Longueur (garçons) | B19: 1 | F19: =IF(E19="","",IF(E19=1,7,IF(E19=2,5,IF(E19=3,4,IF(E19=4,3,IF(E19=5,2,IF(E19=6,1)))))))
B20: 2 | F20: =IF(E20="","",IF(E20=1,7,IF(E20=2,5,IF(E20=3,4,IF(E20=4,3,IF(E20=5,2,IF(E20=6,1)))))))
B21: 3 | F21: =IF(E21="","",IF(E21=1,7,IF(E21=2,5,IF(E21=3,4,IF(E21=4,3,IF(E21=5,2,IF(E21=6,1)))))))
B22: 4 | F22: =IF(E22="","",IF(E22=1,7,IF(E22=2,5,IF(E22=3,4,IF(E22=4,3,IF(E22=5,2,IF(E22=6,1)))))))
B23: 5 | F23: =IF(E23="","",IF(E23=1,7,IF(E23=2,5,IF(E23=3,4,IF(E23=4,3,IF(E23=5,2,IF(E23=6,1)))))))
B24: 6 | F24: =IF(E24="","",IF(E24=1,7,IF(E24=2,5,IF(E24=3,4,IF(E24=4,3,IF(E24=5,2,IF(E24=6,1)))))))
B25: 7 | F25: =IF(E25="","",IF(E25=1,7,IF(E25=2,5,IF(E25=3,4,IF(E25=4,3,IF(E25=5,2,IF(E25=6,1)))))))
B26: 8 | F26: =IF(E26="","",IF(E26=1,7,IF(E26=2,5,IF(E26=3,4,IF(E26=4,3,IF(E26=5,2,IF(E26=6,1)))))))
A27: Poids (filles) | B27: 1 | F27: =IF(E27="","",IF(E27=1,7,IF(E27=2,5,IF(E27=3,4,IF(E27=4,3,IF(E27=5,2,IF(E27=6,1)))))))
B28: 2 | F28: =IF(E28="","",IF(E28=1,7,IF(E28=2,5,IF(E28=3,4,IF(E28=4,3,IF(E28=5,2,IF(E28=6,1)))))))
B29: 3 | F29: =IF(E29="","",IF(E29=1,7,IF(E29=2,5,IF(E29=3,4,IF(E29=4,3,IF(E29=5,2,IF(E29=6,1)))))))
B30: 4 | F30: =IF(E30="","",IF(E30=1,7,IF(E30=2,5,IF(E30=3,4,IF(E30=4,3,IF(E30=5,2,IF(E30=6,1)))))))
B31: 5 | F31: =IF(E31="","",IF(E31=1,7,IF(E31=2,5,IF(E31=3,4,IF(E31=4,3,IF(E31=5,2,IF(E31=6,1)))))))
B32: 6 | F32: =IF(E32="","",IF(E32=1,7,IF(E32=2,5,IF(E32=3,4,IF(E32=4,3,IF(E32=5,2,IF(E32=6,1)))))))
B33: 7 | F33: =IF(E33="","",IF(E33=1,7,IF(E33=2,5,IF(E33=3,4,IF(E33=4,3,IF(E33=5,2,IF(E33=6,1)))))))
B34: 8 | F34: =IF(E34="","",IF(E34=1,7,IF(E34=2,5,IF(E34=3,4,IF(E34=4,3,IF(E34=5,2,IF(E34=6,1)))))))
A35: Poursuite | B35: Ordre de départ : | E35: Classement de la poule : | G35: Qualifié en :
G36: Finale A
G37: Finale A
G38: Finale A
G39: Finale A
G40: Finale B
G41: Finale B
G42: Finale B
G43: Finale B

Sheet Poule 2
B1: MANCHE DE CLASSEMENT : POULE 1 | G1: Équipe | H1: Points par équipe avant poursuite
B2: Équipe | C2: Prénom NOM | D2: Performance | E2: Place | F2: Points
A3: 50m (garçons) | B3: 7 | F3: =IF(E3="","",IF(E3=1,7,IF(E3=2,5,IF(E3=3,4,IF(E3=4,3,IF(E3=5,2,IF(E3=6,1))))))) | G3: 7 | H3: =SUM(F3,F11,F19,F27) -> 0
B4: 8 | F4: =IF(E4="","",IF(E4=1,7,IF(E4=2,5,IF(E4=3,4,IF(E4=4,3,IF(E4=5,2,IF(E4=6,1)))))))
B5: 9 | F5: =IF(E5="","",IF(E5=1,7,IF(E5=2,5,IF(E5=3,4,IF(E5=4,3,IF(E5=5,2,IF(E5=6,1))))))) | G5: 8 | H5: =SUM(F4,F12,F20,F28) -> 0
B6: 10 | F6: =IF(E6="","",IF(E6=1,7,IF(E6=2,5,IF(E6=3,4,IF(E6=4,3,IF(E6=5,2,IF(E6=6,1)))))))
B7: 11 | F7: =IF(E7="","",IF(E7=1,7,IF(E7=2,5,IF(E7=3,4,IF(E7=4,3,IF(E7=5,2,IF(E7=6,1))))))) | G7: 9 | H7: =SUM(F5,F13,F21,F29) -> 0
B8: 12 | F8: =IF(E8="","",IF(E8=1,7,IF(E8=2,5,IF(E8=3,4,IF(E8=4,3,IF(E8=5,2,IF(E8=6,1)))))))
B9: 13 | F9: =IF(E9="","",IF(E9=1,7,IF(E9=2,5,IF(E9=3,4,IF(E9=4,3,IF(E9=5,2,IF(E9=6,1))))))) | G9: 10 | H9: =SUM(F6,F14,F22,F30) -> 0
B10: 14 | F10: =IF(E10="","",IF(E10=1,7,IF(E10=2,5,IF(E10=3,4,IF(E10=4,3,IF(E10=5,2,IF(E10=6,1)))))))
A11: 50m haies (filles) | B11: 7 | F11: =IF(E11="","",IF(E11=1,7,IF(E11=2,5,IF(E11=3,4,IF(E11=4,3,IF(E11=5,2,IF(E11=6,1))))))) | G11: 11 | H11: =SUM(F7,F15,F23,F31) -> 0
B12: 8 | F12: =IF(E12="","",IF(E12=1,7,IF(E12=2,5,IF(E12=3,4,IF(E12=4,3,IF(E12=5,2,IF(E12=6,1)))))))
B13: 9 | F13: =IF(E13="","",IF(E13=1,7,IF(E13=2,5,IF(E13=3,4,IF(E13=4,3,IF(E13=5,2,IF(E13=6,1))))))) | G13: 12 | H13: =SUM(F8,F16,F24,F32) -> 0
B14: 10 | F14: =IF(E14="","",IF(E14=1,7,IF(E14=2,5,IF(E14=3,4,IF(E14=4,3,IF(E14=5,2,IF(E14=6,1)))))))
B15: 11 | F15: =IF(E15="","",IF(E15=1,7,IF(E15=2,5,IF(E15=3,4,IF(E15=4,3,IF(E15=5,2,IF(E15=6,1))))))) | G15: 13 | H15: =SUM(F9,F17,F25,F33) -> 0
B16: 12 | F16: =IF(E16="","",IF(E16=1,7,IF(E16=2,5,IF(E16=3,4,IF(E16=4,3,IF(E16=5,2,IF(E16=6,1)))))))
B17: 13 | F17: =IF(E17="","",IF(E17=1,7,IF(E17=2,5,IF(E17=3,4,IF(E17=4,3,IF(E17=5,2,IF(E17=6,1))))))) | G17: 14 | H17: =SUM(F10,F18,F26,F34) -> 0
B18: 14 | F18: =IF(E18="","",IF(E18=1,7,IF(E18=2,5,IF(E18=3,4,IF(E18=4,3,IF(E18=5,2,IF(E18=6,1)))))))
A19: Longueur (garçons) | B19: 7 | F19: =IF(E19="","",IF(E19=1,7,IF(E19=2,5,IF(E19=3,4,IF(E19=4,3,IF(E19=5,2,IF(E19=6,1)))))))
B20: 8 | F20: =IF(E20="","",IF(E20=1,7,IF(E20=2,5,IF(E20=3,4,IF(E20=4,3,IF(E20=5,2,IF(E20=6,1)))))))
B21: 9 | F21: =IF(E21="","",IF(E21=1,7,IF(E21=2,5,IF(E21=3,4,IF(E21=4,3,IF(E21=5,2,IF(E21=6,1)))))))
B22: 10 | F22: =IF(E22="","",IF(E22=1,7,IF(E22=2,5,IF(E22=3,4,IF(E22=4,3,IF(E22=5,2,IF(E22=6,1)))))))
B23: 11 | F23: =IF(E23="","",IF(E23=1,7,IF(E23=2,5,IF(E23=3,4,IF(E23=4,3,IF(E23=5,2,IF(E23=6,1)))))))
B24: 12 | F24: =IF(E24="","",IF(E24=1,7,IF(E24=2,5,IF(E24=3,4,IF(E24=4,3,IF(E24=5,2,IF(E24=6,1)))))))
B25: 13 | F25: =IF(E25="","",IF(E25=1,7,IF(E25=2,5,IF(E25=3,4,IF(E25=4,3,IF(E25=5,2,IF(E25=6,1)))))))
B26: 14 | F26: =IF(E26="","",IF(E26=1,7,IF(E26=2,5,IF(E26=3,4,IF(E26=4,3,IF(E26=5,2,IF(E26=6,1)))))))
A27: Poids (filles) | B27: 7 | F27: =IF(E27="","",IF(E27=1,7,IF(E27=2,5,IF(E27=3,4,IF(E27=4,3,IF(E27=5,2,IF(E27=6,1)))))))
B28: 8 | F28: =IF(E28="","",IF(E28=1,7,IF(E28=2,5,IF(E28=3,4,IF(E28=4,3,IF(E28=5,2,IF(E28=6,1)))))))
B29: 9 | F29: =IF(E29="","",IF(E29=1,7,IF(E29=2,5,IF(E29=3,4,IF(E29=4,3,IF(E29=5,2,IF(E29=6,1)))))))
B30: 10 | F30: =IF(E30="","",IF(E30=1,7,IF(E30=2,5,IF(E30=3,4,IF(E30=4,3,IF(E30=5,2,IF(E30=6,1)))))))
B31: 11 | F31: =IF(E31="","",IF(E31=1,7,IF(E31=2,5,IF(E31=3,4,IF(E31=4,3,IF(E31=5,2,IF(E31=6,1)))))))
B32: 12 | F32: =IF(E32="","",IF(E32=1,7,IF(E32=2,5,IF(E32=3,4,IF(E32=4,3,IF(E32=5,2,IF(E32=6,1)))))))
B33: 13 | F33: =IF(E33="","",IF(E33=1,7,IF(E33=2,5,IF(E33=3,4,IF(E33=4,3,IF(E33=5,2,IF(E33=6,1)))))))
B34: 14 | F34: =IF(E34="","",IF(E34=1,7,IF(E34=2,5,IF(E34=3,4,IF(E34=4,3,IF(E34=5,2,IF(E34=6,1)))))))
A35: Poursuite | B35: Ordre de départ : | E35: Classement de la poule : | G35: Qualifié en :
G36: Finale A
G37: Finale A
G38: Finale A
G39: Finale A
G40: Finale B
G41: Finale B
G42: Finale B
G43: Finale B

Sheet Classement poules
A2: Poule 1 | B2: Equipe | C2: 1 | D2: 2 | E2: 3 | F2: 4 | G2: 5 | H2: 6 | I2: 7 | J2: 8
B5: Points | C5: =SUM('Poule 1'!H3:H4) -> 0 | D5: =SUM('Poule 1'!H5:H6) -> 0 | E5: =SUM('Poule 1'!H7:H8) -> 0 | F5: =SUM('Poule 1'!H9:H10) -> 0 | G5: =SUM('Poule 1'!H11:H12) -> 0 | H5: =SUM('Poule 1'!H13:H14) -> 0 | I5: =SUM('Poule 1'!H15:H16) -> 0 | J5: =SUM('Poule 1'!H17:H18) -> 0
A9: Poule 2 | B9: Equipe | C9: 6 | D9: 7 | E9: 8 | F9: 9 | G9: 10 | H9: 11 | I9: 12 | J9: 13
B12: Points | C12: =SUM('Poule 2'!H10:H11) -> 0 | D12: =SUM('Poule 2'!H12:H13) -> 0 | E12: =SUM('Poule 2'!H14:H15) -> 0 | F12: =SUM('Poule 2'!H16:H17) -> 0 | G12: =SUM('Poule 2'!H18:H19) -> 0 | H12: =SUM('Poule 2'!H20:H21) -> 0 | I12: =SUM('Poule 2'!H22:H23) -> 0 | J12: =SUM('Poule 2'!H24:H25) -> 0

Sheet Finale A
B1: FINALE A | G1: Équipe | H1: Points par équipe avant poursuite
B2: Équipe | C2: Prénom NOM | D2: Performance | E2: Place | F2: Points
A3: 50m (filles) | B3: 1 | F3: =IF(E3="","",IF(E3=1,7,IF(E3=2,5,IF(E3=3,4,IF(E3=4,3,IF(E3=5,2,IF(E3=6,1))))))) | G3: 1 | H3: =SUM(F3,F11,F19,F27) -> 0
B4: 2 | F4: =IF(E4="","",IF(E4=1,7,IF(E4=2,5,IF(E4=3,4,IF(E4=4,3,IF(E4=5,2,IF(E4=6,1)))))))
B5: 3 | F5: =IF(E5="","",IF(E5=1,7,IF(E5=2,5,IF(E5=3,4,IF(E5=4,3,IF(E5=5,2,IF(E5=6,1))))))) | G5: 2 | H5: =SUM(F4,F12,F20,F28) -> 0
B6: 4 | F6: =IF(E6="","",IF(E6=1,7,IF(E6=2,5,IF(E6=3,4,IF(E6=4,3,IF(E6=5,2,IF(E6=6,1)))))))
B7: 5 | F7: =IF(E7="","",IF(E7=1,7,IF(E7=2,5,IF(E7=3,4,IF(E7=4,3,IF(E7=5,2,IF(E7=6,1))))))) | G7: 3 | H7: =SUM(F5,F13,F21,F29) -> 0
B8: 6 | F8: =IF(E8="","",IF(E8=1,7,IF(E8=2,5,IF(E8=3,4,IF(E8=4,3,IF(E8=5,2,IF(E8=6,1)))))))
B9: 7 | F9: =IF(E9="","",IF(E9=1,7,IF(E9=2,5,IF(E9=3,4,IF(E9=4,3,IF(E9=5,2,IF(E9=6,1))))))) | G9: 4 | H9: =SUM(F6,F14,F22,F30) -> 0
B10: 8 | F10: =IF(E10="","",IF(E10=1,7,IF(E10=2,5,IF(E10=3,4,IF(E10=4,3,IF(E10=5,2,IF(E10=6,1)))))))
A11: 50m haies (garçons) | B11: 1 | F11: =IF(E11="","",IF(E11=1,7,IF(E11=2,5,IF(E11=3,4,IF(E11=4,3,IF(E11=5,2,IF(E11=6,1))))))) | G11: 5 | H11: =SUM(F7,F15,F23,F31) -> 0
B12: 2 | F12: =IF(E12="","",IF(E12=1,7,IF(E12=2,5,IF(E12=3,4,IF(E12=4,3,IF(E12=5,2,IF(E12=6,1)))))))
B13: 3 | F13: =IF(E13="","",IF(E13=1,7,IF(E13=2,5,IF(E13=3,4,IF(E13=4,3,IF(E13=5,2,IF(E13=6,1))))))) | G13: 6 | H13: =SUM(F8,F16,F24,F32) -> 0
B14: 4 | F14: =IF(E14="","",IF(E14=1,7,IF(E14=2,5,IF(E14=3,4,IF(E14=4,3,IF(E14=5,2,IF(E14=6,1)))))))
B15: 5 | F15: =IF(E15="","",IF(E15=1,7,IF(E15=2,5,IF(E15=3,4,IF(E15=4,3,IF(E15=5,2,IF(E15=6,1))))))) | G15: 7 | H15: =SUM(F9,F17,F25,F33) -> 0
B16: 6 | F16: =IF(E16="","",IF(E16=1,7,IF(E16=2,5,IF(E16=3,4,IF(E16=4,3,IF(E16=5,2,IF(E16=6,1)))))))
B17: 7 | F17: =IF(E17="","",IF(E17=1,7,IF(E17=2,5,IF(E17=3,4,IF(E17=4,3,IF(E17=5,2,IF(E17=6,1))))))) | G17: 8 | H17: =SUM(F10,F18,F26,F34) -> 0
B18: 8 | F18: =IF(E18="","",IF(E18=1,7,IF(E18=2,5,IF(E18=3,4,IF(E18=4,3,IF(E18=5,2,IF(E18=6,1)))))))
A19: Longueur (filles) | B19: 1 | F19: =IF(E19="","",IF(E19=1,7,IF(E19=2,5,IF(E19=3,4,IF(E19=4,3,IF(E19=5,2,IF(E19=6,1)))))))
B20: 2 | F20: =IF(E20="","",IF(E20=1,7,IF(E20=2,5,IF(E20=3,4,IF(E20=4,3,IF(E20=5,2,IF(E20=6,1)))))))
B21: 3 | F21: =IF(E21="","",IF(E21=1,7,IF(E21=2,5,IF(E21=3,4,IF(E21=4,3,IF(E21=5,2,IF(E21=6,1)))))))
B22: 4 | F22: =IF(E22="","",IF(E22=1,7,IF(E22=2,5,IF(E22=3,4,IF(E22=4,3,IF(E22=5,2,IF(E22=6,1)))))))
B23: 5 | F23: =IF(E23="","",IF(E23=1,7,IF(E23=2,5,IF(E23=3,4,IF(E23=4,3,IF(E23=5,2,IF(E23=6,1)))))))
B24: 6 | F24: =IF(E24="","",IF(E24=1,7,IF(E24=2,5,IF(E24=3,4,IF(E24=4,3,IF(E24=5,2,IF(E24=6,1)))))))
B25: 7 | F25: =IF(E25="","",IF(E25=1,7,IF(E25=2,5,IF(E25=3,4,IF(E25=4,3,IF(E25=5,2,IF(E25=6,1)))))))
B26: 8 | F26: =IF(E26="","",IF(E26=1,7,IF(E26=2,5,IF(E26=3,4,IF(E26=4,3,IF(E26=5,2,IF(E26=6,1)))))))
A27: Poids (garçons) | B27: 1 | F27: =IF(E27="","",IF(E27=1,7,IF(E27=2,5,IF(E27=3,4,IF(E27=4,3,IF(E27=5,2,IF(E27=6,1)))))))
B28: 2 | F28: =IF(E28="","",IF(E28=1,7,IF(E28=2,5,IF(E28=3,4,IF(E28=4,3,IF(E28=5,2,IF(E28=6,1)))))))
B29: 3 | F29: =IF(E29="","",IF(E29=1,7,IF(E29=2,5,IF(E29=3,4,IF(E29=4,3,IF(E29=5,2,IF(E29=6,1)))))))
B30: 4 | F30: =IF(E30="","",IF(E30=1,7,IF(E30=2,5,IF(E30=3,4,IF(E30=4,3,IF(E30=5,2,IF(E30=6,1)))))))
B31: 5 | F31: =IF(E31="","",IF(E31=1,7,IF(E31=2,5,IF(E31=3,4,IF(E31=4,3,IF(E31=5,2,IF(E31=6,1)))))))
B32: 6 | F32: =IF(E32="","",IF(E32=1,7,IF(E32=2,5,IF(E32=3,4,IF(E32=4,3,IF(E32=5,2,IF(E32=6,1)))))))
B33: 7 | F33: =IF(E33="","",IF(E33=1,7,IF(E33=2,5,IF(E33=3,4,IF(E33=4,3,IF(E33=5,2,IF(E33=6,1)))))))
B34: 8 | F34: =IF(E34="","",IF(E34=1,7,IF(E34=2,5,IF(E34=3,4,IF(E34=4,3,IF(E34=5,2,IF(E34=6,1)))))))
A35: Poursuite | B35: Ordre de départ : | E35: Classement de la finale A :

Sheet Finale B
B1: FINALE B | G1: Équipe | H1: Points par équipe avant poursuite
B2: Équipe | C2: Prénom NOM | D2: Performance | E2: Place | F2: Points
A3: 50m (filles) | B3: 7 | F3: =IF(E3="","",IF(E3=1,7,IF(E3=2,5,IF(E3=3,4,IF(E3=4,3,IF(E3=5,2,IF(E3=6,1))))))) | G3: 7 | H3: =SUM(F3,F11,F19,F27) -> 0
B4: 8 | F4: =IF(E4="","",IF(E4=1,7,IF(E4=2,5,IF(E4=3,4,IF(E4=4,3,IF(E4=5,2,IF(E4=6,1)))))))
B5: 9 | F5: =IF(E5="","",IF(E5=1,7,IF(E5=2,5,IF(E5=3,4,IF(E5=4,3,IF(E5=5,2,IF(E5=6,1))))))) | G5: 8 | H5: =SUM(F4,F12,F20,F28) -> 0
B6: 10 | F6: =IF(E6="","",IF(E6=1,7,IF(E6=2,5,IF(E6=3,4,IF(E6=4,3,IF(E6=5,2,IF(E6=6,1)))))))
B7: 11 | F7: =IF(E7="","",IF(E7=1,7,IF(E7=2,5,IF(E7=3,4,IF(E7=4,3,IF(E7=5,2,IF(E7=6,1))))))) | G7: 9 | H7: =SUM(F5,F13,F21,F29) -> 0
B8: 12 | F8: =IF(E8="","",IF(E8=1,7,IF(E8=2,5,IF(E8=3,4,IF(E8=4,3,IF(E8=5,2,IF(E8=6,1)))))))
B9: 13 | F9: =IF(E9="","",IF(E9=1,7,IF(E9=2,5,IF(E9=3,4,IF(E9=4,3,IF(E9=5,2,IF(E9=6,1))))))) | G9: 10 | H9: =SUM(F6,F14,F22,F30) -> 0
B10: 14 | F10: =IF(E10="","",IF(E10=1,7,IF(E10=2,5,IF(E10=3,4,IF(E10=4,3,IF(E10=5,2,IF(E10=6,1)))))))
A11: 50m haies (garçons) | B11: 7 | F11: =IF(E11="","",IF(E11=1,7,IF(E11=2,5,IF(E11=3,4,IF(E11=4,3,IF(E11=5,2,IF(E11=6,1))))))) | G11: 11 | H11: =SUM(F7,F15,F23,F31) -> 0
B12: 8 | F12: =IF(E12="","",IF(E12=1,7,IF(E12=2,5,IF(E12=3,4,IF(E12=4,3,IF(E12=5,2,IF(E12=6,1)))))))
B13: 9 | F13: =IF(E13="","",IF(E13=1,7,IF(E13=2,5,IF(E13=3,4,IF(E13=4,3,IF(E13=5,2,IF(E13=6,1))))))) | G13: 12 | H13: =SUM(F8,F16,F24,F32) -> 0
B14: 10 | F14: =IF(E14="","",IF(E14=1,7,IF(E14=2,5,IF(E14=3,4,IF(E14=4,3,IF(E14=5,2,IF(E14=6,1)))))))
B15: 11 | F15: =IF(E15="","",IF(E15=1,7,IF(E15=2,5,IF(E15=3,4,IF(E15=4,3,IF(E15=5,2,IF(E15=6,1))))))) | G15: 13 | H15: =SUM(F9,F17,F25,F33) -> 0
B16: 12 | F16: =IF(E16="","",IF(E16=1,7,IF(E16=2,5,IF(E16=3,4,IF(E16=4,3,IF(E16=5,2,IF(E16=6,1)))))))
B17: 13 | F17: =IF(E17="","",IF(E17=1,7,IF(E17=2,5,IF(E17=3,4,IF(E17=4,3,IF(E17=5,2,IF(E17=6,1))))))) | G17: 14 | H17: =SUM(F10,F18,F26,F34) -> 0
B18: 14 | F18: =IF(E18="","",IF(E18=1,7,IF(E18=2,5,IF(E18=3,4,IF(E18=4,3,IF(E18=5,2,IF(E18=6,1)))))))
A19: Longueur (filles) | B19: 7 | F19: =IF(E19="","",IF(E19=1,7,IF(E19=2,5,IF(E19=3,4,IF(E19=4,3,IF(E19=5,2,IF(E19=6,1)))))))
B20: 8 | F20: =IF(E20="","",IF(E20=1,7,IF(E20=2,5,IF(E20=3,4,IF(E20=4,3,IF(E20=5,2,IF(E20=6,1)))))))
B21: 9 | F21: =IF(E21="","",IF(E21=1,7,IF(E21=2,5,IF(E21=3,4,IF(E21=4,3,IF(E21=5,2,IF(E21=6,1)))))))
B22: 10 | F22: =IF(E22="","",IF(E22=1,7,IF(E22=2,5,IF(E22=3,4,IF(E22=4,3,IF(E22=5,2,IF(E22=6,1)))))))
B23: 11 | F23: =IF(E23="","",IF(E23=1,7,IF(E23=2,5,IF(E23=3,4,IF(E23=4,3,IF(E23=5,2,IF(E23=6,1)))))))
B24: 12 | F24: =IF(E24="","",IF(E24=1,7,IF(E24=2,5,IF(E24=3,4,IF(E24=4,3,IF(E24=5,2,IF(E24=6,1)))))))
B25: 13 | F25: =IF(E25="","",IF(E25=1,7,IF(E25=2,5,IF(E25=3,4,IF(E25=4,3,IF(E25=5,2,IF(E25=6,1)))))))
B26: 14 | F26: =IF(E26="","",IF(E26=1,7,IF(E26=2,5,IF(E26=3,4,IF(E26=4,3,IF(E26=5,2,IF(E26=6,1)))))))
A27: Poids (garçons) | B27: 7 | F27: =IF(E27="","",IF(E27=1,7,IF(E27=2,5,IF(E27=3,4,IF(E27=4,3,IF(E27=5,2,IF(E27=6,1)))))))
B28: 8 | F28: =IF(E28="","",IF(E28=1,7,IF(E28=2,5,IF(E28=3,4,IF(E28=4,3,IF(E28=5,2,IF(E28=6,1)))))))
B29: 9 | F29: =IF(E29="","",IF(E29=1,7,IF(E29=2,5,IF(E29=3,4,IF(E29=4,3,IF(E29=5,2,IF(E29=6,1)))))))
B30: 10 | F30: =IF(E30="","",IF(E30=1,7,IF(E30=2,5,IF(E30=3,4,IF(E30=4,3,IF(E30=5,2,IF(E30=6,1)))))))
B31: 11 | F31: =IF(E31="","",IF(E31=1,7,IF(E31=2,5,IF(E31=3,4,IF(E31=4,3,IF(E31=5,2,IF(E31=6,1)))))))
B32: 12 | F32: =IF(E32="","",IF(E32=1,7,IF(E32=2,5,IF(E32=3,4,IF(E32=4,3,IF(E32=5,2,IF(E32=6,1)))))))
B33: 13 | F33: =IF(E33="","",IF(E33=1,7,IF(E33=2,5,IF(E33=3,4,IF(E33=4,3,IF(E33=5,2,IF(E33=6,1)))))))
B34: 14 | F34: =IF(E34="","",IF(E34=1,7,IF(E34=2,5,IF(E34=3,4,IF(E34=4,3,IF(E34=5,2,IF(E34=6,1)))))))
A35: Poursuite | B35: Ordre de départ : | E35: Classement de la finale B :

Sheet Classement finales
A2: Finale A | B2: Equipes | C2: 1 | D2: 2 | E2: 3 | F2: 4 | G2: 5 | H2: 6 | I2: 7 | J2: 8
B5: Points
A9: Finale B | B9: Equipes | C9: 6 | D9: 7 | E9: 8 | F9: 9 | G9: 10 | H9: 11 | I9: 12 | J9: 13
B12: Points
A27: Finale 1 | B27: Place | C27: 1er | D27: 2ème | E27: 3ème | F27: 4ème | G27: 5ème
B30: Equipes
A34: Finale 2 | B34: Place | C34: 6ème | D34: 7ème | E34: 8ème | F34: 9ème | G34: 10ème
B37: Equipes
