Workbook
Name F: BE!$U$10:$U$21
Name M: BE!$V$10:$V$21

Sheet BE
A1: Equip'Athlé
A2: Equipe Benjamins/Benjamines
B5: Club : | E5: Lieu : | H5: Niveau | N5: Blois | Q5: N1 | R5: N2
N6: Chartres
H7: N° équipe | N7: Gien
A8: JURY (sauf Jeune Juge)
A9: N° licence | B9: NOM | C9: Prénom | D9: Sexe | E9: Qualification | U9: FEMININ | V9: MASCULIN
B10: =IF(A10="","",VLOOKUP(A10,Licenciés!A:B,2,FALSE)) | C10: =IF(A10="","",VLOOKUP(A10,Licenciés!A:C,3,FALSE)) | D10: =IF(A10="","",VLOOKUP(A10,Licenciés!A:D,4,FALSE)) | N10: Juge Course | P10: =VLOOKUP(C5,P16:Q100,2,FALSE) -> #N/A | U10: 50 m | V10: 50 m
B11: =IF(A11="","",VLOOKUP(A11,Licenciés!A:B,2,FALSE)) | C11: =IF(A11="","",VLOOKUP(A11,Licenciés!A:C,3,FALSE)) | D11: =IF(A11="","",VLOOKUP(A11,Licenciés!A:D,4,FALSE)) | N11: Juge Lancers | U11: 1 000 m | V11: 1 000 m
B12: =IF(A12="","",VLOOKUP(A12,Licenciés!A:B,2,FALSE)) | C12: =IF(A12="","",VLOOKUP(A12,Licenciés!A:C,3,FALSE)) | D12: =IF(A12="","",VLOOKUP(A12,Licenciés!A:D,4,FALSE)) | N12: Juge Sauts | U12: 50 m Haies -0,65 | V12: 50 m Haies -0,65
B13: =IF(A13="","",VLOOKUP(A13,Licenciés!A:B,2,FALSE)) | C13: =IF(A13="","",VLOOKUP(A13,Licenciés!A:C,3,FALSE)) | D13: =IF(A13="","",VLOOKUP(A13,Licenciés!A:D,4,FALSE)) | N13: Starter | U13: Hauteur | V13: Hauteur
C14: =IF(A14="","",VLOOKUP(A14,Licenciés!A:C,3,FALSE)) | D14: =IF(A14="","",VLOOKUP(A14,Licenciés!A:D,4,FALSE)) | N14: Autres | U14: Perche | V14: Perche
I15: Relais | N15: Aucune | U15: Longueur | V15: Longueur
A16: N° licence | B16: NOM | C16: PRENOM | D16: CATEGORIE | E16: SEXE | F16: Epreuve 1 | G16: Epreuve 2 | H16: Epreuve 3 | I16: Equipe | J16: Place | K16: Jeune Juge | P16: EM SAINT-GERMAIN-DU-PUY | Q16: 18007 | U16: Triple-Saut | V16: Triple-Saut | AM16: 50 m | AP16: 1 000 m | AS16: 50 m Haies -0,65 | AV16: Hauteur | AY16: Perche | BB16: Longueur | BE16: Triple-Saut | BH16: Poids 2 kg | BI16: Poids 3 kg | BK16: Disque 0,6 kg | BL16: Disque 1 kg | BN16: Marteau 2 kg | BO16: Marteau 3 kg | BQ16: Javelot 400 g | BR16: Javelot 500 g | BT16: 2 000 m Marche | BX16: 50 m | CA16: 1 000 m | CD16: 50 m Haies -0,65 | CG16: Hauteur | CJ16: Perche | CM16: Longueur | CP16: Triple-Saut | CS16: Poids 2 kg | CT16: Poids 3 kg | CV16: Disque 0,6 kg | CW16: Disque 1 kg | CY16: Marteau 2 kg | CZ16: Marteau 3 kg | DB16: Javelot 400 g | DC16: Javelot 500 g | DE16: 2 000 m Marche
B17: =IF(ISNUMBER(A17),VLOOKUP(A17,Licenciés!A:F,2,FALSE),"") | C17: =IF(B17="","",VLOOKUP(A17,Licenciés!A:F,3,FALSE)) | D17: =IF(B17="","",VLOOKUP(A17,Licenciés!A:F,5,FALSE)) | E17: =IF(B17="","",VLOOKUP(A17,Licenciés!A:F,4,FALSE)) | L17: =VLOOKUP($A17,Licenciés!A:F,6,FALSE) -> #N/A | P17: ASA DU BERRY | Q17: 18029 | U17: Poids 2 kg | V17: Poids 3 kg | W17: =IF(F17<>"",VLOOKUP(F17,$U$33:$V$48,2,FALSE),0) -> 0 | X17: =IF(G17<>"",VLOOKUP(G17,$U$33:$V$48,2,FALSE),0) -> 0 | Y17: =IF(H17<>"",VLOOKUP(H17,$U$33:$V$48,2,FALSE),0) -> 0 | Z17: =W17+X17+Y17 -> 0 | AA17: =OR($Z17=0,$Z17=10,$Z17=1,$Z17=100,$Z17=11,$Z17=101,$Z17=110,$Z17=111) -> TRUE | AB17: =IF(AA17=TRUE,0,1) -> 0 | AE17: RECAPITULATIF | AM17: =IF(AND($E17="F",F17=$AM$16),1,0) -> 0 | AN17: =IF(AND($E17="F",G17=$AM$16),1,0) -> 0 | AO17: =IF(AND($E17="F",H17=$AM$16),1,0) -> 0 | AP17: =IF(AND($E17="F",F17=$AP$16),1,0) -> 0 | AQ17: =IF(AND($E17="F",G17=$AP$16),1,0) -> 0 | AR17: =IF(AND($E17="F",H17=$AP$16),1,0) -> 0 | AS17: =IF(AND($E17="F",F17=$AS$16),1,0) -> 0 | AT17: =IF(AND($E17="F",G17=$AS$16),1,0) -> 0 | AU17: =IF(AND($E17="F",H17=$AS$16),1,0) -> 0 | AV17: =IF(AND($E17="F",F17=$AV$16),1,0) -> 0 | AW17: =IF(AND($E17="F",G17=$AV$16),1,0) -> 0 | AX17: =IF(AND($E17="F",H17=$AV$16),1,0) -> 0 | AY17: =IF(AND($E17="F",F17=$AY$16),1,0) -> 0 | AZ17: =IF(AND($E17="F",G17=$AY$16),1,0) -> 0 | BA17: =IF(AND($E17="F",H17=$AY$16),1,0) -> 0 | BB17: =IF(AND($E17="F",F17=$BB$16),1,0) -> 0 | BC17: =IF(AND($E17="F",G17=$BB$16),1,0) -> 0 | BD17: =IF(AND($E17="F",H17=$BB$16),1,0) -> 0 | BE17: =IF(AND($E17="F",F17=$BE$16),1,0) -> 0 | BF17: =IF(AND($E17="F",G17=$BE$16),1,0) -> 0 | BG17: =IF(AND($E17="F",H17=$BE$16),1,0) -> 0 | BH17: =IF(AND($E17="F",F17=$BH$16),1,0) -> 0 | BI17: =IF(AND($E17="F",G17=$BH$16),1,0) -> 0 | BJ17: =IF(AND($E17="F",H17=$BH$16),1,0) -> 0 | BK17: =IF(AND($E17="F",F17=$BK$16),1,0) -> 0 | BL17: =IF(AND($E17="F",G17=$BK$16),1,0) -> 0 | BM17: =IF(AND($E17="F",H17=$BK$16),1,0) -> 0 | BN17: =IF(AND($E17="F",F17=$BN$16),1,0) -> 0 | BO17: =IF(AND($E17="F",G17=$BN$16),1,0) -> 0 | BP17: =IF(AND($E17="F",H17=$BN$16),1,0) -> 0 | BQ17: =IF(AND($E17="F",F17=$BQ$16),1,0) -> 0 | BR17: =IF(AND($E17="F",G17=$BQ$16),1,0) -> 0 | BS17: =IF(AND($E17="F",H17=$BQ$16),1,0) -> 0 | BT17: =IF(AND($E17="F",F17=$BT$16),1,0) -> 0 | BU17: =IF(AND($E17="F",G17=$BT$16),1,0) -> 0 | BV17: =IF(AND($E17="F",H17=$BT$16),1,0) -> 0 | BX17: =IF(AND($E17="M",F17=$BX$16),1,0) -> 0 | BY17: =IF(AND($E17="M",G17=$BX$16),1,0) -> 0 | BZ17: =IF(AND($E17="M",H17=$BX$16),1,0) -> 0 | CA17: =IF(AND($E17="M",F17=$CA$16),1,0) -> 0 | CB17: =IF(AND($E17="M",G17=$CA$16),1,0) -> 0 | CC17: =IF(AND($E17="M",H17=$CA$16),1,0) -> 0 | CD17: =IF(AND($E17="M",F17=$CD$16),1,0) -> 0 | CE17: =IF(AND($E17="M",G17=$CD$16),1,0) -> 0 | CF17: =IF(AND($E17="M",H17=$CD$16),1,0) -> 0 | CG17: =IF(AND($F17="M",F17=$CG$16),1,0) -> 0 | CH17: =IF(AND($F17="M",G17=$CG$16),1,0) -> 0 | CI17: =IF(AND($F17="M",H17=$CG$16),1,0) -> 0 | CJ17: =IF(AND($E17="M",F17=$CJ$16),1,0) -> 0 | CK17: =IF(AND($E17="M",G17=$CJ$16),1,0) -> 0 | CL17: =IF(AND($E17="M",H17=$CJ$16),1,0) -> 0 | CM17: =IF(AND($E17="M",F17=$CM$16),1,0) -> 0 | CN17: =IF(AND($E17="M",G17=$CM$16),1,0) -> 0 | CO17: =IF(AND($E17="M",H17=$CM$16),1,0) -> 0 | CP17: =IF(AND($E17="M",F17=$CP$16),1,0) -> 0 | CQ17: =IF(AND($E17="M",G17=$CP$16),1,0) -> 0 | CR17: =IF(AND($E17="M",H17=$CP$16),1,0) -> 0 | CS17: =IF(AND($E17="M",F17=$CT$16),1,0) -> 0 | CT17: =IF(AND($E17="M",G17=$CT$16),1,0) -> 0 | CU17: =IF(AND($E17="M",H17=$CT$16),1,0) -> 0 | CV17: =IF(AND($E17="M",F17=$CW$16),1,0) -> 0 | CW17: =IF(AND($E17="M",G17=$CW$16),1,0) -> 0 | CX17: =IF(AND($E17="M",H17=$CW$16),1,0) -> 0 | CY17: =IF(AND($E17="M",F17=$CZ$16),1,0) -> 0 | CZ17: =IF(AND($E17="M",G17=$CZ$16),1,0) -> 0 | DA17: =IF(AND($E17="M",H17=$CZ$16),1,0) -> 0 | DB17: =IF(AND($E17="M",F17=$DC$16),1,0) -> 0 | DC17: =IF(AND($E17="M",G17=$DC$16),1,0) -> 0 | DD17: =IF(AND($E17="M",H17=$DC$16),1,0) -> 0 | DE17: =IF(AND($E17="M",F17=$DE$16),1,0) -> 0 | DF17: =IF(AND($E17="M",G17=$DE$16),1,0) -> 0 | DG17: =IF(AND($E17="M",H17=$DE$16),1,0) -> 0
B18: =IF(ISNUMBER(A18),VLOOKUP(A18,Licenciés!A:F,2,FALSE),"") | C18: =IF(B18="","",VLOOKUP(A18,Licenciés!A:F,3,FALSE)) | D18: =IF(B18="","",VLOOKUP(A18,Licenciés!A:F,5,FALSE)) | E18: =IF(B18="","",VLOOKUP(A18,Licenciés!A:F,4,FALSE)) | L18: =VLOOKUP($A18,Licenciés!A:F,6,FALSE) -> #N/A | P18: AC DE VIGNOUX S/BARANGEON | Q18: 18031 | U18: Disque 0,6 kg | V18: Disque 1 kg | W18: =IF(F18<>"",VLOOKUP(F18,$U$33:$V$48,2,FALSE),0) -> 0 | X18: =IF(G18<>"",VLOOKUP(G18,$U$33:$V$48,2,FALSE),0) -> 0 | Y18: =IF(H18<>"",VLOOKUP(H18,$U$33:$V$48,2,FALSE),0) -> 0 | Z18: =W18+X18+Y18 -> 0 | AA18: =OR($Z18=0,$Z18=10,$Z18=1,$Z18=100,$Z18=11,$Z18=101,$Z18=110,$Z18=111) -> TRUE | AB18: =IF(AA18=TRUE,0,1) -> 0 | AM18: =IF(AND($E18="F",F18=$AM$16),1,0) -> 0 | AN18: =IF(AND($E18="F",G18=$AM$16),1,0) -> 0 | AO18: =IF(AND($E18="F",H18=$AM$16),1,0) -> 0 | AP18: =IF(AND($E18="F",F18=$AP$16),1,0) -> 0 | AQ18: =IF(AND($E18="F",G18=$AP$16),1,0) -> 0 | AR18: =IF(AND($E18="F",H18=$AP$16),1,0) -> 0 | AS18: =IF(AND($E18="F",F18=$AS$16),1,0) -> 0 | AT18: =IF(AND($E18="F",G18=$AS$16),1,0) -> 0 | AU18: =IF(AND($E18="F",H18=$AS$16),1,0) -> 0 | AV18: =IF(AND($E18="F",F18=$AV$16),1,0) -> 0 | AW18: =IF(AND($E18="F",G18=$AV$16),1,0) -> 0 | AX18: =IF(AND($E18="F",H18=$AV$16),1,0) -> 0 | AY18: =IF(AND($E18="F",F18=$AY$16),1,0) -> 0 | AZ18: =IF(AND($E18="F",G18=$AY$16),1,0) -> 0 | BA18: =IF(AND($E18="F",H18=$AY$16),1,0) -> 0 | BB18: =IF(AND($E18="F",F18=$BB$16),1,0) -> 0 | BC18: =IF(AND($E18="F",G18=$BB$16),1,0) -> 0 | BD18: =IF(AND($E18="F",H18=$BB$16),1,0) -> 0 | BE18: =IF(AND($E18="F",F18=$BE$16),1,0) -> 0 | BF18: =IF(AND($E18="F",G18=$BE$16),1,0) -> 0 | BG18: =IF(AND($E18="F",H18=$BE$16),1,0) -> 0 | BH18: =IF(AND($E18="F",F18=$BH$16),1,0) -> 0 | BI18: =IF(AND($E18="F",G18=$BH$16),1,0) -> 0 | BJ18: =IF(AND($E18="F",H18=$BH$16),1,0) -> 0 | BK18: =IF(AND($E18="F",F18=$BK$16),1,0) -> 0 | BL18: =IF(AND($E18="F",G18=$BK$16),1,0) -> 0 | BM18: =IF(AND($E18="F",H18=$BK$16),1,0) -> 0 | BN18: =IF(AND($E18="F",F18=$BN$16),1,0) -> 0 | BO18: =IF(AND($E18="F",G18=$BN$16),1,0) -> 0 | BP18: =IF(AND($E18="F",H18=$BN$16),1,0) -> 0 | BQ18: =IF(AND($E18="F",F18=$BQ$16),1,0) -> 0 | BR18: =IF(AND($E18="F",G18=$BQ$16),1,0) -> 0 | BS18: =IF(AND($E18="F",H18=$BQ$16),1,0) -> 0 | BT18: =IF(AND($E18="F",F18=$BT$16),1,0) -> 0 | BU18: =IF(AND($E18="F",G18=$BT$16),1,0) -> 0 | BV18: =IF(AND($E18="F",H18=$BT$16),1,0) -> 0 | BX18: =IF(AND($E18="M",F18=$BX$16),1,0) -> 0 | BY18: =IF(AND($E18="M",G18=$BX$16),1,0) -> 0 | BZ18: =IF(AND($E18="M",H18=$BX$16),1,0) -> 0 | CA18: =IF(AND($E18="M",F18=$CA$16),1,0) -> 0 | CB18: =IF(AND($E18="M",G18=$CA$16),1,0) -> 0 | CC18: =IF(AND($E18="M",H18=$CA$16),1,0) -> 0 | CD18: =IF(AND($E18="M",F18=$CD$16),1,0) -> 0 | CE18: =IF(AND($E18="M",G18=$CD$16),1,0) -> 0 | CF18: =IF(AND($E18="M",H18=$CD$16),1,0) -> 0 | CG18: =IF(AND($E18="M",F18=$CG$16),1,0) -> 0 | CH18: =IF(AND($E18="M",G18=$CG$16),1,0) -> 0 | CI18: =IF(AND($E18="M",H18=$CG$16),1,0) -> 0 | CJ18: =IF(AND($E18="M",F18=$CJ$16),1,0) -> 0 | CK18: =IF(AND($E18="M",G18=$CJ$16),1,0) -> 0 | CL18: =IF(AND($E18="M",H18=$CJ$16),1,0) -> 0 | CM18: =IF(AND($E18="M",F18=$CM$16),1,0) -> 0 | CN18: =IF(AND($E18="M",G18=$CM$16),1,0) -> 0 | CO18: =IF(AND($E18="M",H18=$CM$16),1,0) -> 0 | CP18: =IF(AND($E18="M",F18=$CP$16),1,0) -> 0 | CQ18: =IF(AND($E18="M",G18=$CP$16),1,0) -> 0 | CR18: =IF(AND($E18="M",H18=$CP$16),1,0) -> 0 | CS18: =IF(AND($E18="M",F18=$CT$16),1,0) -> 0 | CT18: =IF(AND($E18="M",G18=$CT$16),1,0) -> 0 | CU18: =IF(AND($E18="M",H18=$CT$16),1,0) -> 0 | CV18: =IF(AND($E18="M",F18=$CW$16),1,0) -> 0 | CW18: =IF(AND($E18="M",G18=$CW$16),1,0) -> 0 | CX18: =IF(AND($E18="M",H18=$CW$16),1,0) -> 0 | CY18: =IF(AND($E18="M",F18=$CZ$16),1,0) -> 0 | CZ18: =IF(AND($E18="M",G18=$CZ$16),1,0) -> 0 | DA18: =IF(AND($E18="M",H18=$CZ$16),1,0) -> 0 | DB18: =IF(AND($E18="M",F18=$DC$16),1,0) -> 0 | DC18: =IF(AND($E18="M",G18=$DC$16),1,0) -> 0 | DD18: =IF(AND($E18="M",H18=$DC$16),1,0) -> 0 | DE18: =IF(AND($E18="M",F18=$DE$16),1,0) -> 0 | DF18: =IF(AND($E18="M",G18=$DE$16),1,0) -> 0 | DG18: =IF(AND($E18="M",H18=$DE$16),1,0) -> 0
B19: =IF(ISNUMBER(A19),VLOOKUP(A19,Licenciés!A:F,2,FALSE),"") | C19: =IF(B19="","",VLOOKUP(A19,Licenciés!A:F,3,FALSE)) | D19: =IF(B19="","",VLOOKUP(A19,Licenciés!A:F,5,FALSE)) | E19: =IF(B19="","",VLOOKUP(A19,Licenciés!A:F,4,FALSE)) | L19: =VLOOKUP($A19,Licenciés!A:F,6,FALSE) -> #N/A | P19: UNION SPORTIVE D AVORD* | Q19: 18032 | U19: Marteau 2 kg | V19: Marteau 3 kg | W19: =IF(F19<>"",VLOOKUP(F19,$U$33:$V$48,2,FALSE),0) -> 0 | X19: =IF(G19<>"",VLOOKUP(G19,$U$33:$V$48,2,FALSE),0) -> 0 | Y19: =IF(H19<>"",VLOOKUP(H19,$U$33:$V$48,2,FALSE),0) -> 0 | Z19: =W19+X19+Y19 -> 0 | AA19: =OR($Z19=0,$Z19=10,$Z19=1,$Z19=100,$Z19=11,$Z19=101,$Z19=110,$Z19=111) -> TRUE | AB19: =IF(AA19=TRUE,0,1) -> 0 | AE19: Famille | AF19: Epreuves | AG19: Nombre d'athlétes | AI19: N1 | AJ19: N2 | AM19: =IF(AND($E19="F",F19=$AM$16),1,0) -> 0 | AN19: =IF(AND($E19="F",G19=$AM$16),1,0) -> 0 | AO19: =IF(AND($E19="F",H19=$AM$16),1,0) -> 0 | AP19: =IF(AND($E19="F",F19=$AP$16),1,0) -> 0 | AQ19: =IF(AND($E19="F",G19=$AP$16),1,0) -> 0 | AR19: =IF(AND($E19="F",H19=$AP$16),1,0) -> 0 | AS19: =IF(AND($E19="F",F19=$AS$16),1,0) -> 0 | AT19: =IF(AND($E19="F",G19=$AS$16),1,0) -> 0 | AU19: =IF(AND($E19="F",H19=$AS$16),1,0) -> 0 | AV19: =IF(AND($E19="F",F19=$AV$16),1,0) -> 0 | AW19: =IF(AND($E19="F",G19=$AV$16),1,0) -> 0 | AX19: =IF(AND($E19="F",H19=$AV$16),1,0) -> 0 | AY19: =IF(AND($E19="F",F19=$AY$16),1,0) -> 0 | AZ19: =IF(AND($E19="F",G19=$AY$16),1,0) -> 0 | BA19: =IF(AND($E19="F",H19=$AY$16),1,0) -> 0 | BB19: =IF(AND($E19="F",F19=$BB$16),1,0) -> 0 | BC19: =IF(AND($E19="F",G19=$BB$16),1,0) -> 0 | BD19: =IF(AND($E19="F",H19=$BB$16),1,0) -> 0 | BE19: =IF(AND($E19="F",F19=$BE$16),1,0) -> 0 | BF19: =IF(AND($E19="F",G19=$BE$16),1,0) -> 0 | BG19: =IF(AND($E19="F",H19=$BE$16),1,0) -> 0 | BH19: =IF(AND($E19="F",F19=$BH$16),1,0) -> 0 | BI19: =IF(AND($E19="F",G19=$BH$16),1,0) -> 0 | BJ19: =IF(AND($E19="F",H19=$BH$16),1,0) -> 0 | BK19: =IF(AND($E19="F",F19=$BK$16),1,0) -> 0 | BL19: =IF(AND($E19="F",G19=$BK$16),1,0) -> 0 | BM19: =IF(AND($E19="F",H19=$BK$16),1,0) -> 0 | BN19: =IF(AND($E19="F",F19=$BN$16),1,0) -> 0 | BO19: =IF(AND($E19="F",G19=$BN$16),1,0) -> 0 | BP19: =IF(AND($E19="F",H19=$BN$16),1,0) -> 0 | BQ19: =IF(AND($E19="F",F19=$BQ$16),1,0) -> 0 | BR19: =IF(AND($E19="F",G19=$BQ$16),1,0) -> 0 | BS19: =IF(AND($E19="F",H19=$BQ$16),1,0) -> 0 | BT19: =IF(AND($E19="F",F19=$BT$16),1,0) -> 0 | BU19: =IF(AND($E19="F",G19=$BT$16),1,0) -> 0 | BV19: =IF(AND($E19="F",H19=$BT$16),1,0) -> 0 | BX19: =IF(AND($E19="M",F19=$BX$16),1,0) -> 0 | BY19: =IF(AND($E19="M",G19=$BX$16),1,0) -> 0 | BZ19: =IF(AND($E19="M",H19=$BX$16),1,0) -> 0 | CA19: =IF(AND($E19="M",F19=$CA$16),1,0) -> 0 | CB19: =IF(AND($E19="M",G19=$CA$16),1,0) -> 0 | CC19: =IF(AND($E19="M",H19=$CA$16),1,0) -> 0 | CD19: =IF(AND($E19="M",F19=$CD$16),1,0) -> 0 | CE19: =IF(AND($E19="M",G19=$CD$16),1,0) -> 0 | CF19: =IF(AND($E19="M",H19=$CD$16),1,0) -> 0 | CG19: =IF(AND($E19="M",F19=$CG$16),1,0) -> 0 | CH19: =IF(AND($E19="M",G19=$CG$16),1,0) -> 0 | CI19: =IF(AND($E19="M",H19=$CG$16),1,0) -> 0 | CJ19: =IF(AND($E19="M",F19=$CJ$16),1,0) -> 0 | CK19: =IF(AND($E19="M",G19=$CJ$16),1,0) -> 0 | CL19: =IF(AND($E19="M",H19=$CJ$16),1,0) -> 0 | CM19: =IF(AND($E19="M",F19=$CM$16),1,0) -> 0 | CN19: =IF(AND($E19="M",G19=$CM$16),1,0) -> 0 | CO19: =IF(AND($E19="M",H19=$CM$16),1,0) -> 0 | CP19: =IF(AND($E19="M",F19=$CP$16),1,0) -> 0 | CQ19: =IF(AND($E19="M",G19=$CP$16),1,0) -> 0 | CR19: =IF(AND($E19="M",H19=$CP$16),1,0) -> 0 | CS19: =IF(AND($E19="M",F19=$CT$16),1,0) -> 0 | CT19: =IF(AND($E19="M",G19=$CT$16),1,0) -> 0 | CU19: =IF(AND($E19="M",H19=$CT$16),1,0) -> 0 | CV19: =IF(AND($E19="M",F19=$CW$16),1,0) -> 0 | CW19: =IF(AND($E19="M",G19=$CW$16),1,0) -> 0 | CX19: =IF(AND($E19="M",H19=$CW$16),1,0) -> 0 | CY19: =IF(AND($E19="M",F19=$CZ$16),1,0) -> 0 | CZ19: =IF(AND($E19="M",G19=$CZ$16),1,0) -> 0 | DA19: =IF(AND($E19="M",H19=$CZ$16),1,0) -> 0 | DB19: =IF(AND($E19="M",F19=$DC$16),1,0) -> 0 | DC19: =IF(AND($E19="M",G19=$DC$16),1,0) -> 0 | DD19: =IF(AND($E19="M",H19=$DC$16),1,0) -> 0 | DE19: =IF(AND($E19="M",F19=$DE$16),1,0) -> 0 | DF19: =IF(AND($E19="M",G19=$DE$16),1,0) -> 0 | DG19: =IF(AND($E19="M",H19=$DE$16),1,0) -> 0
B20: =IF(ISNUMBER(A20),VLOOKUP(A20,Licenciés!A:F,2,FALSE),"") | C20: =IF(B20="","",VLOOKUP(A20,Licenciés!A:F,3,FALSE)) | D20: =IF(B20="","",VLOOKUP(A20,Licenciés!A:F,5,FALSE)) | E20: =IF(B20="","",VLOOKUP(A20,Licenciés!A:F,4,FALSE)) | L20: =VLOOKUP($A20,Licenciés!A:F,6,FALSE) -> #N/A | P20: SAINT-AMAND-MONTROND BOISCHAUT | Q20: 18033 | U20: Javelot 400 g | V20: Javelot 500 g | W20: =IF(F20<>"",VLOOKUP(F20,$U$33:$V$48,2,FALSE),0) -> 0 | X20: =IF(G20<>"",VLOOKUP(G20,$U$33:$V$48,2,FALSE),0) -> 0 | Y20: =IF(H20<>"",VLOOKUP(H20,$U$33:$V$48,2,FALSE),0) -> 0 | Z20: =W20+X20+Y20 -> 0 | AA20: =OR($Z20=0,$Z20=10,$Z20=1,$Z20=100,$Z20=11,$Z20=101,$Z20=110,$Z20=111) -> TRUE | AB20: =IF(AA20=TRUE,0,1) -> 0 | AG20: F | AH20: M | AM20: =IF(AND($E20="F",F20=$AM$16),1,0) -> 0 | AN20: =IF(AND($E20="F",G20=$AM$16),1,0) -> 0 | AO20: =IF(AND($E20="F",H20=$AM$16),1,0) -> 0 | AP20: =IF(AND($E20="F",F20=$AP$16),1,0) -> 0 | AQ20: =IF(AND($E20="F",G20=$AP$16),1,0) -> 0 | AR20: =IF(AND($E20="F",H20=$AP$16),1,0) -> 0 | AS20: =IF(AND($E20="F",F20=$AS$16),1,0) -> 0 | AT20: =IF(AND($E20="F",G20=$AS$16),1,0) -> 0 | AU20: =IF(AND($E20="F",H20=$AS$16),1,0) -> 0 | AV20: =IF(AND($E20="F",F20=$AV$16),1,0) -> 0 | AW20: =IF(AND($E20="F",G20=$AV$16),1,0) -> 0 | AX20: =IF(AND($E20="F",H20=$AV$16),1,0) -> 0 | AY20: =IF(AND($E20="F",F20=$AY$16),1,0) -> 0 | AZ20: =IF(AND($E20="F",G20=$AY$16),1,0) -> 0 | BA20: =IF(AND($E20="F",H20=$AY$16),1,0) -> 0 | BB20: =IF(AND($E20="F",F20=$BB$16),1,0) -> 0 | BC20: =IF(AND($E20="F",G20=$BB$16),1,0) -> 0 | BD20: =IF(AND($E20="F",H20=$BB$16),1,0) -> 0 | BE20: =IF(AND($E20="F",F20=$BE$16),1,0) -> 0 | BF20: =IF(AND($E20="F",G20=$BE$16),1,0) -> 0 | BG20: =IF(AND($E20="F",H20=$BE$16),1,0) -> 0 | BH20: =IF(AND($E20="F",F20=$BH$16),1,0) -> 0 | BI20: =IF(AND($E20="F",G20=$BH$16),1,0) -> 0 | BJ20: =IF(AND($E20="F",H20=$BH$16),1,0) -> 0 | BK20: =IF(AND($E20="F",F20=$BK$16),1,0) -> 0 | BL20: =IF(AND($E20="F",G20=$BK$16),1,0) -> 0 | BM20: =IF(AND($E20="F",H20=$BK$16),1,0) -> 0 | BN20: =IF(AND($E20="F",F20=$BN$16),1,0) -> 0 | BO20: =IF(AND($E20="F",G20=$BN$16),1,0) -> 0 | BP20: =IF(AND($E20="F",H20=$BN$16),1,0) -> 0 | BQ20: =IF(AND($E20="F",F20=$BQ$16),1,0) -> 0 | BR20: =IF(AND($E20="F",G20=$BQ$16),1,0) -> 0 | BS20: =IF(AND($E20="F",H20=$BQ$16),1,0) -> 0 | BT20: =IF(AND($E20="F",F20=$BT$16),1,0) -> 0 | BU20: =IF(AND($E20="F",G20=$BT$16),1,0) -> 0 | BV20: =IF(AND($E20="F",H20=$BT$16),1,0) -> 0 | BX20: =IF(AND($E20="M",F20=$BX$16),1,0) -> 0 | BY20: =IF(AND($E20="M",G20=$BX$16),1,0) -> 0 | BZ20: =IF(AND($E20="M",H20=$BX$16),1,0) -> 0 | CA20: =IF(AND($E20="M",F20=$CA$16),1,0) -> 0 | CB20: =IF(AND($E20="M",G20=$CA$16),1,0) -> 0 | CC20: =IF(AND($E20="M",H20=$CA$16),1,0) -> 0 | CD20: =IF(AND($E20="M",F20=$CD$16),1,0) -> 0 | CE20: =IF(AND($E20="M",G20=$CD$16),1,0) -> 0 | CF20: =IF(AND($E20="M",H20=$CD$16),1,0) -> 0 | CG20: =IF(AND($E20="M",F20=$CG$16),1,0) -> 0 | CH20: =IF(AND($E20="M",G20=$CG$16),1,0) -> 0 | CI20: =IF(AND($E20="M",H20=$CG$16),1,0) -> 0 | CJ20: =IF(AND($E20="M",F20=$CJ$16),1,0) -> 0 | CK20: =IF(AND($E20="M",G20=$CJ$16),1,0) -> 0 | CL20: =IF(AND($E20="M",H20=$CJ$16),1,0) -> 0 | CM20: =IF(AND($E20="M",F20=$CM$16),1,0) -> 0 | CN20: =IF(AND($E20="M",G20=$CM$16),1,0) -> 0 | CO20: =IF(AND($E20="M",H20=$CM$16),1,0) -> 0 | CP20: =IF(AND($E20="M",F20=$CP$16),1,0) -> 0 | CQ20: =IF(AND($E20="M",G20=$CP$16),1,0) -> 0 | CR20: =IF(AND($E20="M",H20=$CP$16),1,0) -> 0 | CS20: =IF(AND($E20="M",F20=$CT$16),1,0) -> 0 | CT20: =IF(AND($E20="M",G20=$CT$16),1,0) -> 0 | CU20: =IF(AND($E20="M",H20=$CT$16),1,0) -> 0 | CV20: =IF(AND($E20="M",F20=$CW$16),1,0) -> 0 | CW20: =IF(AND($E20="M",G20=$CW$16),1,0) -> 0 | CX20: =IF(AND($E20="M",H20=$CW$16),1,0) -> 0 | CY20: =IF(AND($E20="M",F20=$CZ$16),1,0) -> 0 | CZ20: =IF(AND($E20="M",G20=$CZ$16),1,0) -> 0 | DA20: =IF(AND($E20="M",H20=$CZ$16),1,0) -> 0 | DB20: =IF(AND($E20="M",F20=$DC$16),1,0) -> 0 | DC20: =IF(AND($E20="M",G20=$DC$16),1,0) -> 0 | DD20: =IF(AND($E20="M",H20=$DC$16),1,0) -> 0 | DE20: =IF(AND($E20="M",F20=$DE$16),1,0) -> 0 | DF20: =IF(AND($E20="M",G20=$DE$16),1,0) -> 0 | DG20: =IF(AND($E20="M",H20=$DE$16),1,0) -> 0
B21: =IF(ISNUMBER(A21),VLOOKUP(A21,Licenciés!A:F,2,FALSE),"") | C21: =IF(B21="","",VLOOKUP(A21,Licenciés!A:F,3,FALSE)) | D21: =IF(B21="","",VLOOKUP(A21,Licenciés!A:F,5,FALSE)) | E21: =IF(B21="","",VLOOKUP(A21,Licenciés!A:F,4,FALSE)) | L21: =VLOOKUP($A21,Licenciés!A:F,6,FALSE) -> #N/A | P21: SANCERRE RUNNING | Q21: 18036 | U21: 2 000 m Marche | V21: 2 000 m Marche | W21: =IF(F21<>"",VLOOKUP(F21,$U$33:$V$48,2,FALSE),0) -> 0 | X21: =IF(G21<>"",VLOOKUP(G21,$U$33:$V$48,2,FALSE),0) -> 0 | Y21: =IF(H21<>"",VLOOKUP(H21,$U$33:$V$48,2,FALSE),0) -> 0 | Z21: =W21+X21+Y21 -> 0 | AA21: =OR($Z21=0,$Z21=10,$Z21=1,$Z21=100,$Z21=11,$Z21=101,$Z21=110,$Z21=111) -> TRUE | AB21: =IF(AA21=TRUE,0,1) -> 0 | AE21: Courses | AF21: 50 m | AG21: =AM61 -> 0 | AH21: =BX61 -> 0 | AI21: 1 | AJ21: 3 | AM21: =IF(AND($E21="F",F21=$AM$16),1,0) -> 0 | AN21: =IF(AND($E21="F",G21=$AM$16),1,0) -> 0 | AO21: =IF(AND($E21="F",H21=$AM$16),1,0) -> 0 | AP21: =IF(AND($E21="F",F21=$AP$16),1,0) -> 0 | AQ21: =IF(AND($E21="F",G21=$AP$16),1,0) -> 0 | AR21: =IF(AND($E21="F",H21=$AP$16),1,0) -> 0 | AS21: =IF(AND($E21="F",F21=$AS$16),1,0) -> 0 | AT21: =IF(AND($E21="F",G21=$AS$16),1,0) -> 0 | AU21: =IF(AND($E21="F",H21=$AS$16),1,0) -> 0 | AV21: =IF(AND($E21="F",F21=$AV$16),1,0) -> 0 | AW21: =IF(AND($E21="F",G21=$AV$16),1,0) -> 0 | AX21: =IF(AND($E21="F",H21=$AV$16),1,0) -> 0 | AY21: =IF(AND($E21="F",F21=$AY$16),1,0) -> 0 | AZ21: =IF(AND($E21="F",G21=$AY$16),1,0) -> 0 | BA21: =IF(AND($E21="F",H21=$AY$16),1,0) -> 0 | BB21: =IF(AND($E21="F",F21=$BB$16),1,0) -> 0 | BC21: =IF(AND($E21="F",G21=$BB$16),1,0) -> 0 | BD21: =IF(AND($E21="F",H21=$BB$16),1,0) -> 0 | BE21: =IF(AND($E21="F",F21=$BE$16),1,0) -> 0 | BF21: =IF(AND($E21="F",G21=$BE$16),1,0) -> 0 | BG21: =IF(AND($E21="F",H21=$BE$16),1,0) -> 0 | BH21: =IF(AND($E21="F",F21=$BH$16),1,0) -> 0 | BI21: =IF(AND($E21="F",G21=$BH$16),1,0) -> 0 | BJ21: =IF(AND($E21="F",H21=$BH$16),1,0) -> 0 | BK21: =IF(AND($E21="F",F21=$BK$16),1,0) -> 0 | BL21: =IF(AND($E21="F",G21=$BK$16),1,0) -> 0 | BM21: =IF(AND($E21="F",H21=$BK$16),1,0) -> 0 | BN21: =IF(AND($E21="F",F21=$BN$16),1,0) -> 0 | BO21: =IF(AND($E21="F",G21=$BN$16),1,0) -> 0 | BP21: =IF(AND($E21="F",H21=$BN$16),1,0) -> 0 | BQ21: =IF(AND($E21="F",F21=$BQ$16),1,0) -> 0 | BR21: =IF(AND($E21="F",G21=$BQ$16),1,0) -> 0 | BS21: =IF(AND($E21="F",H21=$BQ$16),1,0) -> 0 | BT21: =IF(AND($E21="F",F21=$BT$16),1,0) -> 0 | BU21: =IF(AND($E21="F",G21=$BT$16),1,0) -> 0 | BV21: =IF(AND($E21="F",H21=$BT$16),1,0) -> 0 | BX21: =IF(AND($E21="M",F21=$BX$16),1,0) -> 0 | BY21: =IF(AND($E21="M",G21=$BX$16),1,0) -> 0 | BZ21: =IF(AND($E21="M",H21=$BX$16),1,0) -> 0 | CA21: =IF(AND($E21="M",F21=$CA$16),1,0) -> 0 | CB21: =IF(AND($E21="M",G21=$CA$16),1,0) -> 0 | CC21: =IF(AND($E21="M",H21=$CA$16),1,0) -> 0 | CD21: =IF(AND($E21="M",F21=$CD$16),1,0) -> 0 | CE21: =IF(AND($E21="M",G21=$CD$16),1,0) -> 0 | CF21: =IF(AND($E21="M",H21=$CD$16),1,0) -> 0 | CG21: =IF(AND($E21="M",F21=$CG$16),1,0) -> 0 | CH21: =IF(AND($E21="M",G21=$CG$16),1,0) -> 0 | CI21: =IF(AND($E21="M",H21=$CG$16),1,0) -> 0 | CJ21: =IF(AND($E21="M",F21=$CJ$16),1,0) -> 0 | CK21: =IF(AND($E21="M",G21=$CJ$16),1,0) -> 0 | CL21: =IF(AND($E21="M",H21=$CJ$16),1,0) -> 0 | CM21: =IF(AND($E21="M",F21=$CM$16),1,0) -> 0 | CN21: =IF(AND($E21="M",G21=$CM$16),1,0) -> 0 | CO21: =IF(AND($E21="M",H21=$CM$16),1,0) -> 0 | CP21: =IF(AND($E21="M",F21=$CP$16),1,0) -> 0 | CQ21: =IF(AND($E21="M",G21=$CP$16),1,0) -> 0 | CR21: =IF(AND($E21="M",H21=$CP$16),1,0) -> 0 | CS21: =IF(AND($E21="M",F21=$CT$16),1,0) -> 0 | CT21: =IF(AND($E21="M",G21=$CT$16),1,0) -> 0 | CU21: =IF(AND($E21="M",H21=$CT$16),1,0) -> 0 | CV21: =IF(AND($E21="M",F21=$CW$16),1,0) -> 0 | CW21: =IF(AND($E21="M",G21=$CW$16),1,0) -> 0 | CX21: =IF(AND($E21="M",H21=$CW$16),1,0) -> 0 | CY21: =IF(AND($E21="M",F21=$CZ$16),1,0) -> 0 | CZ21: =IF(AND($E21="M",G21=$CZ$16),1,0) -> 0 | DA21: =IF(AND($E21="M",H21=$CZ$16),1,0) -> 0 | DB21: =IF(AND($E21="M",F21=$DC$16),1,0) -> 0 | DC21: =IF(AND($E21="M",G21=$DC$16),1,0) -> 0 | DD21: =IF(AND($E21="M",H21=$DC$16),1,0) -> 0 | DE21: =IF(AND($E21="M",F21=$DE$16),1,0) -> 0 | DF21: =IF(AND($E21="M",G21=$DE$16),1,0) -> 0 | DG21: =IF(AND($E21="M",H21=$DE$16),1,0) -> 0
B22: =IF(ISNUMBER(A22),VLOOKUP(A22,Licenciés!A:F,2,FALSE),"") | C22: =IF(B22="","",VLOOKUP(A22,Licenciés!A:F,3,FALSE)) | D22: =IF(B22="","",VLOOKUP(A22,Licenciés!A:F,5,FALSE)) | E22: =IF(B22="","",VLOOKUP(A22,Licenciés!A:F,4,FALSE)) | L22: =VLOOKUP($A22,Licenciés!A:F,6,FALSE) -> #N/A | P22: VIERZON-VIGNOUX-FOECY ATHLE* | Q22: 18039 | W22: =IF(F22<>"",VLOOKUP(F22,$U$33:$V$48,2,FALSE),0) -> 0 | X22: =IF(G22<>"",VLOOKUP(G22,$U$33:$V$48,2,FALSE),0) -> 0 | Y22: =IF(H22<>"",VLOOKUP(H22,$U$33:$V$48,2,FALSE),0) -> 0 | Z22: =W22+X22+Y22 -> 0 | AA22: =OR($Z22=0,$Z22=10,$Z22=1,$Z22=100,$Z22=11,$Z22=101,$Z22=110,$Z22=111) -> TRUE | AB22: =IF(AA22=TRUE,0,1) -> 0 | AF22: 1 000 m | AG22: =AP61 -> 0 | AH22: =CA61 -> 0 | AI22: 1 | AM22: =IF(AND($E22="F",F22=$AM$16),1,0) -> 0 | AN22: =IF(AND($E22="F",G22=$AM$16),1,0) -> 0 | AO22: =IF(AND($E22="F",H22=$AM$16),1,0) -> 0 | AP22: =IF(AND($E22="F",F22=$AP$16),1,0) -> 0 | AQ22: =IF(AND($E22="F",G22=$AP$16),1,0) -> 0 | AR22: =IF(AND($E22="F",H22=$AP$16),1,0) -> 0 | AS22: =IF(AND($E22="F",F22=$AS$16),1,0) -> 0 | AT22: =IF(AND($E22="F",G22=$AS$16),1,0) -> 0 | AU22: =IF(AND($E22="F",H22=$AS$16),1,0) -> 0 | AV22: =IF(AND($E22="F",F22=$AV$16),1,0) -> 0 | AW22: =IF(AND($E22="F",G22=$AV$16),1,0) -> 0 | AX22: =IF(AND($E22="F",H22=$AV$16),1,0) -> 0 | AY22: =IF(AND($E22="F",F22=$AY$16),1,0) -> 0 | AZ22: =IF(AND($E22="F",G22=$AY$16),1,0) -> 0 | BA22: =IF(AND($E22="F",H22=$AY$16),1,0) -> 0 | BB22: =IF(AND($E22="F",F22=$BB$16),1,0) -> 0 | BC22: =IF(AND($E22="F",G22=$BB$16),1,0) -> 0 | BD22: =IF(AND($E22="F",H22=$BB$16),1,0) -> 0 | BE22: =IF(AND($E22="F",F22=$BE$16),1,0) -> 0 | BF22: =IF(AND($E22="F",G22=$BE$16),1,0) -> 0 | BG22: =IF(AND($E22="F",H22=$BE$16),1,0) -> 0 | BH22: =IF(AND($E22="F",F22=$BH$16),1,0) -> 0 | BI22: =IF(AND($E22="F",G22=$BH$16),1,0) -> 0 | BJ22: =IF(AND($E22="F",H22=$BH$16),1,0) -> 0 | BK22: =IF(AND($E22="F",F22=$BK$16),1,0) -> 0 | BL22: =IF(AND($E22="F",G22=$BK$16),1,0) -> 0 | BM22: =IF(AND($E22="F",H22=$BK$16),1,0) -> 0 | BN22: =IF(AND($E22="F",F22=$BN$16),1,0) -> 0 | BO22: =IF(AND($E22="F",G22=$BN$16),1,0) -> 0 | BP22: =IF(AND($E22="F",H22=$BN$16),1,0) -> 0 | BQ22: =IF(AND($E22="F",F22=$BQ$16),1,0) -> 0 | BR22: =IF(AND($E22="F",G22=$BQ$16),1,0) -> 0 | BS22: =IF(AND($E22="F",H22=$BQ$16),1,0) -> 0 | BT22: =IF(AND($E22="F",F22=$BT$16),1,0) -> 0 | BU22: =IF(AND($E22="F",G22=$BT$16),1,0) -> 0 | BV22: =IF(AND($E22="F",H22=$BT$16),1,0) -> 0 | BX22: =IF(AND($E22="M",F22=$BX$16),1,0) -> 0 | BY22: =IF(AND($E22="M",G22=$BX$16),1,0) -> 0 | BZ22: =IF(AND($E22="M",H22=$BX$16),1,0) -> 0 | CA22: =IF(AND($E22="M",F22=$CA$16),1,0) -> 0 | CB22: =IF(AND($E22="M",G22=$CA$16),1,0) -> 0 | CC22: =IF(AND($E22="M",H22=$CA$16),1,0) -> 0 | CD22: =IF(AND($E22="M",F22=$CD$16),1,0) -> 0 | CE22: =IF(AND($E22="M",G22=$CD$16),1,0) -> 0 | CF22: =IF(AND($E22="M",H22=$CD$16),1,0) -> 0 | CG22: =IF(AND($E22="M",F22=$CG$16),1,0) -> 0 | CH22: =IF(AND($E22="M",G22=$CG$16),1,0) -> 0 | CI22: =IF(AND($E22="M",H22=$CG$16),1,0) -> 0 | CJ22: =IF(AND($E22="M",F22=$CJ$16),1,0) -> 0 | CK22: =IF(AND($E22="M",G22=$CJ$16),1,0) -> 0 | CL22: =IF(AND($E22="M",H22=$CJ$16),1,0) -> 0 | CM22: =IF(AND($E22="M",F22=$CM$16),1,0) -> 0 | CN22: =IF(AND($E22="M",G22=$CM$16),1,0) -> 0 | CO22: =IF(AND($E22="M",H22=$CM$16),1,0) -> 0 | CP22: =IF(AND($E22="M",F22=$CP$16),1,0) -> 0 | CQ22: =IF(AND($E22="M",G22=$CP$16),1,0) -> 0 | CR22: =IF(AND($E22="M",H22=$CP$16),1,0) -> 0 | CS22: =IF(AND($E22="M",F22=$CT$16),1,0) -> 0 | CT22: =IF(AND($E22="M",G22=$CT$16),1,0) -> 0 | CU22: =IF(AND($E22="M",H22=$CT$16),1,0) -> 0 | CV22: =IF(AND($E22="M",F22=$CW$16),1,0) -> 0 | CW22: =IF(AND($E22="M",G22=$CW$16),1,0) -> 0 | CX22: =IF(AND($E22="M",H22=$CW$16),1,0) -> 0 | CY22: =IF(AND($E22="M",F22=$CZ$16),1,0) -> 0 | CZ22: =IF(AND($E22="M",G22=$CZ$16),1,0) -> 0 | DA22: =IF(AND($E22="M",H22=$CZ$16),1,0) -> 0 | DB22: =IF(AND($E22="M",F22=$DC$16),1,0) -> 0 | DC22: =IF(AND($E22="M",G22=$DC$16),1,0) -> 0 | DD22: =IF(AND($E22="M",H22=$DC$16),1,0) -> 0 | DE22: =IF(AND($E22="M",F22=$DE$16),1,0) -> 0 | DF22: =IF(AND($E22="M",G22=$DE$16),1,0) -> 0 | DG22: =IF(AND($E22="M",H22=$DE$16),1,0) -> 0
B23: =IF(ISNUMBER(A23),VLOOKUP(A23,Licenciés!A:F,2,FALSE),"") | C23: =IF(B23="","",VLOOKUP(A23,Licenciés!A:F,3,FALSE)) | D23: =IF(B23="","",VLOOKUP(A23,Licenciés!A:F,5,FALSE)) | E23: =IF(B23="","",VLOOKUP(A23,Licenciés!A:F,4,FALSE)) | L23: =VLOOKUP($A23,Licenciés!A:F,6,FALSE) -> #N/A | P23: BOURGES ENTENTE ATHLETISME* | Q23: 18040 | W23: =IF(F23<>"",VLOOKUP(F23,$U$33:$V$48,2,FALSE),0) -> 0 | X23: =IF(G23<>"",VLOOKUP(G23,$U$33:$V$48,2,FALSE),0) -> 0 | Y23: =IF(H23<>"",VLOOKUP(H23,$U$33:$V$48,2,FALSE),0) -> 0 | Z23: =W23+X23+Y23 -> 0 | AA23: =OR($Z23=0,$Z23=10,$Z23=1,$Z23=100,$Z23=11,$Z23=101,$Z23=110,$Z23=111) -> TRUE | AB23: =IF(AA23=TRUE,0,1) -> 0 | AF23: 50 m Haies -0,65 | AG23: =AS61 -> 0 | AH23: =CD61 -> 0 | AI23: 1 | AM23: =IF(AND($E23="F",F23=$AM$16),1,0) -> 0 | AN23: =IF(AND($E23="F",G23=$AM$16),1,0) -> 0 | AO23: =IF(AND($E23="F",H23=$AM$16),1,0) -> 0 | AP23: =IF(AND($E23="F",F23=$AP$16),1,0) -> 0 | AQ23: =IF(AND($E23="F",G23=$AP$16),1,0) -> 0 | AR23: =IF(AND($E23="F",H23=$AP$16),1,0) -> 0 | AS23: =IF(AND($E23="F",F23=$AS$16),1,0) -> 0 | AT23: =IF(AND($E23="F",G23=$AS$16),1,0) -> 0 | AU23: =IF(AND($E23="F",H23=$AS$16),1,0) -> 0 | AV23: =IF(AND($E23="F",F23=$AV$16),1,0) -> 0 | AW23: =IF(AND($E23="F",G23=$AV$16),1,0) -> 0 | AX23: =IF(AND($E23="F",H23=$AV$16),1,0) -> 0 | AY23: =IF(AND($E23="F",F23=$AY$16),1,0) -> 0 | AZ23: =IF(AND($E23="F",G23=$AY$16),1,0) -> 0 | BA23: =IF(AND($E23="F",H23=$AY$16),1,0) -> 0 | BB23: =IF(AND($E23="F",F23=$BB$16),1,0) -> 0 | BC23: =IF(AND($E23="F",G23=$BB$16),1,0) -> 0 | BD23: =IF(AND($E23="F",H23=$BB$16),1,0) -> 0 | BE23: =IF(AND($E23="F",F23=$BE$16),1,0) -> 0 | BF23: =IF(AND($E23="F",G23=$BE$16),1,0) -> 0 | BG23: =IF(AND($E23="F",H23=$BE$16),1,0) -> 0 | BH23: =IF(AND($E23="F",F23=$BH$16),1,0) -> 0 | BI23: =IF(AND($E23="F",G23=$BH$16),1,0) -> 0 | BJ23: =IF(AND($E23="F",H23=$BH$16),1,0) -> 0 | BK23: =IF(AND($E23="F",F23=$BK$16),1,0) -> 0 | BL23: =IF(AND($E23="F",G23=$BK$16),1,0) -> 0 | BM23: =IF(AND($E23="F",H23=$BK$16),1,0) -> 0 | BN23: =IF(AND($E23="F",F23=$BN$16),1,0) -> 0 | BO23: =IF(AND($E23="F",G23=$BN$16),1,0) -> 0 | BP23: =IF(AND($E23="F",H23=$BN$16),1,0) -> 0 | BQ23: =IF(AND($E23="F",F23=$BQ$16),1,0) -> 0 | BR23: =IF(AND($E23="F",G23=$BQ$16),1,0) -> 0 | BS23: =IF(AND($E23="F",H23=$BQ$16),1,0) -> 0 | BT23: =IF(AND($E23="F",F23=$BT$16),1,0) -> 0 | BU23: =IF(AND($E23="F",G23=$BT$16),1,0) -> 0 | BV23: =IF(AND($E23="F",H23=$BT$16),1,0) -> 0 | BX23: =IF(AND($E23="M",F23=$BX$16),1,0) -> 0 | BY23: =IF(AND($E23="M",G23=$BX$16),1,0) -> 0 | BZ23: =IF(AND($E23="M",H23=$BX$16),1,0) -> 0 | CA23: =IF(AND($E23="M",F23=$CA$16),1,0) -> 0 | CB23: =IF(AND($E23="M",G23=$CA$16),1,0) -> 0 | CC23: =IF(AND($E23="M",H23=$CA$16),1,0) -> 0 | CD23: =IF(AND($E23="M",F23=$CD$16),1,0) -> 0 | CE23: =IF(AND($E23="M",G23=$CD$16),1,0) -> 0 | CF23: =IF(AND($E23="M",H23=$CD$16),1,0) -> 0 | CG23: =IF(AND($E23="M",F23=$CG$16),1,0) -> 0 | CH23: =IF(AND($E23="M",G23=$CG$16),1,0) -> 0 | CI23: =IF(AND($E23="M",H23=$CG$16),1,0) -> 0 | CJ23: =IF(AND($E23="M",F23=$CJ$16),1,0) -> 0 | CK23: =IF(AND($E23="M",G23=$CJ$16),1,0) -> 0 | CL23: =IF(AND($E23="M",H23=$CJ$16),1,0) -> 0 | CM23: =IF(AND($E23="M",F23=$CM$16),1,0) -> 0 | CN23: =IF(AND($E23="M",G23=$CM$16),1,0) -> 0 | CO23: =IF(AND($E23="M",H23=$CM$16),1,0) -> 0 | CP23: =IF(AND($E23="M",F23=$CP$16),1,0) -> 0 | CQ23: =IF(AND($E23="M",G23=$CP$16),1,0) -> 0 | CR23: =IF(AND($E23="M",H23=$CP$16),1,0) -> 0 | CS23: =IF(AND($E23="M",F23=$CT$16),1,0) -> 0 | CT23: =IF(AND($E23="M",G23=$CT$16),1,0) -> 0 | CU23: =IF(AND($E23="M",H23=$CT$16),1,0) -> 0 | CV23: =IF(AND($E23="M",F23=$CW$16),1,0) -> 0 | CW23: =IF(AND($E23="M",G23=$CW$16),1,0) -> 0 | CX23: =IF(AND($E23="M",H23=$CW$16),1,0) -> 0 | CY23: =IF(AND($E23="M",F23=$CZ$16),1,0) -> 0 | CZ23: =IF(AND($E23="M",G23=$CZ$16),1,0) -> 0 | DA23: =IF(AND($E23="M",H23=$CZ$16),1,0) -> 0 | DB23: =IF(AND($E23="M",F23=$DC$16),1,0) -> 0 | DC23: =IF(AND($E23="M",G23=$DC$16),1,0) -> 0 | DD23: =IF(AND($E23="M",H23=$DC$16),1,0) -> 0 | DE23: =IF(AND($E23="M",F23=$DE$16),1,0) -> 0 | DF23: =IF(AND($E23="M",G23=$DE$16),1,0) -> 0 | DG23: =IF(AND($E23="M",H23=$DE$16),1,0) -> 0
B24: =IF(ISNUMBER(A24),VLOOKUP(A24,Licenciés!A:F,2,FALSE),"") | C24: =IF(B24="","",VLOOKUP(A24,Licenciés!A:F,3,FALSE)) | D24: =IF(B24="","",VLOOKUP(A24,Licenciés!A:F,5,FALSE)) | E24: =IF(B24="","",VLOOKUP(A24,Licenciés!A:F,4,FALSE)) | L24: =VLOOKUP($A24,Licenciés!A:F,6,FALSE) -> #N/A | P24: AAEE EPERNON | Q24: 28001 | W24: =IF(F24<>"",VLOOKUP(F24,$U$33:$V$48,2,FALSE),0) -> 0 | X24: =IF(G24<>"",VLOOKUP(G24,$U$33:$V$48,2,FALSE),0) -> 0 | Y24: =IF(H24<>"",VLOOKUP(H24,$U$33:$V$48,2,FALSE),0) -> 0 | Z24: =W24+X24+Y24 -> 0 | AA24: =OR($Z24=0,$Z24=10,$Z24=1,$Z24=100,$Z24=11,$Z24=101,$Z24=110,$Z24=111) -> TRUE | AB24: =IF(AA24=TRUE,0,1) -> 0 | AF24: 2 000 m Marche | AG24: =BT61 -> 0 | AH24: =DE61 -> 0 | AI24: 1 | AM24: =IF(AND($E24="F",F24=$AM$16),1,0) -> 0 | AN24: =IF(AND($E24="F",G24=$AM$16),1,0) -> 0 | AO24: =IF(AND($E24="F",H24=$AM$16),1,0) -> 0 | AP24: =IF(AND($E24="F",F24=$AP$16),1,0) -> 0 | AQ24: =IF(AND($E24="F",G24=$AP$16),1,0) -> 0 | AR24: =IF(AND($E24="F",H24=$AP$16),1,0) -> 0 | AS24: =IF(AND($E24="F",F24=$AS$16),1,0) -> 0 | AT24: =IF(AND($E24="F",G24=$AS$16),1,0) -> 0 | AU24: =IF(AND($E24="F",H24=$AS$16),1,0) -> 0 | AV24: =IF(AND($E24="F",F24=$AV$16),1,0) -> 0 | AW24: =IF(AND($E24="F",G24=$AV$16),1,0) -> 0 | AX24: =IF(AND($E24="F",H24=$AV$16),1,0) -> 0 | AY24: =IF(AND($E24="F",F24=$AY$16),1,0) -> 0 | AZ24: =IF(AND($E24="F",G24=$AY$16),1,0) -> 0 | BA24: =IF(AND($E24="F",H24=$AY$16),1,0) -> 0 | BB24: =IF(AND($E24="F",F24=$BB$16),1,0) -> 0 | BC24: =IF(AND($E24="F",G24=$BB$16),1,0) -> 0 | BD24: =IF(AND($E24="F",H24=$BB$16),1,0) -> 0 | BE24: =IF(AND($E24="F",F24=$BE$16),1,0) -> 0 | BF24: =IF(AND($E24="F",G24=$BE$16),1,0) -> 0 | BG24: =IF(AND($E24="F",H24=$BE$16),1,0) -> 0 | BH24: =IF(AND($E24="F",F24=$BH$16),1,0) -> 0 | BI24: =IF(AND($E24="F",G24=$BH$16),1,0) -> 0 | BJ24: =IF(AND($E24="F",H24=$BH$16),1,0) -> 0 | BK24: =IF(AND($E24="F",F24=$BK$16),1,0) -> 0 | BL24: =IF(AND($E24="F",G24=$BK$16),1,0) -> 0 | BM24: =IF(AND($E24="F",H24=$BK$16),1,0) -> 0 | BN24: =IF(AND($E24="F",F24=$BN$16),1,0) -> 0 | BO24: =IF(AND($E24="F",G24=$BN$16),1,0) -> 0 | BP24: =IF(AND($E24="F",H24=$BN$16),1,0) -> 0 | BQ24: =IF(AND($E24="F",F24=$BQ$16),1,0) -> 0 | BR24: =IF(AND($E24="F",G24=$BQ$16),1,0) -> 0 | BS24: =IF(AND($E24="F",H24=$BQ$16),1,0) -> 0 | BT24: =IF(AND($E24="F",F24=$BT$16),1,0) -> 0 | BU24: =IF(AND($E24="F",G24=$BT$16),1,0) -> 0 | BV24: =IF(AND($E24="F",H24=$BT$16),1,0) -> 0 | BX24: =IF(AND($E24="M",F24=$BX$16),1,0) -> 0 | BY24: =IF(AND($E24="M",G24=$BX$16),1,0) -> 0 | BZ24: =IF(AND($E24="M",H24=$BX$16),1,0) -> 0 | CA24: =IF(AND($E24="M",F24=$CA$16),1,0) -> 0 | CB24: =IF(AND($E24="M",G24=$CA$16),1,0) -> 0 | CC24: =IF(AND($E24="M",H24=$CA$16),1,0) -> 0 | CD24: =IF(AND($E24="M",F24=$CD$16),1,0) -> 0 | CE24: =IF(AND($E24="M",G24=$CD$16),1,0) -> 0 | CF24: =IF(AND($E24="M",H24=$CD$16),1,0) -> 0 | CG24: =IF(AND($E24="M",F24=$CG$16),1,0) -> 0 | CH24: =IF(AND($E24="M",G24=$CG$16),1,0) -> 0 | CI24: =IF(AND($E24="M",H24=$CG$16),1,0) -> 0 | CJ24: =IF(AND($E24="M",F24=$CJ$16),1,0) -> 0 | CK24: =IF(AND($E24="M",G24=$CJ$16),1,0) -> 0 | CL24: =IF(AND($E24="M",H24=$CJ$16),1,0) -> 0 | CM24: =IF(AND($E24="M",F24=$CM$16),1,0) -> 0 | CN24: =IF(AND($E24="M",G24=$CM$16),1,0) -> 0 | CO24: =IF(AND($E24="M",H24=$CM$16),1,0) -> 0 | CP24: =IF(AND($E24="M",F24=$CP$16),1,0) -> 0 | CQ24: =IF(AND($E24="M",G24=$CP$16),1,0) -> 0 | CR24: =IF(AND($E24="M",H24=$CP$16),1,0) -> 0 | CS24: =IF(AND($E24="M",F24=$CT$16),1,0) -> 0 | CT24: =IF(AND($E24="M",G24=$CT$16),1,0) -> 0 | CU24: =IF(AND($E24="M",H24=$CT$16),1,0) -> 0 | CV24: =IF(AND($E24="M",F24=$CW$16),1,0) -> 0 | CW24: =IF(AND($E24="M",G24=$CW$16),1,0) -> 0 | CX24: =IF(AND($E24="M",H24=$CW$16),1,0) -> 0 | CY24: =IF(AND($E24="M",F24=$CZ$16),1,0) -> 0 | CZ24: =IF(AND($E24="M",G24=$CZ$16),1,0) -> 0 | DA24: =IF(AND($E24="M",H24=$CZ$16),1,0) -> 0 | DB24: =IF(AND($E24="M",F24=$DC$16),1,0) -> 0 | DC24: =IF(AND($E24="M",G24=$DC$16),1,0) -> 0 | DD24: =IF(AND($E24="M",H24=$DC$16),1,0) -> 0 | DE24: =IF(AND($E24="M",F24=$DE$16),1,0) -> 0 | DF24: =IF(AND($E24="M",G24=$DE$16),1,0) -> 0 | DG24: =IF(AND($E24="M",H24=$DE$16),1,0) -> 0
B25: =IF(ISNUMBER(A25),VLOOKUP(A25,Licenciés!A:F,2,FALSE),"") | C25: =IF(B25="","",VLOOKUP(A25,Licenciés!A:F,3,FALSE)) | D25: =IF(B25="","",VLOOKUP(A25,Licenciés!A:F,5,FALSE)) | E25: =IF(B25="","",VLOOKUP(A25,Licenciés!A:F,4,FALSE)) | L25: =VLOOKUP($A25,Licenciés!A:F,6,FALSE) -> #N/A | P25: AS NOGENT-LE-ROTROU | Q25: 28004 | W25: =IF(F25<>"",VLOOKUP(F25,$U$33:$V$48,2,FALSE),0) -> 0 | X25: =IF(G25<>"",VLOOKUP(G25,$U$33:$V$48,2,FALSE),0) -> 0 | Y25: =IF(H25<>"",VLOOKUP(H25,$U$33:$V$48,2,FALSE),0) -> 0 | Z25: =W25+X25+Y25 -> 0 | AA25: =OR($Z25=0,$Z25=10,$Z25=1,$Z25=100,$Z25=11,$Z25=101,$Z25=110,$Z25=111) -> TRUE | AB25: =IF(AA25=TRUE,0,1) -> 0 | AE25: Sauts | AF25: Hauteur | AG25: =AV61 -> 0 | AH25: =CG61 -> 0 | AI25: 1 | AJ25: 3 | AM25: =IF(AND($E25="F",F25=$AM$16),1,0) -> 0 | AN25: =IF(AND($E25="F",G25=$AM$16),1,0) -> 0 | AO25: =IF(AND($E25="F",H25=$AM$16),1,0) -> 0 | AP25: =IF(AND($E25="F",F25=$AP$16),1,0) -> 0 | AQ25: =IF(AND($E25="F",G25=$AP$16),1,0) -> 0 | AR25: =IF(AND($E25="F",H25=$AP$16),1,0) -> 0 | AS25: =IF(AND($E25="F",F25=$AS$16),1,0) -> 0 | AT25: =IF(AND($E25="F",G25=$AS$16),1,0) -> 0 | AU25: =IF(AND($E25="F",H25=$AS$16),1,0) -> 0 | AV25: =IF(AND($E25="F",F25=$AV$16),1,0) -> 0 | AW25: =IF(AND($E25="F",G25=$AV$16),1,0) -> 0 | AX25: =IF(AND($E25="F",H25=$AV$16),1,0) -> 0 | AY25: =IF(AND($E25="F",F25=$AY$16),1,0) -> 0 | AZ25: =IF(AND($E25="F",G25=$AY$16),1,0) -> 0 | BA25: =IF(AND($E25="F",H25=$AY$16),1,0) -> 0 | BB25: =IF(AND($E25="F",F25=$BB$16),1,0) -> 0 | BC25: =IF(AND($E25="F",G25=$BB$16),1,0) -> 0 | BD25: =IF(AND($E25="F",H25=$BB$16),1,0) -> 0 | BE25: =IF(AND($E25="F",F25=$BE$16),1,0) -> 0 | BF25: =IF(AND($E25="F",G25=$BE$16),1,0) -> 0 | BG25: =IF(AND($E25="F",H25=$BE$16),1,0) -> 0 | BH25: =IF(AND($E25="F",F25=$BH$16),1,0) -> 0 | BI25: =IF(AND($E25="F",G25=$BH$16),1,0) -> 0 | BJ25: =IF(AND($E25="F",H25=$BH$16),1,0) -> 0 | BK25: =IF(AND($E25="F",F25=$BK$16),1,0) -> 0 | BL25: =IF(AND($E25="F",G25=$BK$16),1,0) -> 0 | BM25: =IF(AND($E25="F",H25=$BK$16),1,0) -> 0 | BN25: =IF(AND($E25="F",F25=$BN$16),1,0) -> 0 | BO25: =IF(AND($E25="F",G25=$BN$16),1,0) -> 0 | BP25: =IF(AND($E25="F",H25=$BN$16),1,0) -> 0 | BQ25: =IF(AND($E25="F",F25=$BQ$16),1,0) -> 0 | BR25: =IF(AND($E25="F",G25=$BQ$16),1,0) -> 0 | BS25: =IF(AND($E25="F",H25=$BQ$16),1,0) -> 0 | BT25: =IF(AND($E25="F",F25=$BT$16),1,0) -> 0 | BU25: =IF(AND($E25="F",G25=$BT$16),1,0) -> 0 | BV25: =IF(AND($E25="F",H25=$BT$16),1,0) -> 0 | BX25: =IF(AND($E25="M",F25=$BX$16),1,0) -> 0 | BY25: =IF(AND($E25="M",G25=$BX$16),1,0) -> 0 | BZ25: =IF(AND($E25="M",H25=$BX$16),1,0) -> 0 | CA25: =IF(AND($E25="M",F25=$CA$16),1,0) -> 0 | CB25: =IF(AND($E25="M",G25=$CA$16),1,0) -> 0 | CC25: =IF(AND($E25="M",H25=$CA$16),1,0) -> 0 | CD25: =IF(AND($E25="M",F25=$CD$16),1,0) -> 0 | CE25: =IF(AND($E25="M",G25=$CD$16),1,0) -> 0 | CF25: =IF(AND($E25="M",H25=$CD$16),1,0) -> 0 | CG25: =IF(AND($E25="M",F25=$CG$16),1,0) -> 0 | CH25: =IF(AND($E25="M",G25=$CG$16),1,0) -> 0 | CI25: =IF(AND($E25="M",H25=$CG$16),1,0) -> 0 | CJ25: =IF(AND($E25="M",F25=$CJ$16),1,0) -> 0 | CK25: =IF(AND($E25="M",G25=$CJ$16),1,0) -> 0 | CL25: =IF(AND($E25="M",H25=$CJ$16),1,0) -> 0 | CM25: =IF(AND($E25="M",F25=$CM$16),1,0) -> 0 | CN25: =IF(AND($E25="M",G25=$CM$16),1,0) -> 0 | CO25: =IF(AND($E25="M",H25=$CM$16),1,0) -> 0 | CP25: =IF(AND($E25="M",F25=$CP$16),1,0) -> 0 | CQ25: =IF(AND($E25="M",G25=$CP$16),1,0) -> 0 | CR25: =IF(AND($E25="M",H25=$CP$16),1,0) -> 0 | CS25: =IF(AND($E25="M",F25=$CT$16),1,0) -> 0 | CT25: =IF(AND($E25="M",G25=$CT$16),1,0) -> 0 | CU25: =IF(AND($E25="M",H25=$CT$16),1,0) -> 0 | CV25: =IF(AND($E25="M",F25=$CW$16),1,0) -> 0 | CW25: =IF(AND($E25="M",G25=$CW$16),1,0) -> 0 | CX25: =IF(AND($E25="M",H25=$CW$16),1,0) -> 0 | CY25: =IF(AND($E25="M",F25=$CZ$16),1,0) -> 0 | CZ25: =IF(AND($E25="M",G25=$CZ$16),1,0) -> 0 | DA25: =IF(AND($E25="M",H25=$CZ$16),1,0) -> 0 | DB25: =IF(AND($E25="M",F25=$DC$16),1,0) -> 0 | DC25: =IF(AND($E25="M",G25=$DC$16),1,0) -> 0 | DD25: =IF(AND($E25="M",H25=$DC$16),1,0) -> 0 | DE25: =IF(AND($E25="M",F25=$DE$16),1,0) -> 0 | DF25: =IF(AND($E25="M",G25=$DE$16),1,0) -> 0 | DG25: =IF(AND($E25="M",H25=$DE$16),1,0) -> 0
B26: =IF(ISNUMBER(A26),VLOOKUP(A26,Licenciés!A:F,2,FALSE),"") | C26: =IF(B26="","",VLOOKUP(A26,Licenciés!A:F,3,FALSE)) | D26: =IF(B26="","",VLOOKUP(A26,Licenciés!A:F,5,FALSE)) | E26: =IF(B26="","",VLOOKUP(A26,Licenciés!A:F,4,FALSE)) | L26: =VLOOKUP($A26,Licenciés!A:F,6,FALSE) -> #N/A | P26: ES JOUY ST-PREST ATHLETISME | Q26: 28009 | W26: =IF(F26<>"",VLOOKUP(F26,$U$33:$V$48,2,FALSE),0) -> 0 | X26: =IF(G26<>"",VLOOKUP(G26,$U$33:$V$48,2,FALSE),0) -> 0 | Y26: =IF(H26<>"",VLOOKUP(H26,$U$33:$V$48,2,FALSE),0) -> 0 | Z26: =W26+X26+Y26 -> 0 | AA26: =OR($Z26=0,$Z26=10,$Z26=1,$Z26=100,$Z26=11,$Z26=101,$Z26=110,$Z26=111) -> TRUE | AB26: =IF(AA26=TRUE,0,1) -> 0 | AF26: Perche | AG26: =AY61 -> 0 | AH26: =CJ61 -> 0 | AI26: 1 | AM26: =IF(AND($E26="F",F26=$AM$16),1,0) -> 0 | AN26: =IF(AND($E26="F",G26=$AM$16),1,0) -> 0 | AO26: =IF(AND($E26="F",H26=$AM$16),1,0) -> 0 | AP26: =IF(AND($E26="F",F26=$AP$16),1,0) -> 0 | AQ26: =IF(AND($E26="F",G26=$AP$16),1,0) -> 0 | AR26: =IF(AND($E26="F",H26=$AP$16),1,0) -> 0 | AS26: =IF(AND($E26="F",F26=$AS$16),1,0) -> 0 | AT26: =IF(AND($E26="F",G26=$AS$16),1,0) -> 0 | AU26: =IF(AND($E26="F",H26=$AS$16),1,0) -> 0 | AV26: =IF(AND($E26="F",F26=$AV$16),1,0) -> 0 | AW26: =IF(AND($E26="F",G26=$AV$16),1,0) -> 0 | AX26: =IF(AND($E26="F",H26=$AV$16),1,0) -> 0 | AY26: =IF(AND($E26="F",F26=$AY$16),1,0) -> 0 | AZ26: =IF(AND($E26="F",G26=$AY$16),1,0) -> 0 | BA26: =IF(AND($E26="F",H26=$AY$16),1,0) -> 0 | BB26: =IF(AND($E26="F",F26=$BB$16),1,0) -> 0 | BC26: =IF(AND($E26="F",G26=$BB$16),1,0) -> 0 | BD26: =IF(AND($E26="F",H26=$BB$16),1,0) -> 0 | BE26: =IF(AND($E26="F",F26=$BE$16),1,0) -> 0 | BF26: =IF(AND($E26="F",G26=$BE$16),1,0) -> 0 | BG26: =IF(AND($E26="F",H26=$BE$16),1,0) -> 0 | BH26: =IF(AND($E26="F",F26=$BH$16),1,0) -> 0 | BI26: =IF(AND($E26="F",G26=$BH$16),1,0) -> 0 | BJ26: =IF(AND($E26="F",H26=$BH$16),1,0) -> 0 | BK26: =IF(AND($E26="F",F26=$BK$16),1,0) -> 0 | BL26: =IF(AND($E26="F",G26=$BK$16),1,0) -> 0 | BM26: =IF(AND($E26="F",H26=$BK$16),1,0) -> 0 | BN26: =IF(AND($E26="F",F26=$BN$16),1,0) -> 0 | BO26: =IF(AND($E26="F",G26=$BN$16),1,0) -> 0 | BP26: =IF(AND($E26="F",H26=$BN$16),1,0) -> 0 | BQ26: =IF(AND($E26="F",F26=$BQ$16),1,0) -> 0 | BR26: =IF(AND($E26="F",G26=$BQ$16),1,0) -> 0 | BS26: =IF(AND($E26="F",H26=$BQ$16),1,0) -> 0 | BT26: =IF(AND($E26="F",F26=$BT$16),1,0) -> 0 | BU26: =IF(AND($E26="F",G26=$BT$16),1,0) -> 0 | BV26: =IF(AND($E26="F",H26=$BT$16),1,0) -> 0 | BX26: =IF(AND($E26="M",F26=$BX$16),1,0) -> 0 | BY26: =IF(AND($E26="M",G26=$BX$16),1,0) -> 0 | BZ26: =IF(AND($E26="M",H26=$BX$16),1,0) -> 0 | CA26: =IF(AND($E26="M",F26=$CA$16),1,0) -> 0 | CB26: =IF(AND($E26="M",G26=$CA$16),1,0) -> 0 | CC26: =IF(AND($E26="M",H26=$CA$16),1,0) -> 0 | CD26: =IF(AND($E26="M",F26=$CD$16),1,0) -> 0 | CE26: =IF(AND($E26="M",G26=$CD$16),1,0) -> 0 | CF26: =IF(AND($E26="M",H26=$CD$16),1,0) -> 0 | CG26: =IF(AND($E26="M",F26=$CG$16),1,0) -> 0 | CH26: =IF(AND($E26="M",G26=$CG$16),1,0) -> 0 | CI26: =IF(AND($E26="M",H26=$CG$16),1,0) -> 0 | CJ26: =IF(AND($E26="M",F26=$CJ$16),1,0) -> 0 | CK26: =IF(AND($E26="M",G26=$CJ$16),1,0) -> 0 | CL26: =IF(AND($E26="M",H26=$CJ$16),1,0) -> 0 | CM26: =IF(AND($E26="M",F26=$CM$16),1,0) -> 0 | CN26: =IF(AND($E26="M",G26=$CM$16),1,0) -> 0 | CO26: =IF(AND($E26="M",H26=$CM$16),1,0) -> 0 | CP26: =IF(AND($E26="M",F26=$CP$16),1,0) -> 0 | CQ26: =IF(AND($E26="M",G26=$CP$16),1,0) -> 0 | CR26: =IF(AND($E26="M",H26=$CP$16),1,0) -> 0 | CS26: =IF(AND($E26="M",F26=$CT$16),1,0) -> 0 | CT26: =IF(AND($E26="M",G26=$CT$16),1,0) -> 0 | CU26: =IF(AND($E26="M",H26=$CT$16),1,0) -> 0 | CV26: =IF(AND($E26="M",F26=$CW$16),1,0) -> 0 | CW26: =IF(AND($E26="M",G26=$CW$16),1,0) -> 0 | CX26: =IF(AND($E26="M",H26=$CW$16),1,0) -> 0 | CY26: =IF(AND($E26="M",F26=$CZ$16),1,0) -> 0 | CZ26: =IF(AND($E26="M",G26=$CZ$16),1,0) -> 0 | DA26: =IF(AND($E26="M",H26=$CZ$16),1,0) -> 0 | DB26: =IF(AND($E26="M",F26=$DC$16),1,0) -> 0 | DC26: =IF(AND($E26="M",G26=$DC$16),1,0) -> 0 | DD26: =IF(AND($E26="M",H26=$DC$16),1,0) -> 0 | DE26: =IF(AND($E26="M",F26=$DE$16),1,0) -> 0 | DF26: =IF(AND($E26="M",G26=$DE$16),1,0) -> 0 | DG26: =IF(AND($E26="M",H26=$DE$16),1,0) -> 0
B27: =IF(ISNUMBER(A27),VLOOKUP(A27,Licenciés!A:F,2,FALSE),"") | C27: =IF(B27="","",VLOOKUP(A27,Licenciés!A:F,3,FALSE)) | D27: =IF(B27="","",VLOOKUP(A27,Licenciés!A:F,5,FALSE)) | E27: =IF(B27="","",VLOOKUP(A27,Licenciés!A:F,4,FALSE)) | L27: =VLOOKUP($A27,Licenciés!A:F,6,FALSE) -> #N/A | P27: OC CHATEAUDUN BONNEVAL A.* | Q27: 28011 | W27: =IF(F27<>"",VLOOKUP(F27,$U$33:$V$48,2,FALSE),0) -> 0 | X27: =IF(G27<>"",VLOOKUP(G27,$U$33:$V$48,2,FALSE),0) -> 0 | Y27: =IF(H27<>"",VLOOKUP(H27,$U$33:$V$48,2,FALSE),0) -> 0 | Z27: =W27+X27+Y27 -> 0 | AA27: =OR($Z27=0,$Z27=10,$Z27=1,$Z27=100,$Z27=11,$Z27=101,$Z27=110,$Z27=111) -> TRUE | AB27: =IF(AA27=TRUE,0,1) -> 0 | AF27: Longueur | AG27: =BB61 -> 0 | AH27: =CM61 -> 0 | AI27: 1 | AM27: =IF(AND($E27="F",F27=$AM$16),1,0) -> 0 | AN27: =IF(AND($E27="F",G27=$AM$16),1,0) -> 0 | AO27: =IF(AND($E27="F",H27=$AM$16),1,0) -> 0 | AP27: =IF(AND($E27="F",F27=$AP$16),1,0) -> 0 | AQ27: =IF(AND($E27="F",G27=$AP$16),1,0) -> 0 | AR27: =IF(AND($E27="F",H27=$AP$16),1,0) -> 0 | AS27: =IF(AND($E27="F",F27=$AS$16),1,0) -> 0 | AT27: =IF(AND($E27="F",G27=$AS$16),1,0) -> 0 | AU27: =IF(AND($E27="F",H27=$AS$16),1,0) -> 0 | AV27: =IF(AND($E27="F",F27=$AV$16),1,0) -> 0 | AW27: =IF(AND($E27="F",G27=$AV$16),1,0) -> 0 | AX27: =IF(AND($E27="F",H27=$AV$16),1,0) -> 0 | AY27: =IF(AND($E27="F",F27=$AY$16),1,0) -> 0 | AZ27: =IF(AND($E27="F",G27=$AY$16),1,0) -> 0 | BA27: =IF(AND($E27="F",H27=$AY$16),1,0) -> 0 | BB27: =IF(AND($E27="F",F27=$BB$16),1,0) -> 0 | BC27: =IF(AND($E27="F",G27=$BB$16),1,0) -> 0 | BD27: =IF(AND($E27="F",H27=$BB$16),1,0) -> 0 | BE27: =IF(AND($E27="F",F27=$BE$16),1,0) -> 0 | BF27: =IF(AND($E27="F",G27=$BE$16),1,0) -> 0 | BG27: =IF(AND($E27="F",H27=$BE$16),1,0) -> 0 | BH27: =IF(AND($E27="F",F27=$BH$16),1,0) -> 0 | BI27: =IF(AND($E27="F",G27=$BH$16),1,0) -> 0 | BJ27: =IF(AND($E27="F",H27=$BH$16),1,0) -> 0 | BK27: =IF(AND($E27="F",F27=$BK$16),1,0) -> 0 | BL27: =IF(AND($E27="F",G27=$BK$16),1,0) -> 0 | BM27: =IF(AND($E27="F",H27=$BK$16),1,0) -> 0 | BN27: =IF(AND($E27="F",F27=$BN$16),1,0) -> 0 | BO27: =IF(AND($E27="F",G27=$BN$16),1,0) -> 0 | BP27: =IF(AND($E27="F",H27=$BN$16),1,0) -> 0 | BQ27: =IF(AND($E27="F",F27=$BQ$16),1,0) -> 0 | BR27: =IF(AND($E27="F",G27=$BQ$16),1,0) -> 0 | BS27: =IF(AND($E27="F",H27=$BQ$16),1,0) -> 0 | BT27: =IF(AND($E27="F",F27=$BT$16),1,0) -> 0 | BU27: =IF(AND($E27="F",G27=$BT$16),1,0) -> 0 | BV27: =IF(AND($E27="F",H27=$BT$16),1,0) -> 0 | BX27: =IF(AND($E27="M",F27=$BX$16),1,0) -> 0 | BY27: =IF(AND($E27="M",G27=$BX$16),1,0) -> 0 | BZ27: =IF(AND($E27="M",H27=$BX$16),1,0) -> 0 | CA27: =IF(AND($E27="M",F27=$CA$16),1,0) -> 0 | CB27: =IF(AND($E27="M",G27=$CA$16),1,0) -> 0 | CC27: =IF(AND($E27="M",H27=$CA$16),1,0) -> 0 | CD27: =IF(AND($E27="M",F27=$CD$16),1,0) -> 0 | CE27: =IF(AND($E27="M",G27=$CD$16),1,0) -> 0 | CF27: =IF(AND($E27="M",H27=$CD$16),1,0) -> 0 | CG27: =IF(AND($E27="M",F27=$CG$16),1,0) -> 0 | CH27: =IF(AND($E27="M",G27=$CG$16),1,0) -> 0 | CI27: =IF(AND($E27="M",H27=$CG$16),1,0) -> 0 | CJ27: =IF(AND($E27="M",F27=$CJ$16),1,0) -> 0 | CK27: =IF(AND($E27="M",G27=$CJ$16),1,0) -> 0 | CL27: =IF(AND($E27="M",H27=$CJ$16),1,0) -> 0 | CM27: =IF(AND($E27="M",F27=$CM$16),1,0) -> 0 | CN27: =IF(AND($E27="M",G27=$CM$16),1,0) -> 0 | CO27: =IF(AND($E27="M",H27=$CM$16),1,0) -> 0 | CP27: =IF(AND($E27="M",F27=$CP$16),1,0) -> 0 | CQ27: =IF(AND($E27="M",G27=$CP$16),1,0) -> 0 | CR27: =IF(AND($E27="M",H27=$CP$16),1,0) -> 0 | CS27: =IF(AND($E27="M",F27=$CT$16),1,0) -> 0 | CT27: =IF(AND($E27="M",G27=$CT$16),1,0) -> 0 | CU27: =IF(AND($E27="M",H27=$CT$16),1,0) -> 0 | CV27: =IF(AND($E27="M",F27=$CW$16),1,0) -> 0 | CW27: =IF(AND($E27="M",G27=$CW$16),1,0) -> 0 | CX27: =IF(AND($E27="M",H27=$CW$16),1,0) -> 0 | CY27: =IF(AND($E27="M",F27=$CZ$16),1,0) -> 0 | CZ27: =IF(AND($E27="M",G27=$CZ$16),1,0) -> 0 | DA27: =IF(AND($E27="M",H27=$CZ$16),1,0) -> 0 | DB27: =IF(AND($E27="M",F27=$DC$16),1,0) -> 0 | DC27: =IF(AND($E27="M",G27=$DC$16),1,0) -> 0 | DD27: =IF(AND($E27="M",H27=$DC$16),1,0) -> 0 | DE27: =IF(AND($E27="M",F27=$DE$16),1,0) -> 0 | DF27: =IF(AND($E27="M",G27=$DE$16),1,0) -> 0 | DG27: =IF(AND($E27="M",H27=$DE$16),1,0) -> 0
B28: =IF(ISNUMBER(A28),VLOOKUP(A28,Licenciés!A:F,2,FALSE),"") | C28: =IF(B28="","",VLOOKUP(A28,Licenciés!A:F,3,FALSE)) | D28: =IF(B28="","",VLOOKUP(A28,Licenciés!A:F,5,FALSE)) | E28: =IF(B28="","",VLOOKUP(A28,Licenciés!A:F,4,FALSE)) | L28: =VLOOKUP($A28,Licenciés!A:F,6,FALSE) -> #N/A | P28: AS LEVES | Q28: 28013 | W28: =IF(F28<>"",VLOOKUP(F28,$U$33:$V$48,2,FALSE),0) -> 0 | X28: =IF(G28<>"",VLOOKUP(G28,$U$33:$V$48,2,FALSE),0) -> 0 | Y28: =IF(H28<>"",VLOOKUP(H28,$U$33:$V$48,2,FALSE),0) -> 0 | Z28: =W28+X28+Y28 -> 0 | AA28: =OR($Z28=0,$Z28=10,$Z28=1,$Z28=100,$Z28=11,$Z28=101,$Z28=110,$Z28=111) -> TRUE | AB28: =IF(AA28=TRUE,0,1) -> 0 | AF28: Triple-Saut | AG28: =BE61 -> 0 | AH28: =CP61 -> 0 | AI28: 1 | AM28: =IF(AND($E28="F",F28=$AM$16),1,0) -> 0 | AN28: =IF(AND($E28="F",G28=$AM$16),1,0) -> 0 | AO28: =IF(AND($E28="F",H28=$AM$16),1,0) -> 0 | AP28: =IF(AND($E28="F",F28=$AP$16),1,0) -> 0 | AQ28: =IF(AND($E28="F",G28=$AP$16),1,0) -> 0 | AR28: =IF(AND($E28="F",H28=$AP$16),1,0) -> 0 | AS28: =IF(AND($E28="F",F28=$AS$16),1,0) -> 0 | AT28: =IF(AND($E28="F",G28=$AS$16),1,0) -> 0 | AU28: =IF(AND($E28="F",H28=$AS$16),1,0) -> 0 | AV28: =IF(AND($E28="F",F28=$AV$16),1,0) -> 0 | AW28: =IF(AND($E28="F",G28=$AV$16),1,0) -> 0 | AX28: =IF(AND($E28="F",H28=$AV$16),1,0) -> 0 | AY28: =IF(AND($E28="F",F28=$AY$16),1,0) -> 0 | AZ28: =IF(AND($E28="F",G28=$AY$16),1,0) -> 0 | BA28: =IF(AND($E28="F",H28=$AY$16),1,0) -> 0 | BB28: =IF(AND($E28="F",F28=$BB$16),1,0) -> 0 | BC28: =IF(AND($E28="F",G28=$BB$16),1,0) -> 0 | BD28: =IF(AND($E28="F",H28=$BB$16),1,0) -> 0 | BE28: =IF(AND($E28="F",F28=$BE$16),1,0) -> 0 | BF28: =IF(AND($E28="F",G28=$BE$16),1,0) -> 0 | BG28: =IF(AND($E28="F",H28=$BE$16),1,0) -> 0 | BH28: =IF(AND($E28="F",F28=$BH$16),1,0) -> 0 | BI28: =IF(AND($E28="F",G28=$BH$16),1,0) -> 0 | BJ28: =IF(AND($E28="F",H28=$BH$16),1,0) -> 0 | BK28: =IF(AND($E28="F",F28=$BK$16),1,0) -> 0 | BL28: =IF(AND($E28="F",G28=$BK$16),1,0) -> 0 | BM28: =IF(AND($E28="F",H28=$BK$16),1,0) -> 0 | BN28: =IF(AND($E28="F",F28=$BN$16),1,0) -> 0 | BO28: =IF(AND($E28="F",G28=$BN$16),1,0) -> 0 | BP28: =IF(AND($E28="F",H28=$BN$16),1,0) -> 0 | BQ28: =IF(AND($E28="F",F28=$BQ$16),1,0) -> 0 | BR28: =IF(AND($E28="F",G28=$BQ$16),1,0) -> 0 | BS28: =IF(AND($E28="F",H28=$BQ$16),1,0) -> 0 | BT28: =IF(AND($E28="F",F28=$BT$16),1,0) -> 0 | BU28: =IF(AND($E28="F",G28=$BT$16),1,0) -> 0 | BV28: =IF(AND($E28="F",H28=$BT$16),1,0) -> 0 | BX28: =IF(AND($E28="M",F28=$BX$16),1,0) -> 0 | BY28: =IF(AND($E28="M",G28=$BX$16),1,0) -> 0 | BZ28: =IF(AND($E28="M",H28=$BX$16),1,0) -> 0 | CA28: =IF(AND($E28="M",F28=$CA$16),1,0) -> 0 | CB28: =IF(AND($E28="M",G28=$CA$16),1,0) -> 0 | CC28: =IF(AND($E28="M",H28=$CA$16),1,0) -> 0 | CD28: =IF(AND($E28="M",F28=$CD$16),1,0) -> 0 | CE28: =IF(AND($E28="M",G28=$CD$16),1,0) -> 0 | CF28: =IF(AND($E28="M",H28=$CD$16),1,0) -> 0 | CG28: =IF(AND($E28="M",F28=$CG$16),1,0) -> 0 | CH28: =IF(AND($E28="M",G28=$CG$16),1,0) -> 0 | CI28: =IF(AND($E28="M",H28=$CG$16),1,0) -> 0 | CJ28: =IF(AND($E28="M",F28=$CJ$16),1,0) -> 0 | CK28: =IF(AND($E28="M",G28=$CJ$16),1,0) -> 0 | CL28: =IF(AND($E28="M",H28=$CJ$16),1,0) -> 0 | CM28: =IF(AND($E28="M",F28=$CM$16),1,0) -> 0 | CN28: =IF(AND($E28="M",G28=$CM$16),1,0) -> 0 | CO28: =IF(AND($E28="M",H28=$CM$16),1,0) -> 0 | CP28: =IF(AND($E28="M",F28=$CP$16),1,0) -> 0 | CQ28: =IF(AND($E28="M",G28=$CP$16),1,0) -> 0 | CR28: =IF(AND($E28="M",H28=$CP$16),1,0) -> 0 | CS28: =IF(AND($E28="M",F28=$CT$16),1,0) -> 0 | CT28: =IF(AND($E28="M",G28=$CT$16),1,0) -> 0 | CU28: =IF(AND($E28="M",H28=$CT$16),1,0) -> 0 | CV28: =IF(AND($E28="M",F28=$CW$16),1,0) -> 0 | CW28: =IF(AND($E28="M",G28=$CW$16),1,0) -> 0 | CX28: =IF(AND($E28="M",H28=$CW$16),1,0) -> 0 | CY28: =IF(AND($E28="M",F28=$CZ$16),1,0) -> 0 | CZ28: =IF(AND($E28="M",G28=$CZ$16),1,0) -> 0 | DA28: =IF(AND($E28="M",H28=$CZ$16),1,0) -> 0 | DB28: =IF(AND($E28="M",F28=$DC$16),1,0) -> 0 | DC28: =IF(AND($E28="M",G28=$DC$16),1,0) -> 0 | DD28: =IF(AND($E28="M",H28=$DC$16),1,0) -> 0 | DE28: =IF(AND($E28="M",F28=$DE$16),1,0) -> 0 | DF28: =IF(AND($E28="M",G28=$DE$16),1,0) -> 0 | DG28: =IF(AND($E28="M",H28=$DE$16),1,0) -> 0
B29: =IF(ISNUMBER(A29),VLOOKUP(A29,Licenciés!A:F,2,FALSE),"") | C29: =IF(B29="","",VLOOKUP(A29,Licenciés!A:F,3,FALSE)) | D29: =IF(B29="","",VLOOKUP(A29,Licenciés!A:F,5,FALSE)) | E29: =IF(B29="","",VLOOKUP(A29,Licenciés!A:F,4,FALSE)) | L29: =VLOOKUP($A29,Licenciés!A:F,6,FALSE) -> #N/A | P29: AC CLOYES | Q29: 28017 | V29: Jeune Juge | W29: =IF(F29<>"",VLOOKUP(F29,$U$33:$V$48,2,FALSE),0) -> 0 | X29: =IF(G29<>"",VLOOKUP(G29,$U$33:$V$48,2,FALSE),0) -> 0 | Y29: =IF(H29<>"",VLOOKUP(H29,$U$33:$V$48,2,FALSE),0) -> 0 | Z29: =W29+X29+Y29 -> 0 | AA29: =OR($Z29=0,$Z29=10,$Z29=1,$Z29=100,$Z29=11,$Z29=101,$Z29=110,$Z29=111) -> TRUE | AB29: =IF(AA29=TRUE,0,1) -> 0 | AE29: Lancers | AF29: Poids | AG29: =BH61 -> 0 | AH29: =CS61 -> 0 | AI29: 1 | AJ29: 3 | AM29: =IF(AND($E29="F",F29=$AM$16),1,0) -> 0 | AN29: =IF(AND($E29="F",G29=$AM$16),1,0) -> 0 | AO29: =IF(AND($E29="F",H29=$AM$16),1,0) -> 0 | AP29: =IF(AND($E29="F",F29=$AP$16),1,0) -> 0 | AQ29: =IF(AND($E29="F",G29=$AP$16),1,0) -> 0 | AR29: =IF(AND($E29="F",H29=$AP$16),1,0) -> 0 | AS29: =IF(AND($E29="F",F29=$AS$16),1,0) -> 0 | AT29: =IF(AND($E29="F",G29=$AS$16),1,0) -> 0 | AU29: =IF(AND($E29="F",H29=$AS$16),1,0) -> 0 | AV29: =IF(AND($E29="F",F29=$AV$16),1,0) -> 0 | AW29: =IF(AND($E29="F",G29=$AV$16),1,0) -> 0 | AX29: =IF(AND($E29="F",H29=$AV$16),1,0) -> 0 | AY29: =IF(AND($E29="F",F29=$AY$16),1,0) -> 0 | AZ29: =IF(AND($E29="F",G29=$AY$16),1,0) -> 0 | BA29: =IF(AND($E29="F",H29=$AY$16),1,0) -> 0 | BB29: =IF(AND($E29="F",F29=$BB$16),1,0) -> 0 | BC29: =IF(AND($E29="F",G29=$BB$16),1,0) -> 0 | BD29: =IF(AND($E29="F",H29=$BB$16),1,0) -> 0 | BE29: =IF(AND($E29="F",F29=$BE$16),1,0) -> 0 | BF29: =IF(AND($E29="F",G29=$BE$16),1,0) -> 0 | BG29: =IF(AND($E29="F",H29=$BE$16),1,0) -> 0 | BH29: =IF(AND($E29="F",F29=$BH$16),1,0) -> 0 | BI29: =IF(AND($E29="F",G29=$BH$16),1,0) -> 0 | BJ29: =IF(AND($E29="F",H29=$BH$16),1,0) -> 0 | BK29: =IF(AND($E29="F",F29=$BK$16),1,0) -> 0 | BL29: =IF(AND($E29="F",G29=$BK$16),1,0) -> 0 | BM29: =IF(AND($E29="F",H29=$BK$16),1,0) -> 0 | BN29: =IF(AND($E29="F",F29=$BN$16),1,0) -> 0 | BO29: =IF(AND($E29="F",G29=$BN$16),1,0) -> 0 | BP29: =IF(AND($E29="F",H29=$BN$16),1,0) -> 0 | BQ29: =IF(AND($E29="F",F29=$BQ$16),1,0) -> 0 | BR29: =IF(AND($E29="F",G29=$BQ$16),1,0) -> 0 | BS29: =IF(AND($E29="F",H29=$BQ$16),1,0) -> 0 | BT29: =IF(AND($E29="F",F29=$BT$16),1,0) -> 0 | BU29: =IF(AND($E29="F",G29=$BT$16),1,0) -> 0 | BV29: =IF(AND($E29="F",H29=$BT$16),1,0) -> 0 | BX29: =IF(AND($E29="M",F29=$BX$16),1,0) -> 0 | BY29: =IF(AND($E29="M",G29=$BX$16),1,0) -> 0 | BZ29: =IF(AND($E29="M",H29=$BX$16),1,0) -> 0 | CA29: =IF(AND($E29="M",F29=$CA$16),1,0) -> 0 | CB29: =IF(AND($E29="M",G29=$CA$16),1,0) -> 0 | CC29: =IF(AND($E29="M",H29=$CA$16),1,0) -> 0 | CD29: =IF(AND($E29="M",F29=$CD$16),1,0) -> 0 | CE29: =IF(AND($E29="M",G29=$CD$16),1,0) -> 0 | CF29: =IF(AND($E29="M",H29=$CD$16),1,0) -> 0 | CG29: =IF(AND($E29="M",F29=$CG$16),1,0) -> 0 | CH29: =IF(AND($E29="M",G29=$CG$16),1,0) -> 0 | CI29: =IF(AND($E29="M",H29=$CG$16),1,0) -> 0 | CJ29: =IF(AND($E29="M",F29=$CJ$16),1,0) -> 0 | CK29: =IF(AND($E29="M",G29=$CJ$16),1,0) -> 0 | CL29: =IF(AND($E29="M",H29=$CJ$16),1,0) -> 0 | CM29: =IF(AND($E29="M",F29=$CM$16),1,0) -> 0 | CN29: =IF(AND($E29="M",G29=$CM$16),1,0) -> 0 | CO29: =IF(AND($E29="M",H29=$CM$16),1,0) -> 0 | CP29: =IF(AND($E29="M",F29=$CP$16),1,0) -> 0 | CQ29: =IF(AND($E29="M",G29=$CP$16),1,0) -> 0 | CR29: =IF(AND($E29="M",H29=$CP$16),1,0) -> 0 | CS29: =IF(AND($E29="M",F29=$CT$16),1,0) -> 0 | CT29: =IF(AND($E29="M",G29=$CT$16),1,0) -> 0 | CU29: =IF(AND($E29="M",H29=$CT$16),1,0) -> 0 | CV29: =IF(AND($E29="M",F29=$CW$16),1,0) -> 0 | CW29: =IF(AND($E29="M",G29=$CW$16),1,0) -> 0 | CX29: =IF(AND($E29="M",H29=$CW$16),1,0) -> 0 | CY29: =IF(AND($E29="M",F29=$CZ$16),1,0) -> 0 | CZ29: =IF(AND($E29="M",G29=$CZ$16),1,0) -> 0 | DA29: =IF(AND($E29="M",H29=$CZ$16),1,0) -> 0 | DB29: =IF(AND($E29="M",F29=$DC$16),1,0) -> 0 | DC29: =IF(AND($E29="M",G29=$DC$16),1,0) -> 0 | DD29: =IF(AND($E29="M",H29=$DC$16),1,0) -> 0 | DE29: =IF(AND($E29="M",F29=$DE$16),1,0) -> 0 | DF29: =IF(AND($E29="M",G29=$DE$16),1,0) -> 0 | DG29: =IF(AND($E29="M",H29=$DE$16),1,0) -> 0
B30: =IF(ISNUMBER(A30),VLOOKUP(A30,Licenciés!A:F,2,FALSE),"") | C30: =IF(B30="","",VLOOKUP(A30,Licenciés!A:F,3,FALSE)) | D30: =IF(B30="","",VLOOKUP(A30,Licenciés!A:F,5,FALSE)) | E30: =IF(B30="","",VLOOKUP(A30,Licenciés!A:F,4,FALSE)) | L30: =VLOOKUP($A30,Licenciés!A:F,6,FALSE) -> #N/A | P30: ES MAINTENON PIERRES ATHLE. | Q30: 28030 | W30: =IF(F30<>"",VLOOKUP(F30,$U$33:$V$48,2,FALSE),0) -> 0 | X30: =IF(G30<>"",VLOOKUP(G30,$U$33:$V$48,2,FALSE),0) -> 0 | Y30: =IF(H30<>"",VLOOKUP(H30,$U$33:$V$48,2,FALSE),0) -> 0 | Z30: =W30+X30+Y30 -> 0 | AA30: =OR($Z30=0,$Z30=10,$Z30=1,$Z30=100,$Z30=11,$Z30=101,$Z30=110,$Z30=111) -> TRUE | AB30: =IF(AA30=TRUE,0,1) -> 0 | AF30: Disque | AG30: =BK61 -> 0 | AH30: =CV61 -> 0 | AI30: 1 | AM30: =IF(AND($E30="F",F30=$AM$16),1,0) -> 0 | AN30: =IF(AND($E30="F",G30=$AM$16),1,0) -> 0 | AO30: =IF(AND($E30="F",H30=$AM$16),1,0) -> 0 | AP30: =IF(AND($E30="F",F30=$AP$16),1,0) -> 0 | AQ30: =IF(AND($E30="F",G30=$AP$16),1,0) -> 0 | AR30: =IF(AND($E30="F",H30=$AP$16),1,0) -> 0 | AS30: =IF(AND($E30="F",F30=$AS$16),1,0) -> 0 | AT30: =IF(AND($E30="F",G30=$AS$16),1,0) -> 0 | AU30: =IF(AND($E30="F",H30=$AS$16),1,0) -> 0 | AV30: =IF(AND($E30="F",F30=$AV$16),1,0) -> 0 | AW30: =IF(AND($E30="F",G30=$AV$16),1,0) -> 0 | AX30: =IF(AND($E30="F",H30=$AV$16),1,0) -> 0 | AY30: =IF(AND($E30="F",F30=$AY$16),1,0) -> 0 | AZ30: =IF(AND($E30="F",G30=$AY$16),1,0) -> 0 | BA30: =IF(AND($E30="F",H30=$AY$16),1,0) -> 0 | BB30: =IF(AND($E30="F",F30=$BB$16),1,0) -> 0 | BC30: =IF(AND($E30="F",G30=$BB$16),1,0) -> 0 | BD30: =IF(AND($E30="F",H30=$BB$16),1,0) -> 0 | BE30: =IF(AND($E30="F",F30=$BE$16),1,0) -> 0 | BF30: =IF(AND($E30="F",G30=$BE$16),1,0) -> 0 | BG30: =IF(AND($E30="F",H30=$BE$16),1,0) -> 0 | BH30: =IF(AND($E30="F",F30=$BH$16),1,0) -> 0 | BI30: =IF(AND($E30="F",G30=$BH$16),1,0) -> 0 | BJ30: =IF(AND($E30="F",H30=$BH$16),1,0) -> 0 | BK30: =IF(AND($E30="F",F30=$BK$16),1,0) -> 0 | BL30: =IF(AND($E30="F",G30=$BK$16),1,0) -> 0 | BM30: =IF(AND($E30="F",H30=$BK$16),1,0) -> 0 | BN30: =IF(AND($E30="F",F30=$BN$16),1,0) -> 0 | BO30: =IF(AND($E30="F",G30=$BN$16),1,0) -> 0 | BP30: =IF(AND($E30="F",H30=$BN$16),1,0) -> 0 | BQ30: =IF(AND($E30="F",F30=$BQ$16),1,0) -> 0 | BR30: =IF(AND($E30="F",G30=$BQ$16),1,0) -> 0 | BS30: =IF(AND($E30="F",H30=$BQ$16),1,0) -> 0 | BT30: =IF(AND($E30="F",F30=$BT$16),1,0) -> 0 | BU30: =IF(AND($E30="F",G30=$BT$16),1,0) -> 0 | BV30: =IF(AND($E30="F",H30=$BT$16),1,0) -> 0 | BX30: =IF(AND($E30="M",F30=$BX$16),1,0) -> 0 | BY30: =IF(AND($E30="M",G30=$BX$16),1,0) -> 0 | BZ30: =IF(AND($E30="M",H30=$BX$16),1,0) -> 0 | CA30: =IF(AND($E30="M",F30=$CA$16),1,0) -> 0 | CB30: =IF(AND($E30="M",G30=$CA$16),1,0) -> 0 | CC30: =IF(AND($E30="M",H30=$CA$16),1,0) -> 0 | CD30: =IF(AND($E30="M",F30=$CD$16),1,0) -> 0 | CE30: =IF(AND($E30="M",G30=$CD$16),1,0) -> 0 | CF30: =IF(AND($E30="M",H30=$CD$16),1,0) -> 0 | CG30: =IF(AND($E30="M",F30=$CG$16),1,0) -> 0 | CH30: =IF(AND($E30="M",G30=$CG$16),1,0) -> 0 | CI30: =IF(AND($E30="M",H30=$CG$16),1,0) -> 0 | CJ30: =IF(AND($E30="M",F30=$CJ$16),1,0) -> 0 | CK30: =IF(AND($E30="M",G30=$CJ$16),1,0) -> 0 | CL30: =IF(AND($E30="M",H30=$CJ$16),1,0) -> 0 | CM30: =IF(AND($E30="M",F30=$CM$16),1,0) -> 0 | CN30: =IF(AND($E30="M",G30=$CM$16),1,0) -> 0 | CO30: =IF(AND($E30="M",H30=$CM$16),1,0) -> 0 | CP30: =IF(AND($E30="M",F30=$CP$16),1,0) -> 0 | CQ30: =IF(AND($E30="M",G30=$CP$16),1,0) -> 0 | CR30: =IF(AND($E30="M",H30=$CP$16),1,0) -> 0 | CS30: =IF(AND($E30="M",F30=$CT$16),1,0) -> 0 | CT30: =IF(AND($E30="M",G30=$CT$16),1,0) -> 0 | CU30: =IF(AND($E30="M",H30=$CT$16),1,0) -> 0 | CV30: =IF(AND($E30="M",F30=$CW$16),1,0) -> 0 | CW30: =IF(AND($E30="M",G30=$CW$16),1,0) -> 0 | CX30: =IF(AND($E30="M",H30=$CW$16),1,0) -> 0 | CY30: =IF(AND($E30="M",F30=$CZ$16),1,0) -> 0 | CZ30: =IF(AND($E30="M",G30=$CZ$16),1,0) -> 0 | DA30: =IF(AND($E30="M",H30=$CZ$16),1,0) -> 0 | DB30: =IF(AND($E30="M",F30=$DC$16),1,0) -> 0 | DC30: =IF(AND($E30="M",G30=$DC$16),1,0) -> 0 | DD30: =IF(AND($E30="M",H30=$DC$16),1,0) -> 0 | DE30: =IF(AND($E30="M",F30=$DE$16),1,0) -> 0 | DF30: =IF(AND($E30="M",G30=$DE$16),1,0) -> 0 | DG30: =IF(AND($E30="M",H30=$DE$16),1,0) -> 0
